Workbook
Name loai_3_name_name: 'TK DANH GIA KKT 2019'!$A$6
Name loai_4_name: Sheet3!$A$2
Name loai_4_name_name: Sheet3!$A$3

Sheet TK DANH GIA KKT 2019
E1: CỘNG HÒA XÃ HỘI CHỦ NGHĨA VIỆT NAM
E2: Độc lập - Tự do - Hạnh phúc
A5: PHIẾU TỔNG HỢP ĐÁNH GIÁ, XẾP LOẠI
A6: CHUYÊN MÔN, NGHIỆP VỤ NHÀ GIÁO CỦA KHOA
A8: TT | B8: Họ và tên nhà giáo | C8: Cấp trình độ giảng dạy | F8: Nhiệm vụ giảng dạy | I8: Tự đánh giá, xếp loại của nhà giáo | K8: Đánh giá, xếp loại của Khoa | M8: Ghi chú
C9: Sơ cấp (x) | D9: Trung cấp (x) | E9: Cao đẳng (x) | F9: Dạy lý thuyết (x) | G9: Dạy thực hành (x) | H9: Dạy tích hợp (x) | I9: Điểm quy đổi | J9: Xếp loại | K9: Điểm quy đổi | L9: Xếp loại
A10: 1 | B10: ='NGUYEN TRONG NGHIA'!C7 -> Nguyễn Trọng Nghĩa | D10: x | E10: x | F10: x | G10: x | H10: x | I10: ='NGUYEN TRONG NGHIA'!D79 -> 93.2 | J10: ='NGUYEN TRONG NGHIA'!C80 -> A | K10: ='NGUYEN TRONG NGHIA'!G79 -> 92 | L10: ='NGUYEN TRONG NGHIA'!F80 -> A
A11: 2 | B11: ='BUI ANH TUYET'!C7 -> Bùi Ánh Tuyết | D11: x | E11: x | F11: x | G11: x | H11: x | I11: ='BUI ANH TUYET'!C79 -> 87.5 | J11: ='BUI ANH TUYET'!C80 -> A | K11: ='BUI ANH TUYET'!F79 -> 82.954545 | L11: ='BUI ANH TUYET'!F80 -> A
A12: 3 | B12: ='CAO XUAN GIANG'!C7 -> Cao Xuân Giang | D12: x | E12: x | F12: x | G12: x | H12: x | I12: ='CAO XUAN GIANG'!C79 -> 83.522727 | J12: ='CAO XUAN GIANG'!D81 -> A | K12: ='CAO XUAN GIANG'!F79 -> 81.25 | L12: ='CAO XUAN GIANG'!F80 -> A
A13: 4 | B13: ='LE XUAN THUY'!C7 -> Lê Xuân Thủy | D13: x | E13: x | F13: x | G13: x | H13: x | I13: ='LE XUAN THUY'!C79 -> 89.772727 | J13: ='LE XUAN THUY'!D81 -> A | K13: ='LE XUAN THUY'!F79 -> 88.636364 | L13: ='LE XUAN THUY'!F80 -> A
A14: 5 | B14: ='LE THI THU THAO'!C7 -> Lê Thị Thu Thảo | D14: x | E14: x | F14: x | G14: x | H14: x | I14: ='LE THI THU THAO'!C79 -> 92.045455 | J14: ='LE THI THU THAO'!D81 -> A | K14: ='LE THI THU THAO'!F79 -> 88.636364 | L14: ='LE THI THU THAO'!F80 -> A
A15: 6 | B15: ='LU XUAN TRANG'!D7 -> Lữ Xuân Trang | D15: x | E15: x | F15: x | G15: x | H15: x | I15: ='LU XUAN TRANG'!C79 -> 87.5 | J15: ='LU XUAN TRANG'!D81 -> A | K15: ='LU XUAN TRANG'!G79 -> 87.5 | L15: ='LU XUAN TRANG'!F80 -> A
A16: 7 | B16: ='LUU THI THUY'!C7 -> Lưu Thị Thúy | D16: x | E16: x | F16: x | G16: x | H16: x | I16: ='LUU THI THUY'!C79 -> 93.181818 | J16: ='LUU THI THUY'!D81 -> A | K16: ='LUU THI THUY'!F79 -> 90.909091 | L16: ='LUU THI THUY'!F80 -> A
A17: 8 | B17: ='NGUYEN MY TIEN'!C7 -> Nguyễn Mỹ Tiên | D17: x | E17: x | F17: x | G17: x | H17: x | I17: ='NGUYEN MY TIEN'!C79 -> 89.772727 | J17: ='NGUYEN MY TIEN'!D81 -> A | K17: ='NGUYEN MY TIEN'!F79 -> 87.5 | L17: ='NGUYEN MY TIEN'!F80 -> A
A18: 9 | B18: ='PHAM QUYNH NHU'!C7 -> Phạm Quỳnh Như | D18: x | E18: x | F18: x | G18: x | H18: x | I18: ='PHAM QUYNH NHU'!C79 -> 94.318182 | J18: ='PHAM QUYNH NHU'!D81 -> A | K18: ='PHAM QUYNH NHU'!F79 -> 90.909091 | L18: ='PHAM QUYNH NHU'!F80 -> A
A19: 10 | B19: ='VO THI KIM THU'!C7 -> Võ Thị Kim Thư | D19: x | E19: x | F19: x | G19: x | H19: x | I19: ='VO THI KIM THU'!C79 -> 90.909091 | J19: ='VO THI KIM THU'!C80 -> A | K19: ='VO THI KIM THU'!G79 -> 88.6 | L19: ='VO THI KIM THU'!F80 -> A
A20: 11 | B20: ='TRINH HOANG HIEP'!C7 -> Trịnh Hoàng Hiệp | D20: x | E20: x | F20: x | G20: x | H20: x | I20: ='TRINH HOANG HIEP'!C79 -> 93.181818 | J20: ='TRINH HOANG HIEP'!D81 -> A | K20: ='TRINH HOANG HIEP'!G79 -> 90.9 | L20: ='TRINH HOANG HIEP'!F80 -> A
A21: 12 | B21: ='DAO ANH TUAN'!C7 -> Đào Anh Tuấn | D21: x | E21: x | F21: x | G21: x | H21: x | I21: ='DAO ANH TUAN'!D79 -> 81.8 | J21: ='DAO ANH TUAN'!C80 -> A | K21: ='DAO ANH TUAN'!G79 -> 81.8 | L21: ='DAO ANH TUAN'!F80 -> A
A22: 13 | B22: ='TRAN THI NGOC DUNG'!C7 -> Trần Thị Ngọc Dung | D22: x | E22: x | F22: x | G22: x | H22: x | I22: ='TRAN THI NGOC DUNG'!D79 -> 83 | J22: ='TRAN THI NGOC DUNG'!C80 -> A | K22: ='TRAN THI NGOC DUNG'!G79 -> 81.8 | L22: ='TRAN THI NGOC DUNG'!F80 -> A
I24: Tp. HCM, ngày 17 tháng 5 năm 2019
I25: Trưởng khoa
I26: (ký và ghi rõ họ, tên)
I30: Nguyễn Trọng Nghĩa

Sheet NGUYEN TRONG NGHIA
D2: CỘNG HÒA XÃ HỘI CHỦ NGHĨA VIỆT NAM Độc lập - Tự do - Hạnh phúc
A5: PHIẾU ĐÁNH GIÁ, XẾP LOẠI CHUYÊN MÔN, NGHIỆP VỤ CỦA NHÀ GIÁO Năm học 2018-2019
A7: Họ và tên giảng viên: | C7: Nguyễn Trọng Nghĩa
A8: Khoa, tổ bộ môn: Khoa Kinh tế
A9: Cấp trình độ giảng dạy: Trung cấp và cao đẳng
A10: Nhiệm vụ được phân công giảng dạy (Lý thuyết, thực hành, tích hợp): Lý thuyết, thực hành, tổng hợp
A12: Ghi chú: 1. Nhà giáo chỉ cho điểm vào cột: "Nhà giáo tự cho điểm" và ghi các minh chứng vào cột: Các minh chứng của Nhà giáo. Các ô tô màu Nhà giáo không nhập điểm hoặc không ghi các minh chứng vào các ô đó. 2. Các Trưởng đơn vị cho điểm Nhà giáo thuộc đơn vị quản lý vào các ô màu hồng (sau khi Hội đồng chuyên môn đơn vị tổ chức họp xem xét và chấm điểm).
A14: Các tiêu chí và tiêu chuẩn | B14: Điểm tối đa | C14: Nhà giáo tự đánh giá xếp loại | F14: Khoa đánh giá, xếp loại
C15: Điểm đánh giá đạt được | D15: Tỷ lệ % của điểm đánh giá đạt được so với điểm đánh giá tối đa của mỗi tiêu chuẩn (lấy đến 1 chữ số thập phân, không làm tròn) | E15: Các minh chứng | F15: Điểm đánh giá đạt được | G15: Tỷ lệ % của điểm đánh giá đạt được so với điểm đánh giá tối đa của mỗi tiêu chuẩn(lấy đến 1 chữ số thập phân, không làm tròn) | H15: Các minh chứng
A16: Tiêu chí 1 về Năng lực chuyên môn | B16: =SUM(B$17,B$24,B$24) -> 20 | C16: =SUM(C$17,C$24,C$24) -> 20 | D16: =ROUND($C16/$B16*100,1) -> 100 | F16: =SUM(F$17,F$24,F$24) -> 19 | G16: =ROUND($F16/$B16*100,1) -> 95
A17: - Tiêu chuẩn 1: Trình độ chuyên môn | B17: =SUM(B$18:B$23) -> 12 | C17: =SUM(C$18:C$23) -> 12 | D17: =ROUND($C17/$B17*100,1) -> 100 | F17: =SUM(F$18:F$23) -> 11 | G17: =ROUND($F17/$B17*100,1) -> 91.7
A18: + Có bằng tốt nghiệp đại học chuyên ngành hoặc đại học sư phạm chuyên ngành trở lên, phù hợp với ngành, nghề giảng dạy và có một trong các chứng chỉ kỹ năng nghề phù hợp với ngành, nghề giảng dạy để dạy thực hành trình độ cao đẳng sau: Chứng chỉ kỹ năng nghề quốc gia Bậc 3 hoặc chứng nhận bậc thợ 5/7, 4/6 trở lên hoặc bằng tốt nghiệp cao đẳng nghề hoặc chứng chỉ kỹ năng thực hành nghề trình độ cao đẳng nghề hoặc tương đương; | B18: 2 | C18: 2 | D18: =ROUND($C18/$B18*100,1) -> 100 | F18: 2 | G18: =ROUND($F18/$B18*100,1) -> 100
A19: + Nắm vững kiến thức ngành, nghề được phân công giảng dạy; | B19: 2 | C19: 2 | D19: =ROUND($C19/$B19*100,1) -> 100 | F19: 2 | G19: =ROUND($F19/$B19*100,1) -> 100
A20: + Có kiến thức về ngành, nghề liên quan; | B20: 2 | C20: 2 | D20: =ROUND($C20/$B20*100,1) -> 100 | F20: 2 | G20: =ROUND($F20/$B20*100,1) -> 100
A21: + Hiểu biết về thực tiễn nghề nghiệp, tiến bộ khoa học kỹ thuật, công nghệ mới và kỹ thuật an toàn, vệ sinh lao động của ngành, nghề được phân công giảng dạy | B21: 2 | C21: 2 | D21: =ROUND($C21/$B21*100,1) -> 100 | F21: 2 | G21: =ROUND($F21/$B21*100,1) -> 100
A22: + Thực hiện thành thạo các kỹ năng của ngành, nghề được phân công giảng dạy | B22: 2 | C22: 2 | D22: =ROUND($C22/$B22*100,1) -> 100 | F22: 2 | G22: =ROUND($F22/$B22*100,1) -> 100
A23: + Tổ chức thành thạo các hoạt động lao động sản xuất, dịch vụ ngành, nghề được phân công giảng dạy | B23: 2 | C23: 2 | D23: =ROUND($C23/$B23*100,1) -> 100 | F23: 1 | G23: =ROUND($F23/$B23*100,1) -> 50
A24: - Tiêu chuẩn 2: Trình độ ngoại ngữ | B24: =SUM(B$25:B$26) -> 4 | C24: =SUM(C$25:C$26) -> 4 | D24: =ROUND($C24/$B24*100,1) -> 100 | F24: =SUM(F$25:F$26) -> 4 | G24: =ROUND($F24/$B24*100,1) -> 100
A25: + Đối vối giáo viên, giảng viên không chuyên ngành ngoại ngữ: Có trình độ ngoại ngữ Bậc 2 (A2) theo quy định tại Thông tư số 01/2014/TT-BGDĐT ngày 24/01/2014 của Bộ Giáo dục và Đào tạo ban hành Khung năng lực ngoại ngữ 6 bậc dùng cho Việt Nam hoặc tương đương trở lên. + Đối với giáo viên, giảng viên chuyên ngành ngoại ngữ (giáo viên, giảng viên tổ Anh văn thuộc Khoa KHCB): Có trình độ ngoại ngữ Bậc 5 (C1) theo quy định tại Thông tư số 01/2014/TT-BGDĐT ngày 24/01/2014 của Bộ Giáo dục và Đào tạo ban hành Khung năng lực ngoại ngữ 6 bậc dùng cho Việt Nam hoặc tương đương trở lên. Và trình độ ngoại ngữ thứ hai phải đạt Bậc 2 (A2) theo quy định tại Thông tư số 01/2014/TT-BGDĐT. | B25: 2 | C25: 2 | D25: =ROUND($C25/$B25*100,1) -> 100 | F25: 2 | G25: =ROUND($F25/$B25*100,1) -> 100
A26: + Đọc và hiểu tài liệu chuyên ngành phục vụ công tác giảng dạy; mô tả được một số công việc cơ bản của ngành, nghề được phân công giảng dạy. | B26: 2 | C26: 2 | D26: =ROUND($C26/$B26*100,1) -> 100 | F26: 2 | G26: =ROUND($F26/$B26*100,1) -> 100
A27: - Tiêu chuẩn 3: Trình độ tin học | B27: =SUM(B$28:B$29) -> 4 | C27: =SUM(C$28:C$29) -> 4 | D27: =ROUND($C27/$B27*100,1) -> 100 | F27: =SUM(F$28:F$29) -> 4 | G27: =ROUND($F27/$B27*100,1) -> 100
A28: + Có trình độ tin học đạt Chuẩn kỹ năng sử dụng công nghệ thông tin cơ bản theo quy định tại Thông tư số 03/2014/TT-BTTTT ngày 11/3/2014 của Bộ Thông tin và Truyền thông quy định Chuẩn kỹ năng sử dụng công nghệ thông tin hoặc tương đương trở lên. | B28: 2 | C28: 2 | D28: =ROUND($C28/$B28*100,1) -> 100 | F28: 2 | G28: =ROUND($F28/$B28*100,1) -> 100
A29: + Sử dụng thành thạo phần mềm dạy học chuyên ngành để thiết kế bài giảng, tài liệu giảng dạy. | B29: 2 | C29: 2 | D29: =ROUND($C29/$B29*100,1) -> 100 | F29: 2 | G29: =ROUND($F29/$B29*100,1) -> 100
A30: Tiêu chí 2 về Năng lực sư phạm | B30: =SUM(B$31,B$34,B$41,B$46,B$49,B$52,B$55,B$60,B$63) -> 52 | C30: =SUM(C$31,C$34,C$41,C$46,C$49,C$52,C$55,C$60,C$63) -> 50 | D30: =ROUND($C30/$B30*100,1) -> 96.2 | F30: =SUM(F$31,F$34,F$41,F$46,F$49,F$52,F$55,F$60,F$63) -> 50 | G30: =ROUND($F30/$B30*100,1) -> 96.2
A31: - Tiêu chuẩn 1 về Trình độ nghiệp vụ sư phạm và thời gian tham gia giảng dạy | B31: =SUM(B$32:B$33) -> 4 | C31: =SUM(C$32:C$33) -> 4 | D31: =ROUND($C31/$B31*100,1) -> 100 | F31: =SUM(F$32:F$33) -> 4 | G31: =ROUND($F31/$B31*100,1) -> 100
A32: + Có chứng chỉ sư phạm dạy nghề dạy trình độ trung cấp nghề, cao đẳng nghề hoặc chứng chỉ bồi dưỡng nghiệp vụ sư phạm cho giảng viên đại học, cao đẳng hoặc bằng tốt nghiệp đại học chuyên ngành sư phạm hoặc chứng chỉ nghiệp vụ sư phạm dạy trình độ cao đẳng hoặc tương đương. | B32: 2 | C32: 2 | D32: =ROUND($C32/$B32*100,1) -> 100 | F32: 2 | G32: =ROUND($F32/$B32*100,1) -> 100
A33: + Có thời gian tham gia giảng dạy ít nhất 12 tháng. | B33: 2 | C33: 2 | D33: =ROUND($C33/$B33*100,1) -> 100 | F33: 2 | G33: =ROUND($F33/$B33*100,1) -> 100
A34: - Tiêu chuẩn 2: Chuẩn bị hoạt động giảng dạy | B34: =SUM(B$35:B$40) -> 12 | C34: =SUM(C$35:C$40) -> 10 | D34: =ROUND($C34/$B34*100,1) -> 83.3 | F34: =SUM(F$35:F$40) -> 10 | G34: =ROUND($F34/$B34*100,1) -> 83.3
A35: + Lập được kế hoạch giảng dạy môn học, mô-đun được phân công trên cơ sở chương trình, kế hoạch đào tạo của cả khóa học. | B35: 2 | C35: 2 | D35: =ROUND($C35/$B35*100,1) -> 100 | F35: 2 | G35: =ROUND($F35/$B35*100,1) -> 100
A36: + Soạn giáo án theo quy định, thể hiện được các hoạt động dạy và học. | B36: 2 | C36: 2 | D36: =ROUND($C36/$B36*100,1) -> 100 | F36: 2 | G36: =ROUND($F36/$B36*100,1) -> 100
A37: + Lựa chọn phương pháp dạy học phù hợp cho các bài học của chương trình môn học, mô-đun được phân công giảng dạy. | B37: 2 | C37: 2 | D37: =ROUND($C37/$B37*100,1) -> 100 | F37: 2 | G37: =ROUND($F37/$B37*100,1) -> 100
A38: + Chuẩn bị đầy đủ các phương tiện dạy học, thiết bị, nguyên, nhiên, vật liệu thực hành cần thiết | B38: 2 | C38: 2 | D38: =ROUND($C38/$B38*100,1) -> 100 | F38: 2 | G38: =ROUND($F38/$B38*100,1) -> 100
A39: + Tự làm các thiết bị dạy học đơn giản để phục vụ giảng dạy | B39: 2 | C39: 0 | D39: =ROUND($C39/$B39*100,1) -> 0 | F39: 0 | G39: =ROUND($F39/$B39*100,1) -> 0
A40: + Chủ trì hoặc tham gia thiết kế và bố trí trang thiết bị dạy học của phòng học chuyên môn phù hợp với chương trình của ngành, nghề được phân công giảng dạy. | B40: 2 | C40: 2 | D40: =ROUND($C40/$B40*100,1) -> 100 | F40: 2 | G40: =ROUND($F40/$B40*100,1) -> 100
A41: - Tiêu chuẩn 3: Thực hiện hoạt động giảng dạy | B41: =SUM(B$42:B$45) -> 8 | C41: =SUM(C$42:C$45) -> 8 | D41: =ROUND($C41/$B41*100,1) -> 100 | F41: =SUM(F$42:F$45) -> 8 | G41: =ROUND($F41/$B41*100,1) -> 100
A42: + Tổ chức dạy học phù hợp với ngành, nghề đào tạo và với từng đối tượng người học; thực hiện đầy đủ kế hoạch giảng dạy, đúng chương trình, nội dung. | B42: 2 | C42: 2 | D42: =ROUND($C42/$B42*100,1) -> 100 | F42: 2 | G42: =ROUND($F42/$B42*100,1) -> 100
A43: + Thực hiện các giờ dạy lý thuyết, thực hành, tích hợp theo quy định | B43: 2 | C43: 2 | D43: =ROUND($C43/$B43*100,1) -> 100 | F43: 2 | G43: =ROUND($F43/$B43*100,1) -> 100
A44: + Vận dụng, kết hợp các phương pháp dạy học để phát huy tính tích cực, sáng tạo, phát triển năng lực tự học của người học | B44: 2 | C44: 2 | D44: =ROUND($C44/$B44*100,1) -> 100 | F44: 2 | G44: =ROUND($F44/$B44*100,1) -> 100
A45: + Sử dụng thành thạo các phương tiện, thiết bị dạy học để nâng cao hiệu quả giảng dạy, đảm bảo chất lượng giáo dục nghề nghiệp | B45: 2 | C45: 2 | D45: =ROUND($C45/$B45*100,1) -> 100 | F45: 2 | G45: =ROUND($F45/$B45*100,1) -> 100
A46: - Tiêu chuẩn 4: Kiểm tra, đánh giá kết quả học tập của người học | B46: =SUM(B$47:B$48) -> 4 | C46: =SUM(C$47:C$48) -> 4 | D46: =ROUND($C46/$B46*100,1) -> 100 | F46: =SUM(F$47:F$48) -> 4 | G46: =ROUND($F46/$B46*100,1) -> 100
A47: + Lựa chọn và thiết kế các công cụ kiểm tra, đánh giá kết quả học tập của người học phù hợp với môn học, mô-đun được phân công giảng dạy. | B47: 2 | C47: 2 | D47: =ROUND($C47/$B47*100,1) -> 100 | F47: 2 | G47: =ROUND($F47/$B47*100,1) -> 100
A48: + Thực hiện việc kiểm tra, đánh giá toàn diện, chính xác, mang tính giáo dục và đúng quy định; sử dụng kết quả kiểm tra, đánh giá để điều chỉnh hoạt động dạy và học | B48: 2 | C48: 2 | D48: =ROUND($C48/$B48*100,1) -> 100 | F48: 2 | G48: =ROUND($F48/$B48*100,1) -> 100
A49: - Tiêu chuẩn 5: Quản lý hồ sơ dạy học | B49: =SUM(B$50:B$51) -> 4 | C49: =SUM(C$50:C$51) -> 4 | D49: =ROUND($C49/$B49*100,1) -> 100 | F49: =SUM(F$50:F$51) -> 4 | G49: =ROUND($F49/$B49*100,1) -> 100
A50: + Thực hiện đầy đủ các quy định về sử dụng biểu mẫu, sổ sách, hồ sơ dạy học. | B50: 2 | C50: 2 | D50: =ROUND($C50/$B50*100,1) -> 100 | F50: 2 | G50: =ROUND($F50/$B50*100,1) -> 100
A51: + Bảo quản, lưu trữ, sử dụng hồ sơ dạy học theo quy định | B51: 2 | C51: 2 | D51: =ROUND($C51/$B51*100,1) -> 100 | F51: 2 | G51: =ROUND($F51/$B51*100,1) -> 100
A52: - Tiêu chuẩn 6: Xây dựng chương trình, biên soạn giáo trình, tài liệu giảng dạy | B52: =SUM(B$53:B$54) -> 4 | C52: =SUM(C$53:C$54) -> 4 | D52: =ROUND($C52/$B52*100,1) -> 100 | F52: =SUM(F$53:F$54) -> 4 | G52: =ROUND($F52/$B52*100,1) -> 100
A53: + Nắm được căn cứ, nguyên tắc, yêu cầu và quy trình xây dựng chương trình đào tạo trình độ cao đẳng. | B53: 2 | C53: 2 | D53: =ROUND($C53/$B53*100,1) -> 100 | F53: 2 | G53: =ROUND($F53/$B53*100,1) -> 100
A54: + Chủ trì hoặc tham gia biên soạn, chỉnh lý chương trình, giáo trình, tài liệu đào tạo trình độ cao đẳng; chương trình bồi dưỡng nghề nghiệp. | B54: 2 | C54: 2 | D54: =ROUND($C54/$B54*100,1) -> 100 | F54: 2 | G54: =ROUND($F54/$B54*100,1) -> 100
A55: - Tiêu chuẩn 7 về Xây dựng kế hoạch, thực hiện các hoạt động giáo dục | B55: =SUM(B$56:B$59) -> 8 | C55: =SUM(C$56:C$59) -> 8 | D55: =ROUND($C55/$B55*100,1) -> 100 | F55: =SUM(F$56:F$59) -> 8 | G55: =ROUND($F55/$B55*100,1) -> 100
A56: + Xây dựng được kế hoạch giáo dục người học thông qua giảng dạy và qua các hoạt động khác | B56: 2 | C56: 2 | D56: =ROUND($C56/$B56*100,1) -> 100 | F56: 2 | G56: =ROUND($F56/$B56*100,1) -> 100
A57: + Thực hiện việc giáo dục đạo đức nghề nghiệp, thái độ nghề nghiệp thông qua việc giảng dạy môn học, mô-đun theo kế hoạch đã xây dựng. | B57: 2 | C57: 2 | D57: =ROUND($C57/$B57*100,1) -> 100 | F57: 2 | G57: =ROUND($F57/$B57*100,1) -> 100
A58: + Vận dụng các hiểu biết về tâm lý, giáo dục vào thực hiện hoạt động giáo dục người học | B58: 2 | C58: 2 | D58: =ROUND($C58/$B58*100,1) -> 100 | F58: 2 | G58: =ROUND($F58/$B58*100,1) -> 100
A59: + Đánh giá kết quả các mặt rèn luyện đạo đức của người học theo quy định một cách chính xác, công bằng và có tác dụng giáo dục | B59: 2 | C59: 2 | D59: =ROUND($C59/$B59*100,1) -> 100 | F59: 2 | G59: =ROUND($F59/$B59*100,1) -> 100
A60: - Tiêu chuẩn 8: Quản lý người học, xây dựng môi trường giáo dục, học tập | B60: =SUM(B$61:B$62) -> 4 | C60: =SUM(C$61:C$62) -> 4 | D60: =ROUND($C60/$B60*100,1) -> 100 | F60: =SUM(F$61:F$62) -> 4 | G60: =ROUND($F60/$B60*100,1) -> 100
A61: + Quản lý được các thông tin liên quan đến người học và sử dụng hiệu quả các thông tin vào giáo dục, dạy học, quản lý người học | B61: 2 | C61: 2 | D61: =ROUND($C61/$B61*100,1) -> 100 | F61: 2 | G61: =ROUND($F61/$B61*100,1) -> 100
A62: + Xây dựng môi trường giáo dục, học tập lành mạnh, thuận lợi, dân chủ, hợp tác | B62: 2 | C62: 2 | D62: =ROUND($C62/$B62*100,1) -> 100 | F62: 2 | G62: =ROUND($F62/$B62*100,1) -> 100
A63: - Tiêu chuẩn 9: Hoạt động xã hội | B63: =SUM(B$64:B$65) -> 4 | C63: =SUM(C$64:C$65) -> 4 | D63: =ROUND($C63/$B63*100,1) -> 100 | F63: =SUM(F$64:F$65) -> 4 | G63: =ROUND($F63/$B63*100,1) -> 100
A64: + Phối hợp với gia đình người học và cộng đồng động viên, hỗ trợ, giám sát việc học tập, rèn luyện của người học; góp phần huy động các nguồn lực xã hội xây dựng, phát triển cơ sở hoạt động giáo dục nghề nghiệp. | B64: 2 | C64: 2 | D64: =ROUND($C64/$B64*100,1) -> 100 | F64: 2 | G64: =ROUND($F64/$B64*100,1) -> 100
A65: + Tham gia các hoạt động xã hội trong và ngoài cơ sở hoạt động giáo dục nghề nghiệp, xây dựng quan hệ giữa cơ sở hoạt động giáo dục nghề nghiệp với doanh nghiệp nhằm phát triển cơ sở hoạt động giáo dục nghề nghiệp, cộng đồng; xây dựng phong trào học nghề lập nghiệp trong xã hội | B65: 2 | C65: 2 | D65: =ROUND($C65/$B65*100,1) -> 100 | F65: 2 | G65: =ROUND($F65/$B65*100,1) -> 100
A66: Tiêu chí 3 về Năng lực phát triển nghề nghiệp, nghiên cứu khoa học | B66: =SUM(B$67,B$72,B$75) -> 16 | C66: =SUM(C$67,C$72,C$75) -> 12 | D66: =ROUND($C66/$B66*100,1) -> 75 | F66: =SUM(F$67,F$72,F$75) -> 12 | G66: =ROUND($F66/$B66*100,1) -> 75
A67: - Tiêu chuẩn 1: Học tập, bồi dưỡng nâng cao | B67: =SUM(B$68:B$71) -> 8 | C67: =SUM(C$68:C$71) -> 6 | D67: =ROUND($C67/$B67*100,1) -> 75 | F67: =SUM(F$68:F$71) -> 6 | G67: =ROUND($F67/$B67*100,1) -> 75
A68: + Thường xuyên dự giờ, trao đổi kinh nghiệm giảng dạy, giáo dục với đồng nghiệp; tham gia bồi dưỡng đồng nghiệp theo yêu cầu phát triển của phòng, khoa, tổ bộ môn | B68: 2 | C68: 2 | D68: =ROUND($C68/$B68*100,1) -> 100 | F68: 2 | G68: =ROUND($F68/$B68*100,1) -> 100
A69: + Tham gia hội giảng các cấp | B69: 2 | C69: 0 | D69: =ROUND($C69/$B69*100,1) -> 0 | F69: 0 | G69: =ROUND($F69/$B69*100,1) -> 0
A70: + Thường xuyên tự học tập, bồi dưỡng, rèn luyện nâng cao trình độ chuyên môn, nghiệp vụ, phẩm chất đạo đức nghề nghiệp | B70: 2 | C70: 2 | D70: =ROUND($C70/$B70*100,1) -> 100 | F70: 2 | G70: =ROUND($F70/$B70*100,1) -> 100
A71: + Tham gia các khóa đào tạo, bồi dưỡng nâng cao trình độ, cập nhật kiến thức, kỹ năng nghề, công nghệ, phương pháp giảng dạy đáp ứng yêu cầu của giáo dục nghề nghiệp. | B71: 2 | C71: 2 | D71: =ROUND($C71/$B71*100,1) -> 100 | F71: 2 | G71: =ROUND($F71/$B71*100,1) -> 100
A72: - Tiêu chuẩn 2: Phát triển năng lực nghề nghiệp cho người học | B72: =SUM(B73:B74) -> 4 | C72: =SUM(C73:C74) -> 2 | D72: =ROUND($C72/$B72*100,1) -> 50 | F72: =SUM(F73:F74) -> 2 | G72: =ROUND($F72/$B72*100,1) -> 50
A73: + Hướng dẫn thực tập kết hợp với thực tiễn nghề nghiệp | B73: 2 | C73: 2 | D73: =ROUND($C73/$B73*100,1) -> 100 | F73: 2 | G73: =ROUND($F73/$B73*100,1) -> 100
A74: + Tham gia bồi dưỡng nâng cao, luyện tay nghề cho học sinh, sinh viên giỏi các cấp | B74: 2 | C74: 0 | D74: =ROUND($C74/$B74*100,1) -> 0 | F74: 0 | G74: =ROUND($F74/$B74*100,1) -> 0
A75: - Tiêu chuẩn 3: Nghiên cứu khoa học | B75: =SUM(B76:B77) -> 4 | C75: =SUM(C76:C77) -> 4 | D75: =ROUND($C75/$B75*100,1) -> 100 | F75: =SUM(F76:F77) -> 4 | G75: =ROUND($F75/$B75*100,1) -> 100
A76: + Có kiến thức, kỹ năng cơ bản về nghiên cứu khoa học và công nghệ | B76: 2 | C76: 2 | D76: =ROUND($C76/$B76*100,1) -> 100 | F76: 2 | G76: =ROUND($F76/$B76*100,1) -> 100
A77: + Chủ trì hoặc tham gia đề tài nghiên cứu khoa học từ cấp cơ sở trở lên. | B77: 2 | C77: 2 | D77: =ROUND($C77/$B77*100,1) -> 100 | F77: 2 | G77: =ROUND($F77/$B77*100,1) -> 100
A78: Tổng số điểm đánh giá | B78: =SUM(B$16,B$30,B$66) -> 88 | C78: =SUM(C$16,C$30,C$66) -> 82 | D78: =ROUND($C78/$B78*100,1) -> 93.2 | F78: =SUM(F$16,F$30,F$66) -> 81 | G78: =ROUND($F78/$B78*100,1) -> 92
A79: Điểm quy đổi | B79: 100 | C79: =(C$78*$B$79/$B$78) -> 93.181818 | D79: =ROUND($C79/$B79*100,1) -> 93.2 | F79: =(F$78*$B$79/$B$78) -> 92.045455 | G79: =ROUND($F79/$B79*100,1) -> 92
A80: Xếp loại | C80: =IF(AND(D17<50),"Không đạt",IF(AND(D24<50),"Không đạt",IF(AND(D27<50),"Không đạt",IF(AND(D31<50),"Không đạt",IF(AND(D34<50),"Không đạt",IF(AND(D41<50),"Không đạt",IF(AND(D46<50),"Không đạt",IF(AND(D49<50),"Không đạt",IF(AND(D52<50),"Không đạt",IF(AND(D55<50),"Không đạt",IF(AND(D60<50),"Không đạt",IF(AND(D63<50),"Không đạt",IF(AND(D67<50),"Không đạt",IF(AND(D72<50),"Không đạt",IF(AND(D75<50),"Không đạt",IF(AND(C79>=80),"A",IF(AND(C79>=65,C79<79),"B",IF(AND(C79>=50,C78<64),"C","Không đạt")))))))))))))))))) -> A | F80: =IF(AND(G17<50),"Không đạt",IF(AND(G24<50),"Không đạt",IF(AND(G27<50),"Không đạt",IF(AND(G31<50),"Không đạt",IF(AND(G34<50),"Không đạt",IF(AND(G41<50),"Không đạt",IF(AND(G46<50),"Không đạt",IF(AND(G49<50),"Không đạt",IF(AND(G52<50),"Không đạt",IF(AND(G55<50),"Không đạt",IF(AND(G60<50),"Không đạt",IF(AND(G63<50),"Không đạt",IF(AND(G67<50),"Không đạt",IF(AND(G72<50),"Không đạt",IF(AND(G75<50),"Không đạt",IF(AND(F79>=80),"A",IF(AND(F79>=65,F79<79),"B",IF(AND(F79>=50,F78<64),"C","Không đạt")))))))))))))))))) -> A
D81: =C80 -> A
A82: Tp. HCM, ngày 19 tháng 4 năm 2019 | F82: Tp. HCM, ngày 23 tháng 4 năm 2019
A83: Nhà giáo tự đánh giá | F83: Trưởng khoa
A84: (ký và ghi rõ họ, tên) | F84: (ký và ghi rõ họ, tên)
A88: Nguyễn Trọng Nghĩa | F88: Nguyễn Trọng Nghĩa

Sheet TRAN THI NGOC DUNG
D2: CỘNG HÒA XÃ HỘI CHỦ NGHĨA VIỆT NAM Độc lập - Tự do - Hạnh phúc
A5: PHIẾU ĐÁNH GIÁ, XẾP LOẠI CHUYÊN MÔN, NGHIỆP VỤ CỦA NHÀ GIÁO Năm học 2018-2019
A7: Họ và tên giảng viên: | C7: Trần Thị Ngọc Dung
A8: Khoa, tổ bộ môn: | C8: Kinh tế
A9: Cấp trình độ giảng dạy: | C9: ThS Kinh tế
A10: Nhiệm vụ được phân công giảng dạy (Lý thuyết, thực hành, tích hợp): Lý thuyết
A12: Ghi chú: 1. Nhà giáo chỉ cho điểm vào cột: "Nhà giáo tự cho điểm" và ghi các minh chứng vào cột: Các minh chứng của Nhà giáo. Các ô tô màu Nhà giáo không nhập điểm hoặc không ghi các minh chứng vào các ô đó. 2. Các Trưởng đơn vị cho điểm Nhà giáo thuộc đơn vị quản lý vào các ô màu hồng (sau khi Hội đồng chuyên môn đơn vị tổ chức họp xem xét và chấm điểm).
A14: Các tiêu chí và tiêu chuẩn | B14: Điểm tối đa | C14: Nhà giáo tự đánh giá xếp loại | F14: Khoa đánh giá, xếp loại
C15: Điểm đánh giá đạt được | D15: Tỷ lệ % của điểm đánh giá đạt được so với điểm đánh giá tối đa của mỗi tiêu chuẩn (lấy đến 1 chữ số thập phân, không làm tròn) | E15: Các minh chứng | F15: Điểm đánh giá đạt được | G15: Tỷ lệ % của điểm đánh giá đạt được so với điểm đánh giá tối đa của mỗi tiêu chuẩn(lấy đến 1 chữ số thập phân, không làm tròn) | H15: Các minh chứng
A16: Tiêu chí 1 về Năng lực chuyên môn | B16: =SUM(B$17,B$24,B$24) -> 20 | C16: =SUM(C$17,C$24,C$24) -> 18 | D16: =ROUND($C16/$B16*100,1) -> 90 | F16: =SUM(F$17,F$24,F$24) -> 18 | G16: =ROUND($F16/$B16*100,1) -> 90
A17: - Tiêu chuẩn 1: Trình độ chuyên môn | B17: =SUM(B$18:B$23) -> 12 | C17: =SUM(C$18:C$23) -> 12 | D17: =ROUND($C17/$B17*100,1) -> 100 | F17: =SUM(F$18:F$23) -> 12 | G17: =ROUND($F17/$B17*100,1) -> 100
A18: + Có bằng tốt nghiệp đại học chuyên ngành hoặc đại học sư phạm chuyên ngành trở lên, phù hợp với ngành, nghề giảng dạy và có một trong các chứng chỉ kỹ năng nghề phù hợp với ngành, nghề giảng dạy để dạy thực hành trình độ cao đẳng sau: Chứng chỉ kỹ năng nghề quốc gia Bậc 3 hoặc chứng nhận bậc thợ 5/7, 4/6 trở lên hoặc bằng tốt nghiệp cao đẳng nghề hoặc chứng chỉ kỹ năng thực hành nghề trình độ cao đẳng nghề hoặc tương đương; | B18: 2 | C18: 2 | D18: =ROUND($C18/$B18*100,1) -> 100 | E18: Bằng tốt nghiệp đại học , sau đại học. | F18: 2 | G18: =ROUND($F18/$B18*100,1) -> 100
A19: + Nắm vững kiến thức ngành, nghề được phân công giảng dạy; | B19: 2 | C19: 2 | D19: =ROUND($C19/$B19*100,1) -> 100 | E19: Bằng tốt nghiệp đại học , sau đại học và thường xuyên cập nhật văn bản, tài liệu, kiến thức liên quan | F19: 2 | G19: =ROUND($F19/$B19*100,1) -> 100
A20: + Có kiến thức về ngành, nghề liên quan; | B20: 2 | C20: 2 | D20: =ROUND($C20/$B20*100,1) -> 100 | E20: Bằng tốt nghiệp đại học , sau đại học và thường xuyên cập nhật văn bản, tài liệu, kiến thức liên quan | F20: 2 | G20: =ROUND($F20/$B20*100,1) -> 100
A21: + Hiểu biết về thực tiễn nghề nghiệp, tiến bộ khoa học kỹ thuật, công nghệ mới và kỹ thuật an toàn, vệ sinh lao động của ngành, nghề được phân công giảng dạy | B21: 2 | C21: 2 | D21: =ROUND($C21/$B21*100,1) -> 100 | E21: Bằng tốt nghiệp đại học , sau đại học và thường xuyên cập nhật văn bản, tài liệu, kiến thức liên quan | F21: 2 | G21: =ROUND($F21/$B21*100,1) -> 100
A22: + Thực hiện thành thạo các kỹ năng của ngành, nghề được phân công giảng dạy | B22: 2 | C22: 2 | D22: =ROUND($C22/$B22*100,1) -> 100 | E22: Bằng tốt nghiệp đại học , sau đại học và thường xuyên cập nhật văn bản, tài liệu, kiến thức liên quan | F22: 2 | G22: =ROUND($F22/$B22*100,1) -> 100
A23: + Tổ chức thành thạo các hoạt động lao động sản xuất, dịch vụ ngành, nghề được phân công giảng dạy | B23: 2 | C23: 2 | D23: =ROUND($C23/$B23*100,1) -> 100 | E23: Bằng tốt nghiệp đại học , sau đại học và thường xuyên cập nhật văn bản, tài liệu, kiến thức liên quan | F23: 2 | G23: =ROUND($F23/$B23*100,1) -> 100
A24: - Tiêu chuẩn 2: Trình độ ngoại ngữ | B24: =SUM(B$25:B$26) -> 4 | C24: =SUM(C$25:C$26) -> 3 | D24: =ROUND($C24/$B24*100,1) -> 75 | F24: =SUM(F$25:F$26) -> 3 | G24: =ROUND($F24/$B24*100,1) -> 75
A25: + Đối vối giáo viên, giảng viên không chuyên ngành ngoại ngữ: Có trình độ ngoại ngữ Bậc 2 (A2) theo quy định tại Thông tư số 01/2014/TT-BGDĐT ngày 24/01/2014 của Bộ Giáo dục và Đào tạo ban hành Khung năng lực ngoại ngữ 6 bậc dùng cho Việt Nam hoặc tương đương trở lên. + Đối với giáo viên, giảng viên chuyên ngành ngoại ngữ (giáo viên, giảng viên tổ Anh văn thuộc Khoa KHCB): Có trình độ ngoại ngữ Bậc 5 (C1) theo quy định tại Thông tư số 01/2014/TT-BGDĐT ngày 24/01/2014 của Bộ Giáo dục và Đào tạo ban hành Khung năng lực ngoại ngữ 6 bậc dùng cho Việt Nam hoặc tương đương trở lên. Và trình độ ngoại ngữ thứ hai phải đạt Bậc 2 (A2) theo quy định tại Thông tư số 01/2014/TT-BGDĐT. | B25: 2 | C25: 2 | D25: =ROUND($C25/$B25*100,1) -> 100 | E25: Chứng chỉ B1 ngoại ngữ | F25: 2 | G25: =ROUND($F25/$B25*100,1) -> 100
A26: + Đọc và hiểu tài liệu chuyên ngành phục vụ công tác giảng dạy; mô tả được một số công việc cơ bản của ngành, nghề được phân công giảng dạy. | B26: 2 | C26: 1 | D26: =ROUND($C26/$B26*100,1) -> 50 | E26: Chứng chỉ B1 ngoại ngữ | F26: 1 | G26: =ROUND($F26/$B26*100,1) -> 50
A27: - Tiêu chuẩn 3: Trình độ tin học | B27: =SUM(B$28:B$29) -> 4 | C27: =SUM(C$28:C$29) -> 4 | D27: =ROUND($C27/$B27*100,1) -> 100 | F27: =SUM(F$28:F$29) -> 4 | G27: =ROUND($F27/$B27*100,1) -> 100
A28: + Có trình độ tin học đạt Chuẩn kỹ năng sử dụng công nghệ thông tin cơ bản theo quy định tại Thông tư số 03/2014/TT-BTTTT ngày 11/3/2014 của Bộ Thông tin và Truyền thông quy định Chuẩn kỹ năng sử dụng công nghệ thông tin hoặc tương đương trở lên. | B28: 2 | C28: 2 | D28: =ROUND($C28/$B28*100,1) -> 100 | E28: Chứng chỉ IC3 tin học | F28: 2 | G28: =ROUND($F28/$B28*100,1) -> 100
A29: + Sử dụng thành thạo phần mềm dạy học chuyên ngành để thiết kế bài giảng, tài liệu giảng dạy. | B29: 2 | C29: 2 | D29: =ROUND($C29/$B29*100,1) -> 100 | E29: Chứng chỉ IC3 tin học | F29: 2 | G29: =ROUND($F29/$B29*100,1) -> 100
A30: Tiêu chí 2 về Năng lực sư phạm | B30: =SUM(B$31,B$34,B$41,B$46,B$49,B$52,B$55,B$60,B$63) -> 52 | C30: =SUM(C$31,C$34,C$41,C$46,C$49,C$52,C$55,C$60,C$63) -> 44 | D30: =ROUND($C30/$B30*100,1) -> 84.6 | F30: =SUM(F$31,F$34,F$41,F$46,F$49,F$52,F$55,F$60,F$63) -> 43 | G30: =ROUND($F30/$B30*100,1) -> 82.7
A31: - Tiêu chuẩn 1 về Trình độ nghiệp vụ sư phạm và thời gian tham gia giảng dạy | B31: =SUM(B$32:B$33) -> 4 | C31: =SUM(C$32:C$33) -> 4 | D31: =ROUND($C31/$B31*100,1) -> 100 | F31: =SUM(F$32:F$33) -> 4 | G31: =ROUND($F31/$B31*100,1) -> 100
A32: + Có chứng chỉ sư phạm dạy nghề dạy trình độ trung cấp nghề, cao đẳng nghề hoặc chứng chỉ bồi dưỡng nghiệp vụ sư phạm cho giảng viên đại học, cao đẳng hoặc bằng tốt nghiệp đại học chuyên ngành sư phạm hoặc chứng chỉ nghiệp vụ sư phạm dạy trình độ cao đẳng hoặc tương đương. | B32: 2 | C32: 2 | D32: =ROUND($C32/$B32*100,1) -> 100 | E32: Chứng chỉ bồi dưỡng nghiệp vụ sư phạm cho giảng viên đại học, cao đẳng | F32: 2 | G32: =ROUND($F32/$B32*100,1) -> 100
A33: + Có thời gian tham gia giảng dạy ít nhất 12 tháng. | B33: 2 | C33: 2 | D33: =ROUND($C33/$B33*100,1) -> 100 | E33: Vào ngành năm 2017 | F33: 2 | G33: =ROUND($F33/$B33*100,1) -> 100
A34: - Tiêu chuẩn 2: Chuẩn bị hoạt động giảng dạy | B34: =SUM(B$35:B$40) -> 12 | C34: =SUM(C$35:C$40) -> 8 | D34: =ROUND($C34/$B34*100,1) -> 66.7 | F34: =SUM(F$35:F$40) -> 8 | G34: =ROUND($F34/$B34*100,1) -> 66.7
A35: + Lập được kế hoạch giảng dạy môn học, mô-đun được phân công trên cơ sở chương trình, kế hoạch đào tạo của cả khóa học. | B35: 2 | C35: 2 | D35: =ROUND($C35/$B35*100,1) -> 100 | E35: Hồ sơ chuyên môn | F35: 2 | G35: =ROUND($F35/$B35*100,1) -> 100
A36: + Soạn giáo án theo quy định, thể hiện được các hoạt động dạy và học. | B36: 2 | C36: 2 | D36: =ROUND($C36/$B36*100,1) -> 100 | E36: Hồ sơ chuyên môn | F36: 2 | G36: =ROUND($F36/$B36*100,1) -> 100
A37: + Lựa chọn phương pháp dạy học phù hợp cho các bài học của chương trình môn học, mô-đun được phân công giảng dạy. | B37: 2 | C37: 2 | D37: =ROUND($C37/$B37*100,1) -> 100 | E37: Hồ sơ chuyên môn | F37: 2 | G37: =ROUND($F37/$B37*100,1) -> 100
A38: + Chuẩn bị đầy đủ các phương tiện dạy học, thiết bị, nguyên, nhiên, vật liệu thực hành cần thiết | B38: 2 | C38: 2 | D38: =ROUND($C38/$B38*100,1) -> 100 | E38: Hồ sơ chuyên môn | F38: 2 | G38: =ROUND($F38/$B38*100,1) -> 100
A39: + Tự làm các thiết bị dạy học đơn giản để phục vụ giảng dạy | B39: 2 | C39: 0 | D39: =ROUND($C39/$B39*100,1) -> 0 | F39: 0 | G39: =ROUND($F39/$B39*100,1) -> 0
A40: + Chủ trì hoặc tham gia thiết kế và bố trí trang thiết bị dạy học của phòng học chuyên môn phù hợp với chương trình của ngành, nghề được phân công giảng dạy. | B40: 2 | C40: 0 | D40: =ROUND($C40/$B40*100,1) -> 0 | F40: 0 | G40: =ROUND($F40/$B40*100,1) -> 0
A41: - Tiêu chuẩn 3: Thực hiện hoạt động giảng dạy | B41: =SUM(B$42:B$45) -> 8 | C41: =SUM(C$42:C$45) -> 8 | D41: =ROUND($C41/$B41*100,1) -> 100 | F41: =SUM(F$42:F$45) -> 8 | G41: =ROUND($F41/$B41*100,1) -> 100
A42: + Tổ chức dạy học phù hợp với ngành, nghề đào tạo và với từng đối tượng người học; thực hiện đầy đủ kế hoạch giảng dạy, đúng chương trình, nội dung. | B42: 2 | C42: 2 | D42: =ROUND($C42/$B42*100,1) -> 100 | E42: Hồ sơ chuyên môn | F42: 2 | G42: =ROUND($F42/$B42*100,1) -> 100
A43: + Thực hiện các giờ dạy lý thuyết, thực hành, tích hợp theo quy định | B43: 2 | C43: 2 | D43: =ROUND($C43/$B43*100,1) -> 100 | E43: Hồ sơ chuyên môn | F43: 2 | G43: =ROUND($F43/$B43*100,1) -> 100
A44: + Vận dụng, kết hợp các phương pháp dạy học để phát huy tính tích cực, sáng tạo, phát triển năng lực tự học của người học | B44: 2 | C44: 2 | D44: =ROUND($C44/$B44*100,1) -> 100 | E44: Hồ sơ chuyên môn | F44: 2 | G44: =ROUND($F44/$B44*100,1) -> 100
A45: + Sử dụng thành thạo các phương tiện, thiết bị dạy học để nâng cao hiệu quả giảng dạy, đảm bảo chất lượng giáo dục nghề nghiệp | B45: 2 | C45: 2 | D45: =ROUND($C45/$B45*100,1) -> 100 | E45: Hồ sơ chuyên môn | F45: 2 | G45: =ROUND($F45/$B45*100,1) -> 100
A46: - Tiêu chuẩn 4: Kiểm tra, đánh giá kết quả học tập của người học | B46: =SUM(B$47:B$48) -> 4 | C46: =SUM(C$47:C$48) -> 4 | D46: =ROUND($C46/$B46*100,1) -> 100 | F46: =SUM(F$47:F$48) -> 4 | G46: =ROUND($F46/$B46*100,1) -> 100
A47: + Lựa chọn và thiết kế các công cụ kiểm tra, đánh giá kết quả học tập của người học phù hợp với môn học, mô-đun được phân công giảng dạy. | B47: 2 | C47: 2 | D47: =ROUND($C47/$B47*100,1) -> 100 | E47: Bài kiểm tra, thi của HSSV | F47: 2 | G47: =ROUND($F47/$B47*100,1) -> 100
A48: + Thực hiện việc kiểm tra, đánh giá toàn diện, chính xác, mang tính giáo dục và đúng quy định; sử dụng kết quả kiểm tra, đánh giá để điều chỉnh hoạt động dạy và học | B48: 2 | C48: 2 | D48: =ROUND($C48/$B48*100,1) -> 100 | E48: Bài kiểm tra, thi của HSSV | F48: 2 | G48: =ROUND($F48/$B48*100,1) -> 100
A49: - Tiêu chuẩn 5: Quản lý hồ sơ dạy học | B49: =SUM(B$50:B$51) -> 4 | C49: =SUM(C$50:C$51) -> 4 | D49: =ROUND($C49/$B49*100,1) -> 100 | F49: =SUM(F$50:F$51) -> 4 | G49: =ROUND($F49/$B49*100,1) -> 100
A50: + Thực hiện đầy đủ các quy định về sử dụng biểu mẫu, sổ sách, hồ sơ dạy học. | B50: 2 | C50: 2 | D50: =ROUND($C50/$B50*100,1) -> 100 | E50: Hồ sơ chuyên môn | F50: 2 | G50: =ROUND($F50/$B50*100,1) -> 100
A51: + Bảo quản, lưu trữ, sử dụng hồ sơ dạy học theo quy định | B51: 2 | C51: 2 | D51: =ROUND($C51/$B51*100,1) -> 100 | E51: Hồ sơ chuyên môn | F51: 2 | G51: =ROUND($F51/$B51*100,1) -> 100
A52: - Tiêu chuẩn 6: Xây dựng chương trình, biên soạn giáo trình, tài liệu giảng dạy | B52: =SUM(B$53:B$54) -> 4 | C52: =SUM(C$53:C$54) -> 3 | D52: =ROUND($C52/$B52*100,1) -> 75 | F52: =SUM(F$53:F$54) -> 3 | G52: =ROUND($F52/$B52*100,1) -> 75
A53: + Nắm được căn cứ, nguyên tắc, yêu cầu và quy trình xây dựng chương trình đào tạo trình độ cao đẳng. | B53: 2 | C53: 2 | D53: =ROUND($C53/$B53*100,1) -> 100 | F53: 2 | G53: =ROUND($F53/$B53*100,1) -> 100
A54: + Chủ trì hoặc tham gia biên soạn, chỉnh lý chương trình, giáo trình, tài liệu đào tạo trình độ cao đẳng; chương trình bồi dưỡng nghề nghiệp. | B54: 2 | C54: 1 | D54: =ROUND($C54/$B54*100,1) -> 50 | E54: Tham gia chỉnh lý chương trình môn học theo phân công | F54: 1 | G54: =ROUND($F54/$B54*100,1) -> 50
A55: - Tiêu chuẩn 7 về Xây dựng kế hoạch, thực hiện các hoạt động giáo dục | B55: =SUM(B$56:B$59) -> 8 | C55: =SUM(C$56:C$59) -> 6 | D55: =ROUND($C55/$B55*100,1) -> 75 | F55: =SUM(F$56:F$59) -> 6 | G55: =ROUND($F55/$B55*100,1) -> 75
A56: + Xây dựng được kế hoạch giáo dục người học thông qua giảng dạy và qua các hoạt động khác | B56: 2 | C56: 2 | D56: =ROUND($C56/$B56*100,1) -> 100 | E56: Đánh giá kết quả học tập, rèn luyện | F56: 2 | G56: =ROUND($F56/$B56*100,1) -> 100
A57: + Thực hiện việc giáo dục đạo đức nghề nghiệp, thái độ nghề nghiệp thông qua việc giảng dạy môn học, mô-đun theo kế hoạch đã xây dựng. | B57: 2 | C57: 1 | D57: =ROUND($C57/$B57*100,1) -> 50 | E57: Hồ sơ chuyên môn | F57: 1 | G57: =ROUND($F57/$B57*100,1) -> 50
A58: + Vận dụng các hiểu biết về tâm lý, giáo dục vào thực hiện hoạt động giáo dục người học | B58: 2 | C58: 1 | D58: =ROUND($C58/$B58*100,1) -> 50 | E58: Hồ sơ chuyên môn | F58: 1 | G58: =ROUND($F58/$B58*100,1) -> 50
A59: + Đánh giá kết quả các mặt rèn luyện đạo đức của người học theo quy định một cách chính xác, công bằng và có tác dụng giáo dục | B59: 2 | C59: 2 | D59: =ROUND($C59/$B59*100,1) -> 100 | E59: Đánh giá kết quả học tập, rèn luyện | F59: 2 | G59: =ROUND($F59/$B59*100,1) -> 100
A60: - Tiêu chuẩn 8: Quản lý người học, xây dựng môi trường giáo dục, học tập | B60: =SUM(B$61:B$62) -> 4 | C60: =SUM(C$61:C$62) -> 4 | D60: =ROUND($C60/$B60*100,1) -> 100 | F60: =SUM(F$61:F$62) -> 4 | G60: =ROUND($F60/$B60*100,1) -> 100
A61: + Quản lý được các thông tin liên quan đến người học và sử dụng hiệu quả các thông tin vào giáo dục, dạy học, quản lý người học | B61: 2 | C61: 2 | D61: =ROUND($C61/$B61*100,1) -> 100 | E61: Trao đổi với HSSV để nắm bắt tâm tư nguyện vọng và kịp thời có định hướng giáo dục | F61: 2 | G61: =ROUND($F61/$B61*100,1) -> 100
A62: + Xây dựng môi trường giáo dục, học tập lành mạnh, thuận lợi, dân chủ, hợp tác | B62: 2 | C62: 2 | D62: =ROUND($C62/$B62*100,1) -> 100 | E62: Tích cực liên hệ với phụ huynh HSSV qua các phương tiện liên lạc để hợp tác trao đổi giáo dục HSSV | F62: 2 | G62: =ROUND($F62/$B62*100,1) -> 100
A63: - Tiêu chuẩn 9: Hoạt động xã hội | B63: =SUM(B$64:B$65) -> 4 | C63: =SUM(C$64:C$65) -> 3 | D63: =ROUND($C63/$B63*100,1) -> 75 | F63: =SUM(F$64:F$65) -> 2 | G63: =ROUND($F63/$B63*100,1) -> 50
A64: + Phối hợp với gia đình người học và cộng đồng động viên, hỗ trợ, giám sát việc học tập, rèn luyện của người học; góp phần huy động các nguồn lực xã hội xây dựng, phát triển cơ sở hoạt động giáo dục nghề nghiệp. | B64: 2 | C64: 2 | D64: =ROUND($C64/$B64*100,1) -> 100 | E64: Tuyên truyền các hoạt động cộng đồng, thiện nguyện do nhà trường, đoàn thể tổ chức… | F64: 1 | G64: =ROUND($F64/$B64*100,1) -> 50
A65: + Tham gia các hoạt động xã hội trong và ngoài cơ sở hoạt động giáo dục nghề nghiệp, xây dựng quan hệ giữa cơ sở hoạt động giáo dục nghề nghiệp với doanh nghiệp nhằm phát triển cơ sở hoạt động giáo dục nghề nghiệp, cộng đồng; xây dựng phong trào học nghề lập nghiệp trong xã hội | B65: 2 | C65: 1 | D65: =ROUND($C65/$B65*100,1) -> 50 | E65: Tham gia công tác xã hội, ủng hộ các hoạt động vì cộng đồng do nhà trường, đoàn thể tổ chức… | F65: 1 | G65: =ROUND($F65/$B65*100,1) -> 50
A66: Tiêu chí 3 về Năng lực phát triển nghề nghiệp, nghiên cứu khoa học | B66: =SUM(B$67,B$72,B$75) -> 16 | C66: =SUM(C$67,C$72,C$75) -> 11 | D66: =ROUND($C66/$B66*100,1) -> 68.8 | F66: =SUM(F$67,F$72,F$75) -> 11 | G66: =ROUND($F66/$B66*100,1) -> 68.8
A67: - Tiêu chuẩn 1: Học tập, bồi dưỡng nâng cao | B67: =SUM(B$68:B$71) -> 8 | C67: =SUM(C$68:C$71) -> 6 | D67: =ROUND($C67/$B67*100,1) -> 75 | F67: =SUM(F$68:F$71) -> 6 | G67: =ROUND($F67/$B67*100,1) -> 75
A68: + Thường xuyên dự giờ, trao đổi kinh nghiệm giảng dạy, giáo dục với đồng nghiệp; tham gia bồi dưỡng đồng nghiệp theo yêu cầu phát triển của phòng, khoa, tổ bộ môn | B68: 2 | C68: 2 | D68: =ROUND($C68/$B68*100,1) -> 100 | E68: Biên bản họp Khoa, tổ bộ môn, dự giờ | F68: 2 | G68: =ROUND($F68/$B68*100,1) -> 100
A69: + Tham gia hội giảng các cấp | B69: 2 | C69: 0 | D69: =ROUND($C69/$B69*100,1) -> 0 | F69: 0 | G69: =ROUND($F69/$B69*100,1) -> 0
A70: + Thường xuyên tự học tập, bồi dưỡng, rèn luyện nâng cao trình độ chuyên môn, nghiệp vụ, phẩm chất đạo đức nghề nghiệp | B70: 2 | C70: 2 | D70: =ROUND($C70/$B70*100,1) -> 100 | E70: Biên bản họp Khoa, tổ bộ môn, dự giờ | F70: 2 | G70: =ROUND($F70/$B70*100,1) -> 100
A71: + Tham gia các khóa đào tạo, bồi dưỡng nâng cao trình độ, cập nhật kiến thức, kỹ năng nghề, công nghệ, phương pháp giảng dạy đáp ứng yêu cầu của giáo dục nghề nghiệp. | B71: 2 | C71: 2 | D71: =ROUND($C71/$B71*100,1) -> 100 | E71: Tham gia đầy đủ các lớp bồi dưỡng do nhà trường tổ chức | F71: 2 | G71: =ROUND($F71/$B71*100,1) -> 100
A72: - Tiêu chuẩn 2: Phát triển năng lực nghề nghiệp cho người học | B72: =SUM(B73:B74) -> 4 | C72: =SUM(C73:C74) -> 2 | D72: =ROUND($C72/$B72*100,1) -> 50 | F72: =SUM(F73:F74) -> 2 | G72: =ROUND($F72/$B72*100,1) -> 50
A73: + Hướng dẫn thực tập kết hợp với thực tiễn nghề nghiệp | B73: 2 | C73: 2 | D73: =ROUND($C73/$B73*100,1) -> 100 | E73: Đi thực tế doanh nghiệp | F73: 2 | G73: =ROUND($F73/$B73*100,1) -> 100
A74: + Tham gia bồi dưỡng nâng cao, luyện tay nghề cho học sinh, sinh viên giỏi các cấp | B74: 2 | C74: 0 | D74: =ROUND($C74/$B74*100,1) -> 0 | F74: 0 | G74: =ROUND($F74/$B74*100,1) -> 0
A75: - Tiêu chuẩn 3: Nghiên cứu khoa học | B75: =SUM(B76:B77) -> 4 | C75: =SUM(C76:C77) -> 3 | D75: =ROUND($C75/$B75*100,1) -> 75 | F75: =SUM(F76:F77) -> 3 | G75: =ROUND($F75/$B75*100,1) -> 75
A76: + Có kiến thức, kỹ năng cơ bản về nghiên cứu khoa học và công nghệ | B76: 2 | C76: 2 | D76: =ROUND($C76/$B76*100,1) -> 100 | E76: Bảng điểm môn nghiên cứu Khoa học | F76: 2 | G76: =ROUND($F76/$B76*100,1) -> 100
A77: + Chủ trì hoặc tham gia đề tài nghiên cứu khoa học từ cấp cơ sở trở lên. | B77: 2 | C77: 1 | D77: =ROUND($C77/$B77*100,1) -> 50 | E77: Tham dự hội nghị khoa học cấp Khoa | F77: 1 | G77: =ROUND($F77/$B77*100,1) -> 50
A78: Tổng số điểm đánh giá | B78: =SUM(B$16,B$30,B$66) -> 88 | C78: =SUM(C$16,C$30,C$66) -> 73 | D78: =ROUND($C78/$B78*100,1) -> 83 | F78: =SUM(F$16,F$30,F$66) -> 72 | G78: =ROUND($F78/$B78*100,1) -> 81.8
A79: Điểm quy đổi | B79: 100 | C79: =(C$78*$B$79/$B$78) -> 82.954545 | D79: =ROUND($C79/$B79*100,1) -> 83 | F79: =(F$78*$B$79/$B$78) -> 81.818182 | G79: =ROUND($F79/$B79*100,1) -> 81.8
A80: Xếp loại | C80: =IF(AND(D17<50),"Không đạt",IF(AND(D24<50),"Không đạt",IF(AND(D27<50),"Không đạt",IF(AND(D31<50),"Không đạt",IF(AND(D34<50),"Không đạt",IF(AND(D41<50),"Không đạt",IF(AND(D46<50),"Không đạt",IF(AND(D49<50),"Không đạt",IF(AND(D52<50),"Không đạt",IF(AND(D55<50),"Không đạt",IF(AND(D60<50),"Không đạt",IF(AND(D63<50),"Không đạt",IF(AND(D67<50),"Không đạt",IF(AND(D72<50),"Không đạt",IF(AND(D75<50),"Không đạt",IF(AND(C79>=80),"A",IF(AND(C79>=65,C79<79),"B",IF(AND(C79>=50,C78<64),"C","Không đạt")))))))))))))))))) -> A | F80: =IF(AND(G17<50),"Không đạt",IF(AND(G24<50),"Không đạt",IF(AND(G27<50),"Không đạt",IF(AND(G31<50),"Không đạt",IF(AND(G34<50),"Không đạt",IF(AND(G41<50),"Không đạt",IF(AND(G46<50),"Không đạt",IF(AND(G49<50),"Không đạt",IF(AND(G52<50),"Không đạt",IF(AND(G55<50),"Không đạt",IF(AND(G60<50),"Không đạt",IF(AND(G63<50),"Không đạt",IF(AND(G67<50),"Không đạt",IF(AND(G72<50),"Không đạt",IF(AND(G75<50),"Không đạt",IF(AND(F79>=80),"A",IF(AND(F79>=65,F79<79),"B",IF(AND(F79>=50,F78<64),"C","Không đạt")))))))))))))))))) -> A
D81: =C80 -> A
A82: Tp. HCM, ngày 21 tháng 4 năm 2019 | F82: Tp. HCM, ngày 23 tháng 4 năm 2019
A83: Nhà giáo tự đánh giá | F83: Trưởng khoa
A84: (ký và ghi rõ họ, tên) | F84: (ký và ghi rõ họ, tên)
A89: Trần Thị Ngọc Dung | F89: Nguyễn Trọng Nghĩa

Sheet CAO XUAN GIANG
E2: CỘNG HÒA XÃ HỘI CHỦ NGHĨA VIỆT NAM Độc lập - Tự do - Hạnh phúc
A5: PHIẾU ĐÁNH GIÁ, XẾP LOẠI CHUYÊN MÔN, NGHIỆP VỤ CỦA NHÀ GIÁO Năm học 2018-2019
A7: Họ và tên giảng viên: | C7: Cao Xuân Giang
A8: Khoa, tổ bộ môn: Bộ môn Quản Trị - Khoa Kinh tế
A9: Cấp trình độ giảng dạy: Cao đẳng
A10: Nhiệm vụ được phân công giảng dạy (Lý thuyết, thực hành, tích hợp): Lý thuyết
A12: Ghi chú: 1. Nhà giáo chỉ cho điểm vào cột: "Nhà giáo tự cho điểm" và ghi các minh chứng vào cột: Các minh chứng của Nhà giáo. Các ô tô màu Nhà giáo không nhập điểm hoặc không ghi các minh chứng vào các ô đó. 2. Các Trưởng đơn vị cho điểm Nhà giáo thuộc đơn vị quản lý vào các ô màu hồng (sau khi Hội đồng chuyên môn đơn vị tổ chức họp xem xét và chấm điểm).
A14: Các tiêu chí và tiêu chuẩn | B14: Điểm tối đa | C14: Nhà giáo tự đánh giá xếp loại | F14: Khoa đánh giá, xếp loại
C15: Điểm đánh giá đạt được | D15: Tỷ lệ % của điểm đánh giá đạt được so với điểm đánh giá tối đa của mỗi tiêu chuẩn (lấy đến 1 chữ số thập phân, không làm tròn) | E15: Các minh chứng | F15: Điểm đánh giá đạt được | G15: Tỷ lệ % của điểm đánh giá đạt được so với điểm đánh giá tối đa của mỗi tiêu chuẩn(lấy đến 1 chữ số thập phân, không làm tròn) | H15: Các minh chứng
A16: Tiêu chí 1 về Năng lực chuyên môn | B16: =SUM(B$17,B$24,B$24) -> 20 | C16: =SUM(C$17,C$24,C$24) -> 20 | D16: =ROUND($C16/$B16*100,1) -> 100 | F16: =SUM(F$17,F$24,F$24) -> 20 | G16: =ROUND($F16/$B16*100,1) -> 100
A17: - Tiêu chuẩn 1: Trình độ chuyên môn | B17: =SUM(B$18:B$23) -> 12 | C17: =SUM(C$18:C$23) -> 12 | D17: =ROUND($C17/$B17*100,1) -> 100 | F17: =SUM(F$18:F$23) -> 12 | G17: =ROUND($F17/$B17*100,1) -> 100
A18: + Có bằng tốt nghiệp đại học chuyên ngành hoặc đại học sư phạm chuyên ngành trở lên, phù hợp với ngành, nghề giảng dạy và có một trong các chứng chỉ kỹ năng nghề phù hợp với ngành, nghề giảng dạy để dạy thực hành trình độ cao đẳng sau: Chứng chỉ kỹ năng nghề quốc gia Bậc 3 hoặc chứng nhận bậc thợ 5/7, 4/6 trở lên hoặc bằng tốt nghiệp cao đẳng nghề hoặc chứng chỉ kỹ năng thực hành nghề trình độ cao đẳng nghề hoặc tương đương; | B18: 2 | C18: 2 | D18: =ROUND($C18/$B18*100,1) -> 100 | E18: Bằng cấp đã nộp trong hồ sơ lưu | F18: 2 | G18: =ROUND($F18/$B18*100,1) -> 100
A19: + Nắm vững kiến thức ngành, nghề được phân công giảng dạy; | B19: 2 | C19: 2 | D19: =ROUND($C19/$B19*100,1) -> 100 | E19: Kết quả dự giờ | F19: 2 | G19: =ROUND($F19/$B19*100,1) -> 100
A20: + Có kiến thức về ngành, nghề liên quan; | B20: 2 | C20: 2 | D20: =ROUND($C20/$B20*100,1) -> 100 | E20: Kết quả dự giờ | F20: 2 | G20: =ROUND($F20/$B20*100,1) -> 100
A21: + Hiểu biết về thực tiễn nghề nghiệp, tiến bộ khoa học kỹ thuật, công nghệ mới và kỹ thuật an toàn, vệ sinh lao động của ngành, nghề được phân công giảng dạy | B21: 2 | C21: 2 | D21: =ROUND($C21/$B21*100,1) -> 100 | E21: Kinh nghiệm đi làm thực tiễn, cập nhật kiến thức mới phục vụ giảng dạy | F21: 2 | G21: =ROUND($F21/$B21*100,1) -> 100
A22: + Thực hiện thành thạo các kỹ năng của ngành, nghề được phân công giảng dạy | B22: 2 | C22: 2 | D22: =ROUND($C22/$B22*100,1) -> 100 | E22: Kết quả dự giờ | F22: 2 | G22: =ROUND($F22/$B22*100,1) -> 100
A23: + Tổ chức thành thạo các hoạt động lao động sản xuất, dịch vụ ngành, nghề được phân công giảng dạy | B23: 2 | C23: 2 | D23: =ROUND($C23/$B23*100,1) -> 100 | E23: Kinh nghiệm đi làm thực tiễn | F23: 2 | G23: =ROUND($F23/$B23*100,1) -> 100
A24: - Tiêu chuẩn 2: Trình độ ngoại ngữ | B24: =SUM(B$25:B$26) -> 4 | C24: =SUM(C$25:C$26) -> 4 | D24: =ROUND($C24/$B24*100,1) -> 100 | F24: =SUM(F$25:F$26) -> 4 | G24: =ROUND($F24/$B24*100,1) -> 100
A25: + Đối vối giáo viên, giảng viên không chuyên ngành ngoại ngữ: Có trình độ ngoại ngữ Bậc 2 (A2) theo quy định tại Thông tư số 01/2014/TT-BGDĐT ngày 24/01/2014 của Bộ Giáo dục và Đào tạo ban hành Khung năng lực ngoại ngữ 6 bậc dùng cho Việt Nam hoặc tương đương trở lên. + Đối với giáo viên, giảng viên chuyên ngành ngoại ngữ (giáo viên, giảng viên tổ Anh văn thuộc Khoa KHCB): Có trình độ ngoại ngữ Bậc 5 (C1) theo quy định tại Thông tư số 01/2014/TT-BGDĐT ngày 24/01/2014 của Bộ Giáo dục và Đào tạo ban hành Khung năng lực ngoại ngữ 6 bậc dùng cho Việt Nam hoặc tương đương trở lên. Và trình độ ngoại ngữ thứ hai phải đạt Bậc 2 (A2) theo quy định tại Thông tư số 01/2014/TT-BGDĐT. | B25: 2 | C25: 2 | D25: =ROUND($C25/$B25*100,1) -> 100 | E25: Toeic 600 | F25: 2 | G25: =ROUND($F25/$B25*100,1) -> 100
A26: + Đọc và hiểu tài liệu chuyên ngành phục vụ công tác giảng dạy; mô tả được một số công việc cơ bản của ngành, nghề được phân công giảng dạy. | B26: 2 | C26: 2 | D26: =ROUND($C26/$B26*100,1) -> 100 | E26: Có thể đọc và hiểu tài liệu phục vụ giảng dạy hiện tại | F26: 2 | G26: =ROUND($F26/$B26*100,1) -> 100
A27: - Tiêu chuẩn 3: Trình độ tin học | B27: =SUM(B$28:B$29) -> 4 | C27: =SUM(C$28:C$29) -> 4 | D27: =ROUND($C27/$B27*100,1) -> 100 | F27: =SUM(F$28:F$29) -> 4 | G27: =ROUND($F27/$B27*100,1) -> 100
A28: + Có trình độ tin học đạt Chuẩn kỹ năng sử dụng công nghệ thông tin cơ bản theo quy định tại Thông tư số 03/2014/TT-BTTTT ngày 11/3/2014 của Bộ Thông tin và Truyền thông quy định Chuẩn kỹ năng sử dụng công nghệ thông tin hoặc tương đương trở lên. | B28: 2 | C28: 2 | D28: =ROUND($C28/$B28*100,1) -> 100 | E28: Chứng chỉ B tin học | F28: 2 | G28: =ROUND($F28/$B28*100,1) -> 100
A29: + Sử dụng thành thạo phần mềm dạy học chuyên ngành để thiết kế bài giảng, tài liệu giảng dạy. | B29: 2 | C29: 2 | D29: =ROUND($C29/$B29*100,1) -> 100 | F29: 2 | G29: =ROUND($F29/$B29*100,1) -> 100
A30: Tiêu chí 2 về Năng lực sư phạm | B30: =SUM(B$31,B$34,B$41,B$46,B$49,B$52,B$55,B$60,B$63) -> 52 | C30: =SUM(C$31,C$34,C$41,C$46,C$49,C$52,C$55,C$60,C$63) -> 41.5 | D30: =ROUND($C30/$B30*100,1) -> 79.8 | F30: =SUM(F$31,F$34,F$41,F$46,F$49,F$52,F$55,F$60,F$63) -> 40.5 | G30: =ROUND($F30/$B30*100,1) -> 77.9
A31: - Tiêu chuẩn 1 về Trình độ nghiệp vụ sư phạm và thời gian tham gia giảng dạy | B31: =SUM(B$32:B$33) -> 4 | C31: =SUM(C$32:C$33) -> 2 | D31: =ROUND($C31/$B31*100,1) -> 50 | F31: =SUM(F$32:F$33) -> 2 | G31: =ROUND($F31/$B31*100,1) -> 50
A32: + Có chứng chỉ sư phạm dạy nghề dạy trình độ trung cấp nghề, cao đẳng nghề hoặc chứng chỉ bồi dưỡng nghiệp vụ sư phạm cho giảng viên đại học, cao đẳng hoặc bằng tốt nghiệp đại học chuyên ngành sư phạm hoặc chứng chỉ nghiệp vụ sư phạm dạy trình độ cao đẳng hoặc tương đương. | B32: 2 | C32: 2 | D32: =ROUND($C32/$B32*100,1) -> 100 | E32: Chứng chỉ nghiệp vụ sư phạm dành cho giảng viên Cao Đẳng, Đại học | F32: 2 | G32: =ROUND($F32/$B32*100,1) -> 100
A33: + Có thời gian tham gia giảng dạy ít nhất 12 tháng. | B33: 2 | C33: 0 | D33: =ROUND($C33/$B33*100,1) -> 0 | F33: 0 | G33: =ROUND($F33/$B33*100,1) -> 0
A34: - Tiêu chuẩn 2: Chuẩn bị hoạt động giảng dạy | B34: =SUM(B$35:B$40) -> 12 | C34: =SUM(C$35:C$40) -> 6.5 | D34: =ROUND($C34/$B34*100,1) -> 54.2 | F34: =SUM(F$35:F$40) -> 6.5 | G34: =ROUND($F34/$B34*100,1) -> 54.2
A35: + Lập được kế hoạch giảng dạy môn học, mô-đun được phân công trên cơ sở chương trình, kế hoạch đào tạo của cả khóa học. | B35: 2 | C35: 1 | D35: =ROUND($C35/$B35*100,1) -> 50 | E35: Hồ sơ kiểm tra chuyên môn đã lưu | F35: 1 | G35: =ROUND($F35/$B35*100,1) -> 50
A36: + Soạn giáo án theo quy định, thể hiện được các hoạt động dạy và học. | B36: 2 | C36: 1.5 | D36: =ROUND($C36/$B36*100,1) -> 75 | E36: Hồ sơ kiểm tra chuyên môn đã lưu | F36: 1.5 | G36: =ROUND($F36/$B36*100,1) -> 75
A37: + Lựa chọn phương pháp dạy học phù hợp cho các bài học của chương trình môn học, mô-đun được phân công giảng dạy. | B37: 2 | C37: 2 | D37: =ROUND($C37/$B37*100,1) -> 100 | E37: Đánh giá qua kết quả dự giờ | F37: 2 | G37: =ROUND($F37/$B37*100,1) -> 100
A38: + Chuẩn bị đầy đủ các phương tiện dạy học, thiết bị, nguyên, nhiên, vật liệu thực hành cần thiết | B38: 2 | C38: 2 | D38: =ROUND($C38/$B38*100,1) -> 100 | E38: Đánh giá qua kết quả dự giờ | F38: 2 | G38: =ROUND($F38/$B38*100,1) -> 100
A39: + Tự làm các thiết bị dạy học đơn giản để phục vụ giảng dạy | B39: 2 | C39: 0 | D39: =ROUND($C39/$B39*100,1) -> 0 | F39: 0 | G39: =ROUND($F39/$B39*100,1) -> 0
A40: + Chủ trì hoặc tham gia thiết kế và bố trí trang thiết bị dạy học của phòng học chuyên môn phù hợp với chương trình của ngành, nghề được phân công giảng dạy. | B40: 2 | C40: 0 | D40: =ROUND($C40/$B40*100,1) -> 0 | F40: 0 | G40: =ROUND($F40/$B40*100,1) -> 0
A41: - Tiêu chuẩn 3: Thực hiện hoạt động giảng dạy | B41: =SUM(B$42:B$45) -> 8 | C41: =SUM(C$42:C$45) -> 7 | D41: =ROUND($C41/$B41*100,1) -> 87.5 | F41: =SUM(F$42:F$45) -> 6 | G41: =ROUND($F41/$B41*100,1) -> 75
A42: + Tổ chức dạy học phù hợp với ngành, nghề đào tạo và với từng đối tượng người học; thực hiện đầy đủ kế hoạch giảng dạy, đúng chương trình, nội dung. | B42: 2 | C42: 1.5 | D42: =ROUND($C42/$B42*100,1) -> 75 | E42: Kết quả dự giờ | F42: 1.5 | G42: =ROUND($F42/$B42*100,1) -> 75
A43: + Thực hiện các giờ dạy lý thuyết, thực hành, tích hợp theo quy định | B43: 2 | C43: 1.5 | D43: =ROUND($C43/$B43*100,1) -> 75 | E43: Kết quả dự giờ | F43: 1.5 | G43: =ROUND($F43/$B43*100,1) -> 75
A44: + Vận dụng, kết hợp các phương pháp dạy học để phát huy tính tích cực, sáng tạo, phát triển năng lực tự học của người học | B44: 2 | C44: 2 | D44: =ROUND($C44/$B44*100,1) -> 100 | E44: Kết quả dự giờ | F44: 2 | G44: =ROUND($F44/$B44*100,1) -> 100
A45: + Sử dụng thành thạo các phương tiện, thiết bị dạy học để nâng cao hiệu quả giảng dạy, đảm bảo chất lượng giáo dục nghề nghiệp | B45: 2 | C45: 2 | D45: =ROUND($C45/$B45*100,1) -> 100 | E45: Kết quả dự giờ | F45: 1 | G45: =ROUND($F45/$B45*100,1) -> 50
A46: - Tiêu chuẩn 4: Kiểm tra, đánh giá kết quả học tập của người học | B46: =SUM(B$47:B$48) -> 4 | C46: =SUM(C$47:C$48) -> 4 | D46: =ROUND($C46/$B46*100,1) -> 100 | F46: =SUM(F$47:F$48) -> 4 | G46: =ROUND($F46/$B46*100,1) -> 100
A47: + Lựa chọn và thiết kế các công cụ kiểm tra, đánh giá kết quả học tập của người học phù hợp với môn học, mô-đun được phân công giảng dạy. | B47: 2 | C47: 2 | D47: =ROUND($C47/$B47*100,1) -> 100 | E47: Kết quả kiểm tra trong học tập của sinh viên | F47: 2 | G47: =ROUND($F47/$B47*100,1) -> 100
A48: + Thực hiện việc kiểm tra, đánh giá toàn diện, chính xác, mang tính giáo dục và đúng quy định; sử dụng kết quả kiểm tra, đánh giá để điều chỉnh hoạt động dạy và học | B48: 2 | C48: 2 | D48: =ROUND($C48/$B48*100,1) -> 100 | E48: Kết quả kiểm tra trong học tập của sinh viên | F48: 2 | G48: =ROUND($F48/$B48*100,1) -> 100
A49: - Tiêu chuẩn 5: Quản lý hồ sơ dạy học | B49: =SUM(B$50:B$51) -> 4 | C49: =SUM(C$50:C$51) -> 4 | D49: =ROUND($C49/$B49*100,1) -> 100 | F49: =SUM(F$50:F$51) -> 4 | G49: =ROUND($F49/$B49*100,1) -> 100
A50: + Thực hiện đầy đủ các quy định về sử dụng biểu mẫu, sổ sách, hồ sơ dạy học. | B50: 2 | C50: 2 | D50: =ROUND($C50/$B50*100,1) -> 100 | E50: Hồ sơ kiểm tra chuyên môn đã lưu | F50: 2 | G50: =ROUND($F50/$B50*100,1) -> 100
A51: + Bảo quản, lưu trữ, sử dụng hồ sơ dạy học theo quy định | B51: 2 | C51: 2 | D51: =ROUND($C51/$B51*100,1) -> 100 | E51: Hồ sơ kiểm tra chuyên môn đã lưu | F51: 2 | G51: =ROUND($F51/$B51*100,1) -> 100
A52: - Tiêu chuẩn 6: Xây dựng chương trình, biên soạn giáo trình, tài liệu giảng dạy | B52: =SUM(B$53:B$54) -> 4 | C52: =SUM(C$53:C$54) -> 2 | D52: =ROUND($C52/$B52*100,1) -> 50 | F52: =SUM(F$53:F$54) -> 2 | G52: =ROUND($F52/$B52*100,1) -> 50
A53: + Nắm được căn cứ, nguyên tắc, yêu cầu và quy trình xây dựng chương trình đào tạo trình độ cao đẳng. | B53: 2 | C53: 2 | D53: =ROUND($C53/$B53*100,1) -> 100 | E53: Hồ sơ chuyên môn | F53: 2 | G53: =ROUND($F53/$B53*100,1) -> 100
A54: + Chủ trì hoặc tham gia biên soạn, chỉnh lý chương trình, giáo trình, tài liệu đào tạo trình độ cao đẳng; chương trình bồi dưỡng nghề nghiệp. | B54: 2 | C54: 0 | D54: =ROUND($C54/$B54*100,1) -> 0 | F54: 0 | G54: =ROUND($F54/$B54*100,1) -> 0
A55: - Tiêu chuẩn 7 về Xây dựng kế hoạch, thực hiện các hoạt động giáo dục | B55: =SUM(B$56:B$59) -> 8 | C55: =SUM(C$56:C$59) -> 8 | D55: =ROUND($C55/$B55*100,1) -> 100 | F55: =SUM(F$56:F$59) -> 8 | G55: =ROUND($F55/$B55*100,1) -> 100
A56: + Xây dựng được kế hoạch giáo dục người học thông qua giảng dạy và qua các hoạt động khác | B56: 2 | C56: 2 | D56: =ROUND($C56/$B56*100,1) -> 100 | E56: Kết quả dự giờ | F56: 2 | G56: =ROUND($F56/$B56*100,1) -> 100
A57: + Thực hiện việc giáo dục đạo đức nghề nghiệp, thái độ nghề nghiệp thông qua việc giảng dạy môn học, mô-đun theo kế hoạch đã xây dựng. | B57: 2 | C57: 2 | D57: =ROUND($C57/$B57*100,1) -> 100 | E57: Kết quả dự giờ | F57: 2 | G57: =ROUND($F57/$B57*100,1) -> 100
A58: + Vận dụng các hiểu biết về tâm lý, giáo dục vào thực hiện hoạt động giáo dục người học | B58: 2 | C58: 2 | D58: =ROUND($C58/$B58*100,1) -> 100 | E58: Kết quả dự giờ | F58: 2 | G58: =ROUND($F58/$B58*100,1) -> 100
A59: + Đánh giá kết quả các mặt rèn luyện đạo đức của người học theo quy định một cách chính xác, công bằng và có tác dụng giáo dục | B59: 2 | C59: 2 | D59: =ROUND($C59/$B59*100,1) -> 100 | E59: Kết quả đánh giá rèn luyện học sinh sau hoc kỳ I | F59: 2 | G59: =ROUND($F59/$B59*100,1) -> 100
A60: - Tiêu chuẩn 8: Quản lý người học, xây dựng môi trường giáo dục, học tập | B60: =SUM(B$61:B$62) -> 4 | C60: =SUM(C$61:C$62) -> 4 | D60: =ROUND($C60/$B60*100,1) -> 100 | F60: =SUM(F$61:F$62) -> 4 | G60: =ROUND($F60/$B60*100,1) -> 100
A61: + Quản lý được các thông tin liên quan đến người học và sử dụng hiệu quả các thông tin vào giáo dục, dạy học, quản lý người học | B61: 2 | C61: 2 | D61: =ROUND($C61/$B61*100,1) -> 100 | E61: Điểm danh online và sổ tay giảng viên | F61: 2 | G61: =ROUND($F61/$B61*100,1) -> 100
A62: + Xây dựng môi trường giáo dục, học tập lành mạnh, thuận lợi, dân chủ, hợp tác | B62: 2 | C62: 2 | D62: =ROUND($C62/$B62*100,1) -> 100 | E62: Hoạt động CVHT-GVCN, giảng dạy, coi thi | F62: 2 | G62: =ROUND($F62/$B62*100,1) -> 100
A63: - Tiêu chuẩn 9: Hoạt động xã hội | B63: =SUM(B$64:B$65) -> 4 | C63: =SUM(C$64:C$65) -> 4 | D63: =ROUND($C63/$B63*100,1) -> 100 | F63: =SUM(F$64:F$65) -> 4 | G63: =ROUND($F63/$B63*100,1) -> 100
A64: + Phối hợp với gia đình người học và cộng đồng động viên, hỗ trợ, giám sát việc học tập, rèn luyện của người học; góp phần huy động các nguồn lực xã hội xây dựng, phát triển cơ sở hoạt động giáo dục nghề nghiệp. | B64: 2 | C64: 2 | D64: =ROUND($C64/$B64*100,1) -> 100 | E64: Hoạt động CVHT-GVCN | F64: 2 | G64: =ROUND($F64/$B64*100,1) -> 100
A65: + Tham gia các hoạt động xã hội trong và ngoài cơ sở hoạt động giáo dục nghề nghiệp, xây dựng quan hệ giữa cơ sở hoạt động giáo dục nghề nghiệp với doanh nghiệp nhằm phát triển cơ sở hoạt động giáo dục nghề nghiệp, cộng đồng; xây dựng phong trào học nghề lập nghiệp trong xã hội | B65: 2 | C65: 2 | D65: =ROUND($C65/$B65*100,1) -> 100 | E65: Hỗ trợ tuyền sinh, tham gia công tác từ thiện do Khoa tổ chức. | F65: 2 | G65: =ROUND($F65/$B65*100,1) -> 100
A66: Tiêu chí 3 về Năng lực phát triển nghề nghiệp, nghiên cứu khoa học | B66: =SUM(B$67,B$72,B$75) -> 16 | C66: =SUM(C$67,C$72,C$75) -> 12 | D66: =ROUND($C66/$B66*100,1) -> 75 | F66: =SUM(F$67,F$72,F$75) -> 11 | G66: =ROUND($F66/$B66*100,1) -> 68.8
A67: - Tiêu chuẩn 1: Học tập, bồi dưỡng nâng cao | B67: =SUM(B$68:B$71) -> 8 | C67: =SUM(C$68:C$71) -> 6 | D67: =ROUND($C67/$B67*100,1) -> 75 | F67: =SUM(F$68:F$71) -> 6 | G67: =ROUND($F67/$B67*100,1) -> 75
A68: + Thường xuyên dự giờ, trao đổi kinh nghiệm giảng dạy, giáo dục với đồng nghiệp; tham gia bồi dưỡng đồng nghiệp theo yêu cầu phát triển của phòng, khoa, tổ bộ môn | B68: 2 | C68: 2 | D68: =ROUND($C68/$B68*100,1) -> 100 | E68: Nhật ký, biên bản dự giờ | F68: 2 | G68: =ROUND($F68/$B68*100,1) -> 100
A69: + Tham gia hội giảng các cấp | B69: 2 | C69: 0 | D69: =ROUND($C69/$B69*100,1) -> 0 | F69: 0 | G69: =ROUND($F69/$B69*100,1) -> 0
A70: + Thường xuyên tự học tập, bồi dưỡng, rèn luyện nâng cao trình độ chuyên môn, nghiệp vụ, phẩm chất đạo đức nghề nghiệp | B70: 2 | C70: 2 | D70: =ROUND($C70/$B70*100,1) -> 100 | E70: Nghiên cứu các tài liệu phục vụ việc giảng dạy/ Các bằng cấp bổ sung, chứng chỉ bổ sung lưu hồ sơ | F70: 2 | G70: =ROUND($F70/$B70*100,1) -> 100
A71: + Tham gia các khóa đào tạo, bồi dưỡng nâng cao trình độ, cập nhật kiến thức, kỹ năng nghề, công nghệ, phương pháp giảng dạy đáp ứng yêu cầu của giáo dục nghề nghiệp. | B71: 2 | C71: 2 | D71: =ROUND($C71/$B71*100,1) -> 100 | E71: Học và thi IC3. | F71: 2 | G71: =ROUND($F71/$B71*100,1) -> 100
A72: - Tiêu chuẩn 2: Phát triển năng lực nghề nghiệp cho người học | B72: =SUM(B73:B74) -> 4 | C72: =SUM(C73:C74) -> 2 | D72: =ROUND($C72/$B72*100,1) -> 50 | F72: =SUM(F73:F74) -> 2 | G72: =ROUND($F72/$B72*100,1) -> 50
A73: + Hướng dẫn thực tập kết hợp với thực tiễn nghề nghiệp | B73: 2 | C73: 2 | D73: =ROUND($C73/$B73*100,1) -> 100 | E73: Theo sự phân công của khoa | F73: 2 | G73: =ROUND($F73/$B73*100,1) -> 100
A74: + Tham gia bồi dưỡng nâng cao, luyện tay nghề cho học sinh, sinh viên giỏi các cấp | B74: 2 | C74: 0 | D74: =ROUND($C74/$B74*100,1) -> 0 | F74: 0 | G74: =ROUND($F74/$B74*100,1) -> 0
A75: - Tiêu chuẩn 3: Nghiên cứu khoa học | B75: =SUM(B76:B77) -> 4 | C75: =SUM(C76:C77) -> 4 | D75: =ROUND($C75/$B75*100,1) -> 100 | F75: =SUM(F76:F77) -> 3 | G75: =ROUND($F75/$B75*100,1) -> 75
A76: + Có kiến thức, kỹ năng cơ bản về nghiên cứu khoa học và công nghệ | B76: 2 | C76: 2 | D76: =ROUND($C76/$B76*100,1) -> 100 | E76: Đã học qua môn phương phương nghiên cứu khoa học | F76: 2 | G76: =ROUND($F76/$B76*100,1) -> 100
A77: + Chủ trì hoặc tham gia đề tài nghiên cứu khoa học từ cấp cơ sở trở lên. | B77: 2 | C77: 2 | D77: =ROUND($C77/$B77*100,1) -> 100 | E77: Tham gia nghiên cứu khoa học cấp khoa | F77: 1 | G77: =ROUND($F77/$B77*100,1) -> 50
A78: Tổng số điểm đánh giá | B78: =SUM(B$16,B$30,B$66) -> 88 | C78: =SUM(C$16,C$30,C$66) -> 73.5 | D78: =ROUND($C78/$B78*100,1) -> 83.5 | F78: =SUM(F$16,F$30,F$66) -> 71.5 | G78: =ROUND($F78/$B78*100,1) -> 81.3
A79: Điểm quy đổi | B79: 100 | C79: =(C$78*$B$79/$B$78) -> 83.522727 | D79: =ROUND($C79/$B79*100,1) -> 83.5 | F79: =(F$78*$B$79/$B$78) -> 81.25 | G79: =ROUND($F79/$B79*100,1) -> 81.3
A80: Xếp loại | C80: =IF(AND(D17<50),"Không đạt",IF(AND(D24<50),"Không đạt",IF(AND(D27<50),"Không đạt",IF(AND(D31<50),"Không đạt",IF(AND(D34<50),"Không đạt",IF(AND(D41<50),"Không đạt",IF(AND(D46<50),"Không đạt",IF(AND(D49<50),"Không đạt",IF(AND(D52<50),"Không đạt",IF(AND(D55<50),"Không đạt",IF(AND(D60<50),"Không đạt",IF(AND(D63<50),"Không đạt",IF(AND(D67<50),"Không đạt",IF(AND(D72<50),"Không đạt",IF(AND(D75<50),"Không đạt",IF(AND(C79>=80),"A",IF(AND(C79>=65,C79<79),"B",IF(AND(C79>=50,C78<64),"C","Không đạt")))))))))))))))))) -> A | F80: =IF(AND(G17<50),"Không đạt",IF(AND(G24<50),"Không đạt",IF(AND(G27<50),"Không đạt",IF(AND(G31<50),"Không đạt",IF(AND(G34<50),"Không đạt",IF(AND(G41<50),"Không đạt",IF(AND(G46<50),"Không đạt",IF(AND(G49<50),"Không đạt",IF(AND(G52<50),"Không đạt",IF(AND(G55<50),"Không đạt",IF(AND(G60<50),"Không đạt",IF(AND(G63<50),"Không đạt",IF(AND(G67<50),"Không đạt",IF(AND(G72<50),"Không đạt",IF(AND(G75<50),"Không đạt",IF(AND(F79>=80),"A",IF(AND(F79>=65,F79<79),"B",IF(AND(F79>=50,F78<64),"C","Không đạt")))))))))))))))))) -> A
D81: =C80 -> A
A82: Tp. HCM, ngày 22 tháng 4 năm 2019 | E82: Tp. HCM, ngày 23 tháng 4 năm 2019
A83: Nhà giáo tự đánh giá | F83: Trưởng khoa
A84: (ký và ghi rõ họ, tên) | F84: (ký và ghi rõ họ, tên)
A88: Cao Xuân Giang | F88: Nguyễn Trọng Nghĩa

Sheet TRINH HOANG HIEP
E2: CỘNG HÒA XÃ HỘI CHỦ NGHĨA VIỆT NAM Độc lập - Tự do - Hạnh phúc
A5: PHIẾU ĐÁNH GIÁ, XẾP LOẠI CHUYÊN MÔN, NGHIỆP VỤ CỦA NHÀ GIÁO Năm học 2018-2019
A7: Họ và tên giảng viên: | C7: Trịnh Hoàng Hiệp
A8: Khoa, tổ bộ môn: | C8: Bộ môn Quản trị kinh doanh
A9: Cấp trình độ giảng dạy: | C9: Cao đẳng, trung cấp
A10: Nhiệm vụ được phân công giảng dạy (Lý thuyết, thực hành, tích hợp): Môn lý thuyết và thực hành.
A12: Ghi chú: 1. Nhà giáo chỉ cho điểm vào cột: "Nhà giáo tự cho điểm" và ghi các minh chứng vào cột: Các minh chứng của Nhà giáo. Các ô tô màu Nhà giáo không nhập điểm hoặc không ghi các minh chứng vào các ô đó. 2. Các Trưởng đơn vị cho điểm Nhà giáo thuộc đơn vị quản lý vào các ô màu hồng (sau khi Hội đồng chuyên môn đơn vị tổ chức họp xem xét và chấm điểm).
A14: Các tiêu chí và tiêu chuẩn | B14: Điểm tối đa | C14: Nhà giáo tự đánh giá xếp loại | F14: Khoa đánh giá, xếp loại
C15: Điểm đánh giá đạt được | D15: Tỷ lệ % của điểm đánh giá đạt được so với điểm đánh giá tối đa của mỗi tiêu chuẩn (lấy đến 1 chữ số thập phân, không làm tròn) | E15: Các minh chứng | F15: Điểm đánh giá đạt được | G15: Tỷ lệ % của điểm đánh giá đạt được so với điểm đánh giá tối đa của mỗi tiêu chuẩn(lấy đến 1 chữ số thập phân, không làm tròn) | H15: Các minh chứng
A16: Tiêu chí 1 về Năng lực chuyên môn | B16: =SUM(B$17,B$24,B$24) -> 20 | C16: =SUM(C$17,C$24,C$24) -> 20 | D16: =ROUND($C16/$B16*100,1) -> 100 | F16: =SUM(F$17,F$24,F$24) -> 20 | G16: =ROUND($F16/$B16*100,1) -> 100
A17: - Tiêu chuẩn 1: Trình độ chuyên môn | B17: =SUM(B$18:B$23) -> 12 | C17: =SUM(C$18:C$23) -> 12 | D17: =ROUND($C17/$B17*100,1) -> 100 | F17: =SUM(F$18:F$23) -> 12 | G17: =ROUND($F17/$B17*100,1) -> 100
A18: + Có bằng tốt nghiệp đại học chuyên ngành hoặc đại học sư phạm chuyên ngành trở lên, phù hợp với ngành, nghề giảng dạy và có một trong các chứng chỉ kỹ năng nghề phù hợp với ngành, nghề giảng dạy để dạy thực hành trình độ cao đẳng sau: Chứng chỉ kỹ năng nghề quốc gia Bậc 3 hoặc chứng nhận bậc thợ 5/7, 4/6 trở lên hoặc bằng tốt nghiệp cao đẳng nghề hoặc chứng chỉ kỹ năng thực hành nghề trình độ cao đẳng nghề hoặc tương đương; | B18: 2 | C18: 2 | D18: =ROUND($C18/$B18*100,1) -> 100 | F18: 2 | G18: =ROUND($F18/$B18*100,1) -> 100
A19: + Nắm vững kiến thức ngành, nghề được phân công giảng dạy; | B19: 2 | C19: 2 | D19: =ROUND($C19/$B19*100,1) -> 100 | F19: 2 | G19: =ROUND($F19/$B19*100,1) -> 100
A20: + Có kiến thức về ngành, nghề liên quan; | B20: 2 | C20: 2 | D20: =ROUND($C20/$B20*100,1) -> 100 | F20: 2 | G20: =ROUND($F20/$B20*100,1) -> 100
A21: + Hiểu biết về thực tiễn nghề nghiệp, tiến bộ khoa học kỹ thuật, công nghệ mới và kỹ thuật an toàn, vệ sinh lao động của ngành, nghề được phân công giảng dạy | B21: 2 | C21: 2 | D21: =ROUND($C21/$B21*100,1) -> 100 | F21: 2 | G21: =ROUND($F21/$B21*100,1) -> 100
A22: + Thực hiện thành thạo các kỹ năng của ngành, nghề được phân công giảng dạy | B22: 2 | C22: 2 | D22: =ROUND($C22/$B22*100,1) -> 100 | F22: 2 | G22: =ROUND($F22/$B22*100,1) -> 100
A23: + Tổ chức thành thạo các hoạt động lao động sản xuất, dịch vụ ngành, nghề được phân công giảng dạy | B23: 2 | C23: 2 | D23: =ROUND($C23/$B23*100,1) -> 100 | F23: 2 | G23: =ROUND($F23/$B23*100,1) -> 100
A24: - Tiêu chuẩn 2: Trình độ ngoại ngữ | B24: =SUM(B$25:B$26) -> 4 | C24: =SUM(C$25:C$26) -> 4 | D24: =ROUND($C24/$B24*100,1) -> 100 | F24: =SUM(F$25:F$26) -> 4 | G24: =ROUND($F24/$B24*100,1) -> 100
A25: + Đối vối giáo viên, giảng viên không chuyên ngành ngoại ngữ: Có trình độ ngoại ngữ Bậc 2 (A2) theo quy định tại Thông tư số 01/2014/TT-BGDĐT ngày 24/01/2014 của Bộ Giáo dục và Đào tạo ban hành Khung năng lực ngoại ngữ 6 bậc dùng cho Việt Nam hoặc tương đương trở lên. + Đối với giáo viên, giảng viên chuyên ngành ngoại ngữ (giáo viên, giảng viên tổ Anh văn thuộc Khoa KHCB): Có trình độ ngoại ngữ Bậc 5 (C1) theo quy định tại Thông tư số 01/2014/TT-BGDĐT ngày 24/01/2014 của Bộ Giáo dục và Đào tạo ban hành Khung năng lực ngoại ngữ 6 bậc dùng cho Việt Nam hoặc tương đương trở lên. Và trình độ ngoại ngữ thứ hai phải đạt Bậc 2 (A2) theo quy định tại Thông tư số 01/2014/TT-BGDĐT. | B25: 2 | C25: 2 | D25: =ROUND($C25/$B25*100,1) -> 100 | F25: 2 | G25: =ROUND($F25/$B25*100,1) -> 100
A26: + Đọc và hiểu tài liệu chuyên ngành phục vụ công tác giảng dạy; mô tả được một số công việc cơ bản của ngành, nghề được phân công giảng dạy. | B26: 2 | C26: 2 | D26: =ROUND($C26/$B26*100,1) -> 100 | F26: 2 | G26: =ROUND($F26/$B26*100,1) -> 100
A27: - Tiêu chuẩn 3: Trình độ tin học | B27: =SUM(B$28:B$29) -> 4 | C27: =SUM(C$28:C$29) -> 2 | D27: =ROUND($C27/$B27*100,1) -> 50 | F27: =SUM(F$28:F$29) -> 2 | G27: =ROUND($F27/$B27*100,1) -> 50
A28: + Có trình độ tin học đạt Chuẩn kỹ năng sử dụng công nghệ thông tin cơ bản theo quy định tại Thông tư số 03/2014/TT-BTTTT ngày 11/3/2014 của Bộ Thông tin và Truyền thông quy định Chuẩn kỹ năng sử dụng công nghệ thông tin hoặc tương đương trở lên. | B28: 2 | C28: 2 | D28: =ROUND($C28/$B28*100,1) -> 100 | F28: 2 | G28: =ROUND($F28/$B28*100,1) -> 100
A29: + Sử dụng thành thạo phần mềm dạy học chuyên ngành để thiết kế bài giảng, tài liệu giảng dạy. | B29: 2 | D29: =ROUND($C29/$B29*100,1) -> 0 | G29: =ROUND($F29/$B29*100,1) -> 0
A30: Tiêu chí 2 về Năng lực sư phạm | B30: =SUM(B$31,B$34,B$41,B$46,B$49,B$52,B$55,B$60,B$63) -> 52 | C30: =SUM(C$31,C$34,C$41,C$46,C$49,C$52,C$55,C$60,C$63) -> 52 | D30: =ROUND($C30/$B30*100,1) -> 100 | F30: =SUM(F$31,F$34,F$41,F$46,F$49,F$52,F$55,F$60,F$63) -> 50 | G30: =ROUND($F30/$B30*100,1) -> 96.2
A31: - Tiêu chuẩn 1 về Trình độ nghiệp vụ sư phạm và thời gian tham gia giảng dạy | B31: =SUM(B$32:B$33) -> 4 | C31: =SUM(C$32:C$33) -> 4 | D31: =ROUND($C31/$B31*100,1) -> 100 | F31: =SUM(F$32:F$33) -> 4 | G31: =ROUND($F31/$B31*100,1) -> 100
A32: + Có chứng chỉ sư phạm dạy nghề dạy trình độ trung cấp nghề, cao đẳng nghề hoặc chứng chỉ bồi dưỡng nghiệp vụ sư phạm cho giảng viên đại học, cao đẳng hoặc bằng tốt nghiệp đại học chuyên ngành sư phạm hoặc chứng chỉ nghiệp vụ sư phạm dạy trình độ cao đẳng hoặc tương đương. | B32: 2 | C32: 2 | D32: =ROUND($C32/$B32*100,1) -> 100 | F32: 2 | G32: =ROUND($F32/$B32*100,1) -> 100
A33: + Có thời gian tham gia giảng dạy ít nhất 12 tháng. | B33: 2 | C33: 2 | D33: =ROUND($C33/$B33*100,1) -> 100 | F33: 2 | G33: =ROUND($F33/$B33*100,1) -> 100
A34: - Tiêu chuẩn 2: Chuẩn bị hoạt động giảng dạy | B34: =SUM(B$35:B$40) -> 12 | C34: =SUM(C$35:C$40) -> 12 | D34: =ROUND($C34/$B34*100,1) -> 100 | F34: =SUM(F$35:F$40) -> 11 | G34: =ROUND($F34/$B34*100,1) -> 91.7
A35: + Lập được kế hoạch giảng dạy môn học, mô-đun được phân công trên cơ sở chương trình, kế hoạch đào tạo của cả khóa học. | B35: 2 | C35: 2 | D35: =ROUND($C35/$B35*100,1) -> 100 | F35: 2 | G35: =ROUND($F35/$B35*100,1) -> 100
A36: + Soạn giáo án theo quy định, thể hiện được các hoạt động dạy và học. | B36: 2 | C36: 2 | D36: =ROUND($C36/$B36*100,1) -> 100 | F36: 2 | G36: =ROUND($F36/$B36*100,1) -> 100
A37: + Lựa chọn phương pháp dạy học phù hợp cho các bài học của chương trình môn học, mô-đun được phân công giảng dạy. | B37: 2 | C37: 2 | D37: =ROUND($C37/$B37*100,1) -> 100 | F37: 2 | G37: =ROUND($F37/$B37*100,1) -> 100
A38: + Chuẩn bị đầy đủ các phương tiện dạy học, thiết bị, nguyên, nhiên, vật liệu thực hành cần thiết | B38: 2 | C38: 2 | D38: =ROUND($C38/$B38*100,1) -> 100 | F38: 2 | G38: =ROUND($F38/$B38*100,1) -> 100
A39: + Tự làm các thiết bị dạy học đơn giản để phục vụ giảng dạy | B39: 2 | C39: 2 | D39: =ROUND($C39/$B39*100,1) -> 100 | F39: 2 | G39: =ROUND($F39/$B39*100,1) -> 100
A40: + Chủ trì hoặc tham gia thiết kế và bố trí trang thiết bị dạy học của phòng học chuyên môn phù hợp với chương trình của ngành, nghề được phân công giảng dạy. | B40: 2 | C40: 2 | D40: =ROUND($C40/$B40*100,1) -> 100 | F40: 1 | G40: =ROUND($F40/$B40*100,1) -> 50
A41: - Tiêu chuẩn 3: Thực hiện hoạt động giảng dạy | B41: =SUM(B$42:B$45) -> 8 | C41: =SUM(C$42:C$45) -> 8 | D41: =ROUND($C41/$B41*100,1) -> 100 | F41: =SUM(F$42:F$45) -> 8 | G41: =ROUND($F41/$B41*100,1) -> 100
A42: + Tổ chức dạy học phù hợp với ngành, nghề đào tạo và với từng đối tượng người học; thực hiện đầy đủ kế hoạch giảng dạy, đúng chương trình, nội dung. | B42: 2 | C42: 2 | D42: =ROUND($C42/$B42*100,1) -> 100 | F42: 2 | G42: =ROUND($F42/$B42*100,1) -> 100
A43: + Thực hiện các giờ dạy lý thuyết, thực hành, tích hợp theo quy định | B43: 2 | C43: 2 | D43: =ROUND($C43/$B43*100,1) -> 100 | F43: 2 | G43: =ROUND($F43/$B43*100,1) -> 100
A44: + Vận dụng, kết hợp các phương pháp dạy học để phát huy tính tích cực, sáng tạo, phát triển năng lực tự học của người học | B44: 2 | C44: 2 | D44: =ROUND($C44/$B44*100,1) -> 100 | F44: 2 | G44: =ROUND($F44/$B44*100,1) -> 100
A45: + Sử dụng thành thạo các phương tiện, thiết bị dạy học để nâng cao hiệu quả giảng dạy, đảm bảo chất lượng giáo dục nghề nghiệp | B45: 2 | C45: 2 | D45: =ROUND($C45/$B45*100,1) -> 100 | F45: 2 | G45: =ROUND($F45/$B45*100,1) -> 100
A46: - Tiêu chuẩn 4: Kiểm tra, đánh giá kết quả học tập của người học | B46: =SUM(B$47:B$48) -> 4 | C46: =SUM(C$47:C$48) -> 4 | D46: =ROUND($C46/$B46*100,1) -> 100 | F46: =SUM(F$47:F$48) -> 4 | G46: =ROUND($F46/$B46*100,1) -> 100
A47: + Lựa chọn và thiết kế các công cụ kiểm tra, đánh giá kết quả học tập của người học phù hợp với môn học, mô-đun được phân công giảng dạy. | B47: 2 | C47: 2 | D47: =ROUND($C47/$B47*100,1) -> 100 | F47: 2 | G47: =ROUND($F47/$B47*100,1) -> 100
A48: + Thực hiện việc kiểm tra, đánh giá toàn diện, chính xác, mang tính giáo dục và đúng quy định; sử dụng kết quả kiểm tra, đánh giá để điều chỉnh hoạt động dạy và học | B48: 2 | C48: 2 | D48: =ROUND($C48/$B48*100,1) -> 100 | F48: 2 | G48: =ROUND($F48/$B48*100,1) -> 100
A49: - Tiêu chuẩn 5: Quản lý hồ sơ dạy học | B49: =SUM(B$50:B$51) -> 4 | C49: =SUM(C$50:C$51) -> 4 | D49: =ROUND($C49/$B49*100,1) -> 100 | F49: =SUM(F$50:F$51) -> 4 | G49: =ROUND($F49/$B49*100,1) -> 100
A50: + Thực hiện đầy đủ các quy định về sử dụng biểu mẫu, sổ sách, hồ sơ dạy học. | B50: 2 | C50: 2 | D50: =ROUND($C50/$B50*100,1) -> 100 | F50: 2 | G50: =ROUND($F50/$B50*100,1) -> 100
A51: + Bảo quản, lưu trữ, sử dụng hồ sơ dạy học theo quy định | B51: 2 | C51: 2 | D51: =ROUND($C51/$B51*100,1) -> 100 | F51: 2 | G51: =ROUND($F51/$B51*100,1) -> 100
A52: - Tiêu chuẩn 6: Xây dựng chương trình, biên soạn giáo trình, tài liệu giảng dạy | B52: =SUM(B$53:B$54) -> 4 | C52: =SUM(C$53:C$54) -> 4 | D52: =ROUND($C52/$B52*100,1) -> 100 | F52: =SUM(F$53:F$54) -> 4 | G52: =ROUND($F52/$B52*100,1) -> 100
A53: + Nắm được căn cứ, nguyên tắc, yêu cầu và quy trình xây dựng chương trình đào tạo trình độ cao đẳng. | B53: 2 | C53: 2 | D53: =ROUND($C53/$B53*100,1) -> 100 | F53: 2 | G53: =ROUND($F53/$B53*100,1) -> 100
A54: + Chủ trì hoặc tham gia biên soạn, chỉnh lý chương trình, giáo trình, tài liệu đào tạo trình độ cao đẳng; chương trình bồi dưỡng nghề nghiệp. | B54: 2 | C54: 2 | D54: =ROUND($C54/$B54*100,1) -> 100 | F54: 2 | G54: =ROUND($F54/$B54*100,1) -> 100
A55: - Tiêu chuẩn 7 về Xây dựng kế hoạch, thực hiện các hoạt động giáo dục | B55: =SUM(B$56:B$59) -> 8 | C55: =SUM(C$56:C$59) -> 8 | D55: =ROUND($C55/$B55*100,1) -> 100 | F55: =SUM(F$56:F$59) -> 8 | G55: =ROUND($F55/$B55*100,1) -> 100
A56: + Xây dựng được kế hoạch giáo dục người học thông qua giảng dạy và qua các hoạt động khác | B56: 2 | C56: 2 | D56: =ROUND($C56/$B56*100,1) -> 100 | F56: 2 | G56: =ROUND($F56/$B56*100,1) -> 100
A57: + Thực hiện việc giáo dục đạo đức nghề nghiệp, thái độ nghề nghiệp thông qua việc giảng dạy môn học, mô-đun theo kế hoạch đã xây dựng. | B57: 2 | C57: 2 | D57: =ROUND($C57/$B57*100,1) -> 100 | F57: 2 | G57: =ROUND($F57/$B57*100,1) -> 100
A58: + Vận dụng các hiểu biết về tâm lý, giáo dục vào thực hiện hoạt động giáo dục người học | B58: 2 | C58: 2 | D58: =ROUND($C58/$B58*100,1) -> 100 | F58: 2 | G58: =ROUND($F58/$B58*100,1) -> 100
A59: + Đánh giá kết quả các mặt rèn luyện đạo đức của người học theo quy định một cách chính xác, công bằng và có tác dụng giáo dục | B59: 2 | C59: 2 | D59: =ROUND($C59/$B59*100,1) -> 100 | F59: 2 | G59: =ROUND($F59/$B59*100,1) -> 100
A60: - Tiêu chuẩn 8: Quản lý người học, xây dựng môi trường giáo dục, học tập | B60: =SUM(B$61:B$62) -> 4 | C60: =SUM(C$61:C$62) -> 4 | D60: =ROUND($C60/$B60*100,1) -> 100 | F60: =SUM(F$61:F$62) -> 4 | G60: =ROUND($F60/$B60*100,1) -> 100
A61: + Quản lý được các thông tin liên quan đến người học và sử dụng hiệu quả các thông tin vào giáo dục, dạy học, quản lý người học | B61: 2 | C61: 2 | D61: =ROUND($C61/$B61*100,1) -> 100 | F61: 2 | G61: =ROUND($F61/$B61*100,1) -> 100
A62: + Xây dựng môi trường giáo dục, học tập lành mạnh, thuận lợi, dân chủ, hợp tác | B62: 2 | C62: 2 | D62: =ROUND($C62/$B62*100,1) -> 100 | F62: 2 | G62: =ROUND($F62/$B62*100,1) -> 100
A63: - Tiêu chuẩn 9: Hoạt động xã hội | B63: =SUM(B$64:B$65) -> 4 | C63: =SUM(C$64:C$65) -> 4 | D63: =ROUND($C63/$B63*100,1) -> 100 | F63: =SUM(F$64:F$65) -> 3 | G63: =ROUND($F63/$B63*100,1) -> 75
A64: + Phối hợp với gia đình người học và cộng đồng động viên, hỗ trợ, giám sát việc học tập, rèn luyện của người học; góp phần huy động các nguồn lực xã hội xây dựng, phát triển cơ sở hoạt động giáo dục nghề nghiệp. | B64: 2 | C64: 2 | D64: =ROUND($C64/$B64*100,1) -> 100 | F64: 1 | G64: =ROUND($F64/$B64*100,1) -> 50
A65: + Tham gia các hoạt động xã hội trong và ngoài cơ sở hoạt động giáo dục nghề nghiệp, xây dựng quan hệ giữa cơ sở hoạt động giáo dục nghề nghiệp với doanh nghiệp nhằm phát triển cơ sở hoạt động giáo dục nghề nghiệp, cộng đồng; xây dựng phong trào học nghề lập nghiệp trong xã hội | B65: 2 | C65: 2 | D65: =ROUND($C65/$B65*100,1) -> 100 | F65: 2 | G65: =ROUND($F65/$B65*100,1) -> 100
A66: Tiêu chí 3 về Năng lực phát triển nghề nghiệp, nghiên cứu khoa học | B66: =SUM(B$67,B$72,B$75) -> 16 | C66: =SUM(C$67,C$72,C$75) -> 10 | D66: =ROUND($C66/$B66*100,1) -> 62.5 | F66: =SUM(F$67,F$72,F$75) -> 10 | G66: =ROUND($F66/$B66*100,1) -> 62.5
A67: - Tiêu chuẩn 1: Học tập, bồi dưỡng nâng cao | B67: =SUM(B$68:B$71) -> 8 | C67: =SUM(C$68:C$71) -> 6 | D67: =ROUND($C67/$B67*100,1) -> 75 | F67: =SUM(F$68:F$71) -> 6 | G67: =ROUND($F67/$B67*100,1) -> 75
A68: + Thường xuyên dự giờ, trao đổi kinh nghiệm giảng dạy, giáo dục với đồng nghiệp; tham gia bồi dưỡng đồng nghiệp theo yêu cầu phát triển của phòng, khoa, tổ bộ môn | B68: 2 | C68: 2 | D68: =ROUND($C68/$B68*100,1) -> 100 | F68: 2 | G68: =ROUND($F68/$B68*100,1) -> 100
A69: + Tham gia hội giảng các cấp | B69: 2 | D69: =ROUND($C69/$B69*100,1) -> 0 | G69: =ROUND($F69/$B69*100,1) -> 0
A70: + Thường xuyên tự học tập, bồi dưỡng, rèn luyện nâng cao trình độ chuyên môn, nghiệp vụ, phẩm chất đạo đức nghề nghiệp | B70: 2 | C70: 2 | D70: =ROUND($C70/$B70*100,1) -> 100 | F70: 2 | G70: =ROUND($F70/$B70*100,1) -> 100
A71: + Tham gia các khóa đào tạo, bồi dưỡng nâng cao trình độ, cập nhật kiến thức, kỹ năng nghề, công nghệ, phương pháp giảng dạy đáp ứng yêu cầu của giáo dục nghề nghiệp. | B71: 2 | C71: 2 | D71: =ROUND($C71/$B71*100,1) -> 100 | F71: 2 | G71: =ROUND($F71/$B71*100,1) -> 100
A72: - Tiêu chuẩn 2: Phát triển năng lực nghề nghiệp cho người học | B72: =SUM(B73:B74) -> 4 | C72: =SUM(C73:C74) -> 2 | D72: =ROUND($C72/$B72*100,1) -> 50 | F72: =SUM(F73:F74) -> 2 | G72: =ROUND($F72/$B72*100,1) -> 50
A73: + Hướng dẫn thực tập kết hợp với thực tiễn nghề nghiệp | B73: 2 | C73: 2 | D73: =ROUND($C73/$B73*100,1) -> 100 | F73: 2 | G73: =ROUND($F73/$B73*100,1) -> 100
A74: + Tham gia bồi dưỡng nâng cao, luyện tay nghề cho học sinh, sinh viên giỏi các cấp | B74: 2 | D74: =ROUND($C74/$B74*100,1) -> 0 | G74: =ROUND($F74/$B74*100,1) -> 0
A75: - Tiêu chuẩn 3: Nghiên cứu khoa học | B75: =SUM(B76:B77) -> 4 | C75: =SUM(C76:C77) -> 2 | D75: =ROUND($C75/$B75*100,1) -> 50 | F75: =SUM(F76:F77) -> 2 | G75: =ROUND($F75/$B75*100,1) -> 50
A76: + Có kiến thức, kỹ năng cơ bản về nghiên cứu khoa học và công nghệ | B76: 2 | C76: 2 | D76: =ROUND($C76/$B76*100,1) -> 100 | F76: 2 | G76: =ROUND($F76/$B76*100,1) -> 100
A77: + Chủ trì hoặc tham gia đề tài nghiên cứu khoa học từ cấp cơ sở trở lên. | B77: 2 | D77: =ROUND($C77/$B77*100,1) -> 0 | G77: =ROUND($F77/$B77*100,1) -> 0
A78: Tổng số điểm đánh giá | B78: =SUM(B$16,B$30,B$66) -> 88 | C78: =SUM(C$16,C$30,C$66) -> 82 | D78: =ROUND($C78/$B78*100,1) -> 93.2 | F78: =SUM(F$16,F$30,F$66) -> 80 | G78: =ROUND($F78/$B78*100,1) -> 90.9
A79: Điểm quy đổi | B79: 100 | C79: =(C$78*$B$79/$B$78) -> 93.181818 | D79: =ROUND($C79/$B79*100,1) -> 93.2 | F79: =(F$78*$B$79/$B$78) -> 90.909091 | G79: =ROUND($F79/$B79*100,1) -> 90.9
A80: Xếp loại | C80: =IF(AND(D17<50),"Không đạt",IF(AND(D24<50),"Không đạt",IF(AND(D27<50),"Không đạt",IF(AND(D31<50),"Không đạt",IF(AND(D34<50),"Không đạt",IF(AND(D41<50),"Không đạt",IF(AND(D46<50),"Không đạt",IF(AND(D49<50),"Không đạt",IF(AND(D52<50),"Không đạt",IF(AND(D55<50),"Không đạt",IF(AND(D60<50),"Không đạt",IF(AND(D63<50),"Không đạt",IF(AND(D67<50),"Không đạt",IF(AND(D72<50),"Không đạt",IF(AND(D75<50),"Không đạt",IF(AND(C79>=80),"A",IF(AND(C79>=65,C79<79),"B",IF(AND(C79>=50,C78<64),"C","Không đạt")))))))))))))))))) -> A | F80: =IF(AND(G17<50),"Không đạt",IF(AND(G24<50),"Không đạt",IF(AND(G27<50),"Không đạt",IF(AND(G31<50),"Không đạt",IF(AND(G34<50),"Không đạt",IF(AND(G41<50),"Không đạt",IF(AND(G46<50),"Không đạt",IF(AND(G49<50),"Không đạt",IF(AND(G52<50),"Không đạt",IF(AND(G55<50),"Không đạt",IF(AND(G60<50),"Không đạt",IF(AND(G63<50),"Không đạt",IF(AND(G67<50),"Không đạt",IF(AND(G72<50),"Không đạt",IF(AND(G75<50),"Không đạt",IF(AND(F79>=80),"A",IF(AND(F79>=65,F79<79),"B",IF(AND(F79>=50,F78<64),"C","Không đạt")))))))))))))))))) -> A
D81: =C80 -> A
A82: Tp. HCM, ngày 23 tháng 4 năm 2019 | E82: Tp. HCM, ngày 23 tháng 4 năm 2019
A83: Nhà giáo tự đánh giá | F83: Trưởng khoa
A84: (ký và ghi rõ họ, tên) | F84: (ký và ghi rõ họ, tên)
A88: Trịnh Hoàng Hiệp | F88: Nguyễn Trọng Nghĩa

Sheet PHAM QUYNH NHU
D2: CỘNG HÒA XÃ HỘI CHỦ NGHĨA VIỆT NAM Độc lập - Tự do - Hạnh phúc
A5: PHIẾU ĐÁNH GIÁ, XẾP LOẠI CHUYÊN MÔN, NGHIỆP VỤ CỦA NHÀ GIÁO Năm học 2018-2019
A7: Họ và tên giảng viên: | C7: Phạm Quỳnh Như
A8: Khoa, tổ bộ môn: Tổ kế toán- Khoa Kinh tế
A9: Cấp trình độ giảng dạy: Trung cấp và cao đẳng
A10: Nhiệm vụ được phân công giảng dạy (Lý thuyết, thực hành, tích hợp): Lý thuyết, thực hành, tổng hợp
A12: Ghi chú: 1. Nhà giáo chỉ cho điểm vào cột: "Nhà giáo tự cho điểm" và ghi các minh chứng vào cột: Các minh chứng của Nhà giáo. Các ô tô màu Nhà giáo không nhập điểm hoặc không ghi các minh chứng vào các ô đó. 2. Các Trưởng đơn vị cho điểm Nhà giáo thuộc đơn vị quản lý vào các ô màu hồng (sau khi Hội đồng chuyên môn đơn vị tổ chức họp xem xét và chấm điểm).
A14: Các tiêu chí và tiêu chuẩn | B14: Điểm tối đa | C14: Nhà giáo tự đánh giá xếp loại | F14: Khoa đánh giá, xếp loại
C15: Điểm đánh giá đạt được | D15: Tỷ lệ % của điểm đánh giá đạt được so với điểm đánh giá tối đa của mỗi tiêu chuẩn (lấy đến 1 chữ số thập phân, không làm tròn) | E15: Các minh chứng | F15: Điểm đánh giá đạt được | G15: Tỷ lệ % của điểm đánh giá đạt được so với điểm đánh giá tối đa của mỗi tiêu chuẩn(lấy đến 1 chữ số thập phân, không làm tròn) | H15: Các minh chứng
A16: Tiêu chí 1 về Năng lực chuyên môn | B16: =SUM(B$17,B$24,B$24) -> 20 | C16: =SUM(C$17,C$24,C$24) -> 20 | D16: =ROUND($C16/$B16*100,1) -> 100 | F16: =SUM(F$17,F$24,F$24) -> 20 | G16: =ROUND($F16/$B16*100,1) -> 100
A17: - Tiêu chuẩn 1: Trình độ chuyên môn | B17: =SUM(B$18:B$23) -> 12 | C17: =SUM(C$18:C$23) -> 12 | D17: =ROUND($C17/$B17*100,1) -> 100 | F17: =SUM(F$18:F$23) -> 12 | G17: =ROUND($F17/$B17*100,1) -> 100
A18: + Có bằng tốt nghiệp đại học chuyên ngành hoặc đại học sư phạm chuyên ngành trở lên, phù hợp với ngành, nghề giảng dạy và có một trong các chứng chỉ kỹ năng nghề phù hợp với ngành, nghề giảng dạy để dạy thực hành trình độ cao đẳng sau: Chứng chỉ kỹ năng nghề quốc gia Bậc 3 hoặc chứng nhận bậc thợ 5/7, 4/6 trở lên hoặc bằng tốt nghiệp cao đẳng nghề hoặc chứng chỉ kỹ năng thực hành nghề trình độ cao đẳng nghề hoặc tương đương; | B18: 2 | C18: 2 | D18: =ROUND($C18/$B18*100,1) -> 100 | F18: 2 | G18: =ROUND($F18/$B18*100,1) -> 100
A19: + Nắm vững kiến thức ngành, nghề được phân công giảng dạy; | B19: 2 | C19: 2 | D19: =ROUND($C19/$B19*100,1) -> 100 | F19: 2 | G19: =ROUND($F19/$B19*100,1) -> 100
A20: + Có kiến thức về ngành, nghề liên quan; | B20: 2 | C20: 2 | D20: =ROUND($C20/$B20*100,1) -> 100 | F20: 2 | G20: =ROUND($F20/$B20*100,1) -> 100
A21: + Hiểu biết về thực tiễn nghề nghiệp, tiến bộ khoa học kỹ thuật, công nghệ mới và kỹ thuật an toàn, vệ sinh lao động của ngành, nghề được phân công giảng dạy | B21: 2 | C21: 2 | D21: =ROUND($C21/$B21*100,1) -> 100 | F21: 2 | G21: =ROUND($F21/$B21*100,1) -> 100
A22: + Thực hiện thành thạo các kỹ năng của ngành, nghề được phân công giảng dạy | B22: 2 | C22: 2 | D22: =ROUND($C22/$B22*100,1) -> 100 | F22: 2 | G22: =ROUND($F22/$B22*100,1) -> 100
A23: + Tổ chức thành thạo các hoạt động lao động sản xuất, dịch vụ ngành, nghề được phân công giảng dạy | B23: 2 | C23: 2 | D23: =ROUND($C23/$B23*100,1) -> 100 | F23: 2 | G23: =ROUND($F23/$B23*100,1) -> 100
A24: - Tiêu chuẩn 2: Trình độ ngoại ngữ | B24: =SUM(B$25:B$26) -> 4 | C24: =SUM(C$25:C$26) -> 4 | D24: =ROUND($C24/$B24*100,1) -> 100 | F24: =SUM(F$25:F$26) -> 4 | G24: =ROUND($F24/$B24*100,1) -> 100
A25: + Đối vối giáo viên, giảng viên không chuyên ngành ngoại ngữ: Có trình độ ngoại ngữ Bậc 2 (A2) theo quy định tại Thông tư số 01/2014/TT-BGDĐT ngày 24/01/2014 của Bộ Giáo dục và Đào tạo ban hành Khung năng lực ngoại ngữ 6 bậc dùng cho Việt Nam hoặc tương đương trở lên. + Đối với giáo viên, giảng viên chuyên ngành ngoại ngữ (giáo viên, giảng viên tổ Anh văn thuộc Khoa KHCB): Có trình độ ngoại ngữ Bậc 5 (C1) theo quy định tại Thông tư số 01/2014/TT-BGDĐT ngày 24/01/2014 của Bộ Giáo dục và Đào tạo ban hành Khung năng lực ngoại ngữ 6 bậc dùng cho Việt Nam hoặc tương đương trở lên. Và trình độ ngoại ngữ thứ hai phải đạt Bậc 2 (A2) theo quy định tại Thông tư số 01/2014/TT-BGDĐT. | B25: 2 | C25: 2 | D25: =ROUND($C25/$B25*100,1) -> 100 | F25: 2 | G25: =ROUND($F25/$B25*100,1) -> 100
A26: + Đọc và hiểu tài liệu chuyên ngành phục vụ công tác giảng dạy; mô tả được một số công việc cơ bản của ngành, nghề được phân công giảng dạy. | B26: 2 | C26: 2 | D26: =ROUND($C26/$B26*100,1) -> 100 | F26: 2 | G26: =ROUND($F26/$B26*100,1) -> 100
A27: - Tiêu chuẩn 3: Trình độ tin học | B27: =SUM(B$28:B$29) -> 4 | C27: =SUM(C$28:C$29) -> 4 | D27: =ROUND($C27/$B27*100,1) -> 100 | F27: =SUM(F$28:F$29) -> 4 | G27: =ROUND($F27/$B27*100,1) -> 100
A28: + Có trình độ tin học đạt Chuẩn kỹ năng sử dụng công nghệ thông tin cơ bản theo quy định tại Thông tư số 03/2014/TT-BTTTT ngày 11/3/2014 của Bộ Thông tin và Truyền thông quy định Chuẩn kỹ năng sử dụng công nghệ thông tin hoặc tương đương trở lên. | B28: 2 | C28: 2 | D28: =ROUND($C28/$B28*100,1) -> 100 | F28: 2 | G28: =ROUND($F28/$B28*100,1) -> 100
A29: + Sử dụng thành thạo phần mềm dạy học chuyên ngành để thiết kế bài giảng, tài liệu giảng dạy. | B29: 2 | C29: 2 | D29: =ROUND($C29/$B29*100,1) -> 100 | F29: 2 | G29: =ROUND($F29/$B29*100,1) -> 100
A30: Tiêu chí 2 về Năng lực sư phạm | B30: =SUM(B$31,B$34,B$41,B$46,B$49,B$52,B$55,B$60,B$63) -> 52 | C30: =SUM(C$31,C$34,C$41,C$46,C$49,C$52,C$55,C$60,C$63) -> 51 | D30: =ROUND($C30/$B30*100,1) -> 98.1 | F30: =SUM(F$31,F$34,F$41,F$46,F$49,F$52,F$55,F$60,F$63) -> 48 | G30: =ROUND($F30/$B30*100,1) -> 92.3
A31: - Tiêu chuẩn 1 về Trình độ nghiệp vụ sư phạm và thời gian tham gia giảng dạy | B31: =SUM(B$32:B$33) -> 4 | C31: =SUM(C$32:C$33) -> 4 | D31: =ROUND($C31/$B31*100,1) -> 100 | F31: =SUM(F$32:F$33) -> 4 | G31: =ROUND($F31/$B31*100,1) -> 100
A32: + Có chứng chỉ sư phạm dạy nghề dạy trình độ trung cấp nghề, cao đẳng nghề hoặc chứng chỉ bồi dưỡng nghiệp vụ sư phạm cho giảng viên đại học, cao đẳng hoặc bằng tốt nghiệp đại học chuyên ngành sư phạm hoặc chứng chỉ nghiệp vụ sư phạm dạy trình độ cao đẳng hoặc tương đương. | B32: 2 | C32: 2 | D32: =ROUND($C32/$B32*100,1) -> 100 | F32: 2 | G32: =ROUND($F32/$B32*100,1) -> 100
A33: + Có thời gian tham gia giảng dạy ít nhất 12 tháng. | B33: 2 | C33: 2 | D33: =ROUND($C33/$B33*100,1) -> 100 | F33: 2 | G33: =ROUND($F33/$B33*100,1) -> 100
A34: - Tiêu chuẩn 2: Chuẩn bị hoạt động giảng dạy | B34: =SUM(B$35:B$40) -> 12 | C34: =SUM(C$35:C$40) -> 12 | D34: =ROUND($C34/$B34*100,1) -> 100 | F34: =SUM(F$35:F$40) -> 11 | G34: =ROUND($F34/$B34*100,1) -> 91.7
A35: + Lập được kế hoạch giảng dạy môn học, mô-đun được phân công trên cơ sở chương trình, kế hoạch đào tạo của cả khóa học. | B35: 2 | C35: 2 | D35: =ROUND($C35/$B35*100,1) -> 100 | F35: 2 | G35: =ROUND($F35/$B35*100,1) -> 100
A36: + Soạn giáo án theo quy định, thể hiện được các hoạt động dạy và học. | B36: 2 | C36: 2 | D36: =ROUND($C36/$B36*100,1) -> 100 | F36: 2 | G36: =ROUND($F36/$B36*100,1) -> 100
A37: + Lựa chọn phương pháp dạy học phù hợp cho các bài học của chương trình môn học, mô-đun được phân công giảng dạy. | B37: 2 | C37: 2 | D37: =ROUND($C37/$B37*100,1) -> 100 | F37: 2 | G37: =ROUND($F37/$B37*100,1) -> 100
A38: + Chuẩn bị đầy đủ các phương tiện dạy học, thiết bị, nguyên, nhiên, vật liệu thực hành cần thiết | B38: 2 | C38: 2 | D38: =ROUND($C38/$B38*100,1) -> 100 | F38: 2 | G38: =ROUND($F38/$B38*100,1) -> 100
A39: + Tự làm các thiết bị dạy học đơn giản để phục vụ giảng dạy | B39: 2 | C39: 2 | D39: =ROUND($C39/$B39*100,1) -> 100 | F39: 2 | G39: =ROUND($F39/$B39*100,1) -> 100
A40: + Chủ trì hoặc tham gia thiết kế và bố trí trang thiết bị dạy học của phòng học chuyên môn phù hợp với chương trình của ngành, nghề được phân công giảng dạy. | B40: 2 | C40: 2 | D40: =ROUND($C40/$B40*100,1) -> 100 | F40: 1 | G40: =ROUND($F40/$B40*100,1) -> 50
A41: - Tiêu chuẩn 3: Thực hiện hoạt động giảng dạy | B41: =SUM(B$42:B$45) -> 8 | C41: =SUM(C$42:C$45) -> 8 | D41: =ROUND($C41/$B41*100,1) -> 100 | F41: =SUM(F$42:F$45) -> 8 | G41: =ROUND($F41/$B41*100,1) -> 100
A42: + Tổ chức dạy học phù hợp với ngành, nghề đào tạo và với từng đối tượng người học; thực hiện đầy đủ kế hoạch giảng dạy, đúng chương trình, nội dung. | B42: 2 | C42: 2 | D42: =ROUND($C42/$B42*100,1) -> 100 | F42: 2 | G42: =ROUND($F42/$B42*100,1) -> 100
A43: + Thực hiện các giờ dạy lý thuyết, thực hành, tích hợp theo quy định | B43: 2 | C43: 2 | D43: =ROUND($C43/$B43*100,1) -> 100 | F43: 2 | G43: =ROUND($F43/$B43*100,1) -> 100
A44: + Vận dụng, kết hợp các phương pháp dạy học để phát huy tính tích cực, sáng tạo, phát triển năng lực tự học của người học | B44: 2 | C44: 2 | D44: =ROUND($C44/$B44*100,1) -> 100 | F44: 2 | G44: =ROUND($F44/$B44*100,1) -> 100
A45: + Sử dụng thành thạo các phương tiện, thiết bị dạy học để nâng cao hiệu quả giảng dạy, đảm bảo chất lượng giáo dục nghề nghiệp | B45: 2 | C45: 2 | D45: =ROUND($C45/$B45*100,1) -> 100 | F45: 2 | G45: =ROUND($F45/$B45*100,1) -> 100
A46: - Tiêu chuẩn 4: Kiểm tra, đánh giá kết quả học tập của người học | B46: =SUM(B$47:B$48) -> 4 | C46: =SUM(C$47:C$48) -> 4 | D46: =ROUND($C46/$B46*100,1) -> 100 | F46: =SUM(F$47:F$48) -> 4 | G46: =ROUND($F46/$B46*100,1) -> 100
A47: + Lựa chọn và thiết kế các công cụ kiểm tra, đánh giá kết quả học tập của người học phù hợp với môn học, mô-đun được phân công giảng dạy. | B47: 2 | C47: 2 | D47: =ROUND($C47/$B47*100,1) -> 100 | F47: 2 | G47: =ROUND($F47/$B47*100,1) -> 100
A48: + Thực hiện việc kiểm tra, đánh giá toàn diện, chính xác, mang tính giáo dục và đúng quy định; sử dụng kết quả kiểm tra, đánh giá để điều chỉnh hoạt động dạy và học | B48: 2 | C48: 2 | D48: =ROUND($C48/$B48*100,1) -> 100 | F48: 2 | G48: =ROUND($F48/$B48*100,1) -> 100
A49: - Tiêu chuẩn 5: Quản lý hồ sơ dạy học | B49: =SUM(B$50:B$51) -> 4 | C49: =SUM(C$50:C$51) -> 4 | D49: =ROUND($C49/$B49*100,1) -> 100 | F49: =SUM(F$50:F$51) -> 3 | G49: =ROUND($F49/$B49*100,1) -> 75
A50: + Thực hiện đầy đủ các quy định về sử dụng biểu mẫu, sổ sách, hồ sơ dạy học. | B50: 2 | C50: 2 | D50: =ROUND($C50/$B50*100,1) -> 100 | F50: 1 | G50: =ROUND($F50/$B50*100,1) -> 50
A51: + Bảo quản, lưu trữ, sử dụng hồ sơ dạy học theo quy định | B51: 2 | C51: 2 | D51: =ROUND($C51/$B51*100,1) -> 100 | F51: 2 | G51: =ROUND($F51/$B51*100,1) -> 100
A52: - Tiêu chuẩn 6: Xây dựng chương trình, biên soạn giáo trình, tài liệu giảng dạy | B52: =SUM(B$53:B$54) -> 4 | C52: =SUM(C$53:C$54) -> 3 | D52: =ROUND($C52/$B52*100,1) -> 75 | F52: =SUM(F$53:F$54) -> 3 | G52: =ROUND($F52/$B52*100,1) -> 75
A53: + Nắm được căn cứ, nguyên tắc, yêu cầu và quy trình xây dựng chương trình đào tạo trình độ cao đẳng. | B53: 2 | C53: 2 | D53: =ROUND($C53/$B53*100,1) -> 100 | F53: 2 | G53: =ROUND($F53/$B53*100,1) -> 100
A54: + Chủ trì hoặc tham gia biên soạn, chỉnh lý chương trình, giáo trình, tài liệu đào tạo trình độ cao đẳng; chương trình bồi dưỡng nghề nghiệp. | B54: 2 | C54: 1 | D54: =ROUND($C54/$B54*100,1) -> 50 | F54: 1 | G54: =ROUND($F54/$B54*100,1) -> 50
A55: - Tiêu chuẩn 7 về Xây dựng kế hoạch, thực hiện các hoạt động giáo dục | B55: =SUM(B$56:B$59) -> 8 | C55: =SUM(C$56:C$59) -> 8 | D55: =ROUND($C55/$B55*100,1) -> 100 | F55: =SUM(F$56:F$59) -> 8 | G55: =ROUND($F55/$B55*100,1) -> 100
A56: + Xây dựng được kế hoạch giáo dục người học thông qua giảng dạy và qua các hoạt động khác | B56: 2 | C56: 2 | D56: =ROUND($C56/$B56*100,1) -> 100 | F56: 2 | G56: =ROUND($F56/$B56*100,1) -> 100
A57: + Thực hiện việc giáo dục đạo đức nghề nghiệp, thái độ nghề nghiệp thông qua việc giảng dạy môn học, mô-đun theo kế hoạch đã xây dựng. | B57: 2 | C57: 2 | D57: =ROUND($C57/$B57*100,1) -> 100 | F57: 2 | G57: =ROUND($F57/$B57*100,1) -> 100
A58: + Vận dụng các hiểu biết về tâm lý, giáo dục vào thực hiện hoạt động giáo dục người học | B58: 2 | C58: 2 | D58: =ROUND($C58/$B58*100,1) -> 100 | F58: 2 | G58: =ROUND($F58/$B58*100,1) -> 100
A59: + Đánh giá kết quả các mặt rèn luyện đạo đức của người học theo quy định một cách chính xác, công bằng và có tác dụng giáo dục | B59: 2 | C59: 2 | D59: =ROUND($C59/$B59*100,1) -> 100 | F59: 2 | G59: =ROUND($F59/$B59*100,1) -> 100
A60: - Tiêu chuẩn 8: Quản lý người học, xây dựng môi trường giáo dục, học tập | B60: =SUM(B$61:B$62) -> 4 | C60: =SUM(C$61:C$62) -> 4 | D60: =ROUND($C60/$B60*100,1) -> 100 | F60: =SUM(F$61:F$62) -> 4 | G60: =ROUND($F60/$B60*100,1) -> 100
A61: + Quản lý được các thông tin liên quan đến người học và sử dụng hiệu quả các thông tin vào giáo dục, dạy học, quản lý người học | B61: 2 | C61: 2 | D61: =ROUND($C61/$B61*100,1) -> 100 | F61: 2 | G61: =ROUND($F61/$B61*100,1) -> 100
A62: + Xây dựng môi trường giáo dục, học tập lành mạnh, thuận lợi, dân chủ, hợp tác | B62: 2 | C62: 2 | D62: =ROUND($C62/$B62*100,1) -> 100 | F62: 2 | G62: =ROUND($F62/$B62*100,1) -> 100
A63: - Tiêu chuẩn 9: Hoạt động xã hội | B63: =SUM(B$64:B$65) -> 4 | C63: =SUM(C$64:C$65) -> 4 | D63: =ROUND($C63/$B63*100,1) -> 100 | F63: =SUM(F$64:F$65) -> 3 | G63: =ROUND($F63/$B63*100,1) -> 75
A64: + Phối hợp với gia đình người học và cộng đồng động viên, hỗ trợ, giám sát việc học tập, rèn luyện của người học; góp phần huy động các nguồn lực xã hội xây dựng, phát triển cơ sở hoạt động giáo dục nghề nghiệp. | B64: 2 | C64: 2 | D64: =ROUND($C64/$B64*100,1) -> 100 | F64: 2 | G64: =ROUND($F64/$B64*100,1) -> 100
A65: + Tham gia các hoạt động xã hội trong và ngoài cơ sở hoạt động giáo dục nghề nghiệp, xây dựng quan hệ giữa cơ sở hoạt động giáo dục nghề nghiệp với doanh nghiệp nhằm phát triển cơ sở hoạt động giáo dục nghề nghiệp, cộng đồng; xây dựng phong trào học nghề lập nghiệp trong xã hội | B65: 2 | C65: 2 | D65: =ROUND($C65/$B65*100,1) -> 100 | F65: 1 | G65: =ROUND($F65/$B65*100,1) -> 50
A66: Tiêu chí 3 về Năng lực phát triển nghề nghiệp, nghiên cứu khoa học | B66: =SUM(B$67,B$72,B$75) -> 16 | C66: =SUM(C$67,C$72,C$75) -> 12 | D66: =ROUND($C66/$B66*100,1) -> 75 | F66: =SUM(F$67,F$72,F$75) -> 12 | G66: =ROUND($F66/$B66*100,1) -> 75
A67: - Tiêu chuẩn 1: Học tập, bồi dưỡng nâng cao | B67: =SUM(B$68:B$71) -> 8 | C67: =SUM(C$68:C$71) -> 6 | D67: =ROUND($C67/$B67*100,1) -> 75 | F67: =SUM(F$68:F$71) -> 6 | G67: =ROUND($F67/$B67*100,1) -> 75
A68: + Thường xuyên dự giờ, trao đổi kinh nghiệm giảng dạy, giáo dục với đồng nghiệp; tham gia bồi dưỡng đồng nghiệp theo yêu cầu phát triển của phòng, khoa, tổ bộ môn | B68: 2 | C68: 2 | D68: =ROUND($C68/$B68*100,1) -> 100 | F68: 2 | G68: =ROUND($F68/$B68*100,1) -> 100
A69: + Tham gia hội giảng các cấp | B69: 2 | C69: 0 | D69: =ROUND($C69/$B69*100,1) -> 0 | F69: 0 | G69: =ROUND($F69/$B69*100,1) -> 0
A70: + Thường xuyên tự học tập, bồi dưỡng, rèn luyện nâng cao trình độ chuyên môn, nghiệp vụ, phẩm chất đạo đức nghề nghiệp | B70: 2 | C70: 2 | D70: =ROUND($C70/$B70*100,1) -> 100 | F70: 2 | G70: =ROUND($F70/$B70*100,1) -> 100
A71: + Tham gia các khóa đào tạo, bồi dưỡng nâng cao trình độ, cập nhật kiến thức, kỹ năng nghề, công nghệ, phương pháp giảng dạy đáp ứng yêu cầu của giáo dục nghề nghiệp. | B71: 2 | C71: 2 | D71: =ROUND($C71/$B71*100,1) -> 100 | F71: 2 | G71: =ROUND($F71/$B71*100,1) -> 100
A72: - Tiêu chuẩn 2: Phát triển năng lực nghề nghiệp cho người học | B72: =SUM(B73:B74) -> 4 | C72: =SUM(C73:C74) -> 2 | D72: =ROUND($C72/$B72*100,1) -> 50 | F72: =SUM(F73:F74) -> 2 | G72: =ROUND($F72/$B72*100,1) -> 50
A73: + Hướng dẫn thực tập kết hợp với thực tiễn nghề nghiệp | B73: 2 | C73: 2 | D73: =ROUND($C73/$B73*100,1) -> 100 | F73: 2 | G73: =ROUND($F73/$B73*100,1) -> 100
A74: + Tham gia bồi dưỡng nâng cao, luyện tay nghề cho học sinh, sinh viên giỏi các cấp | B74: 2 | C74: 0 | D74: =ROUND($C74/$B74*100,1) -> 0 | F74: 0 | G74: =ROUND($F74/$B74*100,1) -> 0
A75: - Tiêu chuẩn 3: Nghiên cứu khoa học | B75: =SUM(B76:B77) -> 4 | C75: =SUM(C76:C77) -> 4 | D75: =ROUND($C75/$B75*100,1) -> 100 | F75: =SUM(F76:F77) -> 4 | G75: =ROUND($F75/$B75*100,1) -> 100
A76: + Có kiến thức, kỹ năng cơ bản về nghiên cứu khoa học và công nghệ | B76: 2 | C76: 2 | D76: =ROUND($C76/$B76*100,1) -> 100 | F76: 2 | G76: =ROUND($F76/$B76*100,1) -> 100
A77: + Chủ trì hoặc tham gia đề tài nghiên cứu khoa học từ cấp cơ sở trở lên. | B77: 2 | C77: 2 | D77: =ROUND($C77/$B77*100,1) -> 100 | F77: 2 | G77: =ROUND($F77/$B77*100,1) -> 100
A78: Tổng số điểm đánh giá | B78: =SUM(B$16,B$30,B$66) -> 88 | C78: =SUM(C$16,C$30,C$66) -> 83 | D78: =ROUND($C78/$B78*100,1) -> 94.3 | F78: =SUM(F$16,F$30,F$66) -> 80 | G78: =ROUND($F78/$B78*100,1) -> 90.9
A79: Điểm quy đổi | B79: 100 | C79: =(C$78*$B$79/$B$78) -> 94.318182 | D79: =ROUND($C79/$B79*100,1) -> 94.3 | F79: =(F$78*$B$79/$B$78) -> 90.909091 | G79: =ROUND($F79/$B79*100,1) -> 90.9
A80: Xếp loại | C80: =IF(AND(D17<50),"Không đạt",IF(AND(D24<50),"Không đạt",IF(AND(D27<50),"Không đạt",IF(AND(D31<50),"Không đạt",IF(AND(D34<50),"Không đạt",IF(AND(D41<50),"Không đạt",IF(AND(D46<50),"Không đạt",IF(AND(D49<50),"Không đạt",IF(AND(D52<50),"Không đạt",IF(AND(D55<50),"Không đạt",IF(AND(D60<50),"Không đạt",IF(AND(D63<50),"Không đạt",IF(AND(D67<50),"Không đạt",IF(AND(D72<50),"Không đạt",IF(AND(D75<50),"Không đạt",IF(AND(C79>=80),"A",IF(AND(C79>=65,C79<79),"B",IF(AND(C79>=50,C78<64),"C","Không đạt")))))))))))))))))) -> A | F80: =IF(AND(G17<50),"Không đạt",IF(AND(G24<50),"Không đạt",IF(AND(G27<50),"Không đạt",IF(AND(G31<50),"Không đạt",IF(AND(G34<50),"Không đạt",IF(AND(G41<50),"Không đạt",IF(AND(G46<50),"Không đạt",IF(AND(G49<50),"Không đạt",IF(AND(G52<50),"Không đạt",IF(AND(G55<50),"Không đạt",IF(AND(G60<50),"Không đạt",IF(AND(G63<50),"Không đạt",IF(AND(G67<50),"Không đạt",IF(AND(G72<50),"Không đạt",IF(AND(G75<50),"Không đạt",IF(AND(F79>=80),"A",IF(AND(F79>=65,F79<79),"B",IF(AND(F79>=50,F78<64),"C","Không đạt")))))))))))))))))) -> A
D81: =C80 -> A
A82: Tp. HCM, ngày 19 tháng 4 năm 2019 | F82: Tp. HCM, ngày 23 tháng 4 năm 2019
A83: Nhà giáo tự đánh giá | F83: Trưởng khoa
A84: (ký và ghi rõ họ, tên) | F84: (ký và ghi rõ họ, tên)
A88: Phạm Quỳnh Như | F88: Nguyễn Trọng Nghĩa

Sheet LE THI THU THAO
D2: CỘNG HÒA XÃ HỘI CHỦ NGHĨA VIỆT NAM Độc lập - Tự do - Hạnh phúc
A5: PHIẾU ĐÁNH GIÁ, XẾP LOẠI CHUYÊN MÔN, NGHIỆP VỤ CỦA NHÀ GIÁO Năm học 2018-2019
A7: Họ và tên giảng viên: | C7: Lê Thị Thu Thảo
A8: Khoa, tổ bộ môn: | C8: Kinh tế
A9: Cấp trình độ giảng dạy: | C9: ThS Kinh tế
A10: Nhiệm vụ được phân công giảng dạy (Lý thuyết, thực hành, tích hợp): Lý thuyết, tích hợp
A12: Ghi chú: 1. Nhà giáo chỉ cho điểm vào cột: "Nhà giáo tự cho điểm" và ghi các minh chứng vào cột: Các minh chứng của Nhà giáo. Các ô tô màu Nhà giáo không nhập điểm hoặc không ghi các minh chứng vào các ô đó. 2. Các Trưởng đơn vị cho điểm Nhà giáo thuộc đơn vị quản lý vào các ô màu hồng (sau khi Hội đồng chuyên môn đơn vị tổ chức họp xem xét và chấm điểm).
A14: Các tiêu chí và tiêu chuẩn | B14: Điểm tối đa | C14: Nhà giáo tự đánh giá xếp loại | F14: Khoa đánh giá, xếp loại
C15: Điểm đánh giá đạt được | D15: Tỷ lệ % của điểm đánh giá đạt được so với điểm đánh giá tối đa của mỗi tiêu chuẩn (lấy đến 1 chữ số thập phân, không làm tròn) | E15: Các minh chứng | F15: Điểm đánh giá đạt được | G15: Tỷ lệ % của điểm đánh giá đạt được so với điểm đánh giá tối đa của mỗi tiêu chuẩn(lấy đến 1 chữ số thập phân, không làm tròn) | H15: Các minh chứng
A16: Tiêu chí 1 về Năng lực chuyên môn | B16: =SUM(B$17,B$24,B$24) -> 20 | C16: =SUM(C$17,C$24,C$24) -> 19 | D16: =ROUND($C16/$B16*100,1) -> 95 | F16: =SUM(F$17,F$24,F$24) -> 19 | G16: =ROUND($F16/$B16*100,1) -> 95
A17: - Tiêu chuẩn 1: Trình độ chuyên môn | B17: =SUM(B$18:B$23) -> 12 | C17: =SUM(C$18:C$23) -> 11 | D17: =ROUND($C17/$B17*100,1) -> 91.7 | F17: =SUM(F$18:F$23) -> 11 | G17: =ROUND($F17/$B17*100,1) -> 91.7
A18: + Có bằng tốt nghiệp đại học chuyên ngành hoặc đại học sư phạm chuyên ngành trở lên, phù hợp với ngành, nghề giảng dạy và có một trong các chứng chỉ kỹ năng nghề phù hợp với ngành, nghề giảng dạy để dạy thực hành trình độ cao đẳng sau: Chứng chỉ kỹ năng nghề quốc gia Bậc 3 hoặc chứng nhận bậc thợ 5/7, 4/6 trở lên hoặc bằng tốt nghiệp cao đẳng nghề hoặc chứng chỉ kỹ năng thực hành nghề trình độ cao đẳng nghề hoặc tương đương; | B18: 2 | C18: 2 | D18: =ROUND($C18/$B18*100,1) -> 100 | E18: - Bằng tốt nghiệp Đại học, Thạc sỹ -Chứng chỉ bồi dưỡng nghiệp vụ sư phạm cho giảng viên đại học, cao đẳng | F18: 2 | G18: =ROUND($F18/$B18*100,1) -> 100
A19: + Nắm vững kiến thức ngành, nghề được phân công giảng dạy; | B19: 2 | C19: 2 | D19: =ROUND($C19/$B19*100,1) -> 100 | E19: -Bằng tốt nghiệp Thạc sỹ -Thường xuyên cập nhật các văn bản, tài liệu, kiến thức liên quan | F19: 2 | G19: =ROUND($F19/$B19*100,1) -> 100
A20: + Có kiến thức về ngành, nghề liên quan; | B20: 2 | C20: 2 | D20: =ROUND($C20/$B20*100,1) -> 100 | E20: -Bằng tốt nghiệp Thạc sỹ -Thường xuyên cập nhật các văn bản, tài liệu, kiến thức liên quan | F20: 2 | G20: =ROUND($F20/$B20*100,1) -> 100
A21: + Hiểu biết về thực tiễn nghề nghiệp, tiến bộ khoa học kỹ thuật, công nghệ mới và kỹ thuật an toàn, vệ sinh lao động của ngành, nghề được phân công giảng dạy | B21: 2 | C21: 2 | D21: =ROUND($C21/$B21*100,1) -> 100 | E21: -Bằng tốt nghiệp Thạc sỹ -Thường xuyên cập nhật các văn bản, tài liệu, kiến thức liên quan | F21: 2 | G21: =ROUND($F21/$B21*100,1) -> 100
A22: + Thực hiện thành thạo các kỹ năng của ngành, nghề được phân công giảng dạy | B22: 2 | C22: 2 | D22: =ROUND($C22/$B22*100,1) -> 100 | E22: -Bằng tốt nghiệp Thạc sỹ -Thường xuyên cập nhật các văn bản, tài liệu, kiến thức liên quan | F22: 2 | G22: =ROUND($F22/$B22*100,1) -> 100
A23: + Tổ chức thành thạo các hoạt động lao động sản xuất, dịch vụ ngành, nghề được phân công giảng dạy | B23: 2 | C23: 1 | D23: =ROUND($C23/$B23*100,1) -> 50 | E23: -Thường xuyên thực hành các kỹ năng liên quan đến nghề nghiệp | F23: 1 | G23: =ROUND($F23/$B23*100,1) -> 50
A24: - Tiêu chuẩn 2: Trình độ ngoại ngữ | B24: =SUM(B$25:B$26) -> 4 | C24: =SUM(C$25:C$26) -> 4 | D24: =ROUND($C24/$B24*100,1) -> 100 | F24: =SUM(F$25:F$26) -> 4 | G24: =ROUND($F24/$B24*100,1) -> 100
A25: + Đối vối giáo viên, giảng viên không chuyên ngành ngoại ngữ: Có trình độ ngoại ngữ Bậc 2 (A2) theo quy định tại Thông tư số 01/2014/TT-BGDĐT ngày 24/01/2014 của Bộ Giáo dục và Đào tạo ban hành Khung năng lực ngoại ngữ 6 bậc dùng cho Việt Nam hoặc tương đương trở lên. + Đối với giáo viên, giảng viên chuyên ngành ngoại ngữ (giáo viên, giảng viên tổ Anh văn thuộc Khoa KHCB): Có trình độ ngoại ngữ Bậc 5 (C1) theo quy định tại Thông tư số 01/2014/TT-BGDĐT ngày 24/01/2014 của Bộ Giáo dục và Đào tạo ban hành Khung năng lực ngoại ngữ 6 bậc dùng cho Việt Nam hoặc tương đương trở lên. Và trình độ ngoại ngữ thứ hai phải đạt Bậc 2 (A2) theo quy định tại Thông tư số 01/2014/TT-BGDĐT. | B25: 2 | C25: 2 | D25: =ROUND($C25/$B25*100,1) -> 100 | E25: Bằng 2 Ngoại ngữ | F25: 2 | G25: =ROUND($F25/$B25*100,1) -> 100
A26: + Đọc và hiểu tài liệu chuyên ngành phục vụ công tác giảng dạy; mô tả được một số công việc cơ bản của ngành, nghề được phân công giảng dạy. | B26: 2 | C26: 2 | D26: =ROUND($C26/$B26*100,1) -> 100 | E26: Bằng 2 Ngoại ngữ | F26: 2 | G26: =ROUND($F26/$B26*100,1) -> 100
A27: - Tiêu chuẩn 3: Trình độ tin học | B27: =SUM(B$28:B$29) -> 4 | C27: =SUM(C$28:C$29) -> 4 | D27: =ROUND($C27/$B27*100,1) -> 100 | F27: =SUM(F$28:F$29) -> 4 | G27: =ROUND($F27/$B27*100,1) -> 100
A28: + Có trình độ tin học đạt Chuẩn kỹ năng sử dụng công nghệ thông tin cơ bản theo quy định tại Thông tư số 03/2014/TT-BTTTT ngày 11/3/2014 của Bộ Thông tin và Truyền thông quy định Chuẩn kỹ năng sử dụng công nghệ thông tin hoặc tương đương trở lên. | B28: 2 | C28: 2 | D28: =ROUND($C28/$B28*100,1) -> 100 | E28: Bằng B tin học | F28: 2 | G28: =ROUND($F28/$B28*100,1) -> 100
A29: + Sử dụng thành thạo phần mềm dạy học chuyên ngành để thiết kế bài giảng, tài liệu giảng dạy. | B29: 2 | C29: 2 | D29: =ROUND($C29/$B29*100,1) -> 100 | E29: Bằng B tin học | F29: 2 | G29: =ROUND($F29/$B29*100,1) -> 100
A30: Tiêu chí 2 về Năng lực sư phạm | B30: =SUM(B$31,B$34,B$41,B$46,B$49,B$52,B$55,B$60,B$63) -> 52 | C30: =SUM(C$31,C$34,C$41,C$46,C$49,C$52,C$55,C$60,C$63) -> 48 | D30: =ROUND($C30/$B30*100,1) -> 92.3 | F30: =SUM(F$31,F$34,F$41,F$46,F$49,F$52,F$55,F$60,F$63) -> 47 | G30: =ROUND($F30/$B30*100,1) -> 90.4
A31: - Tiêu chuẩn 1 về Trình độ nghiệp vụ sư phạm và thời gian tham gia giảng dạy | B31: =SUM(B$32:B$33) -> 4 | C31: =SUM(C$32:C$33) -> 4 | D31: =ROUND($C31/$B31*100,1) -> 100 | F31: =SUM(F$32:F$33) -> 4 | G31: =ROUND($F31/$B31*100,1) -> 100
A32: + Có chứng chỉ sư phạm dạy nghề dạy trình độ trung cấp nghề, cao đẳng nghề hoặc chứng chỉ bồi dưỡng nghiệp vụ sư phạm cho giảng viên đại học, cao đẳng hoặc bằng tốt nghiệp đại học chuyên ngành sư phạm hoặc chứng chỉ nghiệp vụ sư phạm dạy trình độ cao đẳng hoặc tương đương. | B32: 2 | C32: 2 | D32: =ROUND($C32/$B32*100,1) -> 100 | E32: chứng chỉ bồi dưỡng nghiệp vụ sư phạm cho giảng viên đại học, cao đẳng | F32: 2 | G32: =ROUND($F32/$B32*100,1) -> 100
A33: + Có thời gian tham gia giảng dạy ít nhất 12 tháng. | B33: 2 | C33: 2 | D33: =ROUND($C33/$B33*100,1) -> 100 | E33: Năm vào ngành 2013 | F33: 2 | G33: =ROUND($F33/$B33*100,1) -> 100
A34: - Tiêu chuẩn 2: Chuẩn bị hoạt động giảng dạy | B34: =SUM(B$35:B$40) -> 12 | C34: =SUM(C$35:C$40) -> 11 | D34: =ROUND($C34/$B34*100,1) -> 91.7 | F34: =SUM(F$35:F$40) -> 10 | G34: =ROUND($F34/$B34*100,1) -> 83.3
A35: + Lập được kế hoạch giảng dạy môn học, mô-đun được phân công trên cơ sở chương trình, kế hoạch đào tạo của cả khóa học. | B35: 2 | C35: 2 | D35: =ROUND($C35/$B35*100,1) -> 100 | E35: Hồ sơ chuyên môn | F35: 2 | G35: =ROUND($F35/$B35*100,1) -> 100
A36: + Soạn giáo án theo quy định, thể hiện được các hoạt động dạy và học. | B36: 2 | C36: 2 | D36: =ROUND($C36/$B36*100,1) -> 100 | E36: Hồ sơ chuyên môn | F36: 2 | G36: =ROUND($F36/$B36*100,1) -> 100
A37: + Lựa chọn phương pháp dạy học phù hợp cho các bài học của chương trình môn học, mô-đun được phân công giảng dạy. | B37: 2 | C37: 2 | D37: =ROUND($C37/$B37*100,1) -> 100 | E37: Hồ sơ chuyên môn | F37: 2 | G37: =ROUND($F37/$B37*100,1) -> 100
A38: + Chuẩn bị đầy đủ các phương tiện dạy học, thiết bị, nguyên, nhiên, vật liệu thực hành cần thiết | B38: 2 | C38: 2 | D38: =ROUND($C38/$B38*100,1) -> 100 | E38: Hồ sơ chuyên môn | F38: 2 | G38: =ROUND($F38/$B38*100,1) -> 100
A39: + Tự làm các thiết bị dạy học đơn giản để phục vụ giảng dạy | B39: 2 | C39: 2 | D39: =ROUND($C39/$B39*100,1) -> 100 | E39: Hồ sơ chuyên môn | F39: 1 | G39: =ROUND($F39/$B39*100,1) -> 50
A40: + Chủ trì hoặc tham gia thiết kế và bố trí trang thiết bị dạy học của phòng học chuyên môn phù hợp với chương trình của ngành, nghề được phân công giảng dạy. | B40: 2 | C40: 1 | D40: =ROUND($C40/$B40*100,1) -> 50 | E40: Tham gia biên soạn đề cương chi tiết | F40: 1 | G40: =ROUND($F40/$B40*100,1) -> 50
A41: - Tiêu chuẩn 3: Thực hiện hoạt động giảng dạy | B41: =SUM(B$42:B$45) -> 8 | C41: =SUM(C$42:C$45) -> 8 | D41: =ROUND($C41/$B41*100,1) -> 100 | F41: =SUM(F$42:F$45) -> 8 | G41: =ROUND($F41/$B41*100,1) -> 100
A42: + Tổ chức dạy học phù hợp với ngành, nghề đào tạo và với từng đối tượng người học; thực hiện đầy đủ kế hoạch giảng dạy, đúng chương trình, nội dung. | B42: 2 | C42: 2 | D42: =ROUND($C42/$B42*100,1) -> 100 | E42: Hồ sơ chuyên môn | F42: 2 | G42: =ROUND($F42/$B42*100,1) -> 100
A43: + Thực hiện các giờ dạy lý thuyết, thực hành, tích hợp theo quy định | B43: 2 | C43: 2 | D43: =ROUND($C43/$B43*100,1) -> 100 | E43: Hồ sơ chuyên môn | F43: 2 | G43: =ROUND($F43/$B43*100,1) -> 100
A44: + Vận dụng, kết hợp các phương pháp dạy học để phát huy tính tích cực, sáng tạo, phát triển năng lực tự học của người học | B44: 2 | C44: 2 | D44: =ROUND($C44/$B44*100,1) -> 100 | E44: Hồ sơ chuyên môn | F44: 2 | G44: =ROUND($F44/$B44*100,1) -> 100
A45: + Sử dụng thành thạo các phương tiện, thiết bị dạy học để nâng cao hiệu quả giảng dạy, đảm bảo chất lượng giáo dục nghề nghiệp | B45: 2 | C45: 2 | D45: =ROUND($C45/$B45*100,1) -> 100 | E45: Hồ sơ chuyên môn | F45: 2 | G45: =ROUND($F45/$B45*100,1) -> 100
A46: - Tiêu chuẩn 4: Kiểm tra, đánh giá kết quả học tập của người học | B46: =SUM(B$47:B$48) -> 4 | C46: =SUM(C$47:C$48) -> 4 | D46: =ROUND($C46/$B46*100,1) -> 100 | F46: =SUM(F$47:F$48) -> 4 | G46: =ROUND($F46/$B46*100,1) -> 100
A47: + Lựa chọn và thiết kế các công cụ kiểm tra, đánh giá kết quả học tập của người học phù hợp với môn học, mô-đun được phân công giảng dạy. | B47: 2 | C47: 2 | D47: =ROUND($C47/$B47*100,1) -> 100 | E47: - Bài kiểm tra, bài thi của sinh viên của sinh viên | F47: 2 | G47: =ROUND($F47/$B47*100,1) -> 100
A48: + Thực hiện việc kiểm tra, đánh giá toàn diện, chính xác, mang tính giáo dục và đúng quy định; sử dụng kết quả kiểm tra, đánh giá để điều chỉnh hoạt động dạy và học | B48: 2 | C48: 2 | D48: =ROUND($C48/$B48*100,1) -> 100 | E48: - Bài kiểm tra, bài thi của sinh viên của sinh viên | F48: 2 | G48: =ROUND($F48/$B48*100,1) -> 100
A49: - Tiêu chuẩn 5: Quản lý hồ sơ dạy học | B49: =SUM(B$50:B$51) -> 4 | C49: =SUM(C$50:C$51) -> 4 | D49: =ROUND($C49/$B49*100,1) -> 100 | F49: =SUM(F$50:F$51) -> 4 | G49: =ROUND($F49/$B49*100,1) -> 100
A50: + Thực hiện đầy đủ các quy định về sử dụng biểu mẫu, sổ sách, hồ sơ dạy học. | B50: 2 | C50: 2 | D50: =ROUND($C50/$B50*100,1) -> 100 | E50: Hồ sơ chuyên môn | F50: 2 | G50: =ROUND($F50/$B50*100,1) -> 100
A51: + Bảo quản, lưu trữ, sử dụng hồ sơ dạy học theo quy định | B51: 2 | C51: 2 | D51: =ROUND($C51/$B51*100,1) -> 100 | E51: Hồ sơ chuyên môn | F51: 2 | G51: =ROUND($F51/$B51*100,1) -> 100
A52: - Tiêu chuẩn 6: Xây dựng chương trình, biên soạn giáo trình, tài liệu giảng dạy | B52: =SUM(B$53:B$54) -> 4 | C52: =SUM(C$53:C$54) -> 4 | D52: =ROUND($C52/$B52*100,1) -> 100 | F52: =SUM(F$53:F$54) -> 4 | G52: =ROUND($F52/$B52*100,1) -> 100
A53: + Nắm được căn cứ, nguyên tắc, yêu cầu và quy trình xây dựng chương trình đào tạo trình độ cao đẳng. | B53: 2 | C53: 2 | D53: =ROUND($C53/$B53*100,1) -> 100 | E53: Đề cương chi tiết | F53: 2 | G53: =ROUND($F53/$B53*100,1) -> 100
A54: + Chủ trì hoặc tham gia biên soạn, chỉnh lý chương trình, giáo trình, tài liệu đào tạo trình độ cao đẳng; chương trình bồi dưỡng nghề nghiệp. | B54: 2 | C54: 2 | D54: =ROUND($C54/$B54*100,1) -> 100 | E54: Đề cương chi tiết | F54: 2 | G54: =ROUND($F54/$B54*100,1) -> 100
A55: - Tiêu chuẩn 7 về Xây dựng kế hoạch, thực hiện các hoạt động giáo dục | B55: =SUM(B$56:B$59) -> 8 | C55: =SUM(C$56:C$59) -> 6 | D55: =ROUND($C55/$B55*100,1) -> 75 | F55: =SUM(F$56:F$59) -> 6 | G55: =ROUND($F55/$B55*100,1) -> 75
A56: + Xây dựng được kế hoạch giáo dục người học thông qua giảng dạy và qua các hoạt động khác | B56: 2 | C56: 2 | D56: =ROUND($C56/$B56*100,1) -> 100 | E56: Phiếu đánh giá kết quả rèn luyện | F56: 2 | G56: =ROUND($F56/$B56*100,1) -> 100
A57: + Thực hiện việc giáo dục đạo đức nghề nghiệp, thái độ nghề nghiệp thông qua việc giảng dạy môn học, mô-đun theo kế hoạch đã xây dựng. | B57: 2 | C57: 1 | D57: =ROUND($C57/$B57*100,1) -> 50 | E57: Hồ sơ chuyên môn | F57: 1 | G57: =ROUND($F57/$B57*100,1) -> 50
A58: + Vận dụng các hiểu biết về tâm lý, giáo dục vào thực hiện hoạt động giáo dục người học | B58: 2 | C58: 1 | D58: =ROUND($C58/$B58*100,1) -> 50 | E58: Hồ sơ chuyên môn | F58: 1 | G58: =ROUND($F58/$B58*100,1) -> 50
A59: + Đánh giá kết quả các mặt rèn luyện đạo đức của người học theo quy định một cách chính xác, công bằng và có tác dụng giáo dục | B59: 2 | C59: 2 | D59: =ROUND($C59/$B59*100,1) -> 100 | E59: Phiếu đánh giá kết quả rèn luyện | F59: 2 | G59: =ROUND($F59/$B59*100,1) -> 100
A60: - Tiêu chuẩn 8: Quản lý người học, xây dựng môi trường giáo dục, học tập | B60: =SUM(B$61:B$62) -> 4 | C60: =SUM(C$61:C$62) -> 4 | D60: =ROUND($C60/$B60*100,1) -> 100 | F60: =SUM(F$61:F$62) -> 4 | G60: =ROUND($F60/$B60*100,1) -> 100
A61: + Quản lý được các thông tin liên quan đến người học và sử dụng hiệu quả các thông tin vào giáo dục, dạy học, quản lý người học | B61: 2 | C61: 2 | D61: =ROUND($C61/$B61*100,1) -> 100 | E61: Xây dựng hệ thống liên lạc với phụ huynh, điện thoại, zalo, sổ liên lạc điện tử | F61: 2 | G61: =ROUND($F61/$B61*100,1) -> 100
A62: + Xây dựng môi trường giáo dục, học tập lành mạnh, thuận lợi, dân chủ, hợp tác | B62: 2 | C62: 2 | D62: =ROUND($C62/$B62*100,1) -> 100 | E62: Xây dựng hệ thống liên lạc với phụ huynh, điện thoại, zalo, sổ liên lạc điện tử | F62: 2 | G62: =ROUND($F62/$B62*100,1) -> 100
A63: - Tiêu chuẩn 9: Hoạt động xã hội | B63: =SUM(B$64:B$65) -> 4 | C63: =SUM(C$64:C$65) -> 3 | D63: =ROUND($C63/$B63*100,1) -> 75 | F63: =SUM(F$64:F$65) -> 3 | G63: =ROUND($F63/$B63*100,1) -> 75
A64: + Phối hợp với gia đình người học và cộng đồng động viên, hỗ trợ, giám sát việc học tập, rèn luyện của người học; góp phần huy động các nguồn lực xã hội xây dựng, phát triển cơ sở hoạt động giáo dục nghề nghiệp. | B64: 2 | C64: 2 | D64: =ROUND($C64/$B64*100,1) -> 100 | E64: - Họp phụ huynh, xây dựng sổ tay liên lạc vói phụ huynh | F64: 2 | G64: =ROUND($F64/$B64*100,1) -> 100
A65: + Tham gia các hoạt động xã hội trong và ngoài cơ sở hoạt động giáo dục nghề nghiệp, xây dựng quan hệ giữa cơ sở hoạt động giáo dục nghề nghiệp với doanh nghiệp nhằm phát triển cơ sở hoạt động giáo dục nghề nghiệp, cộng đồng; xây dựng phong trào học nghề lập nghiệp trong xã hội | B65: 2 | C65: 1 | D65: =ROUND($C65/$B65*100,1) -> 50 | E65: - Tham gia công tác xã hội, ủng hộ các lần vận động của Công Đoàn | F65: 1 | G65: =ROUND($F65/$B65*100,1) -> 50
A66: Tiêu chí 3 về Năng lực phát triển nghề nghiệp, nghiên cứu khoa học | B66: =SUM(B$67,B$72,B$75) -> 16 | C66: =SUM(C$67,C$72,C$75) -> 14 | D66: =ROUND($C66/$B66*100,1) -> 87.5 | F66: =SUM(F$67,F$72,F$75) -> 12 | G66: =ROUND($F66/$B66*100,1) -> 75
A67: - Tiêu chuẩn 1: Học tập, bồi dưỡng nâng cao | B67: =SUM(B$68:B$71) -> 8 | C67: =SUM(C$68:C$71) -> 6 | D67: =ROUND($C67/$B67*100,1) -> 75 | F67: =SUM(F$68:F$71) -> 6 | G67: =ROUND($F67/$B67*100,1) -> 75
A68: + Thường xuyên dự giờ, trao đổi kinh nghiệm giảng dạy, giáo dục với đồng nghiệp; tham gia bồi dưỡng đồng nghiệp theo yêu cầu phát triển của phòng, khoa, tổ bộ môn | B68: 2 | C68: 2 | D68: =ROUND($C68/$B68*100,1) -> 100 | E68: Biên bản họp Khoa, họp tổ bộ môn | F68: 2 | G68: =ROUND($F68/$B68*100,1) -> 100
A69: + Tham gia hội giảng các cấp | B69: 2 | C69: 1 | D69: =ROUND($C69/$B69*100,1) -> 50 | E69: Biên bản họp Khoa, họp tổ bộ môn | F69: 1 | G69: =ROUND($F69/$B69*100,1) -> 50
A70: + Thường xuyên tự học tập, bồi dưỡng, rèn luyện nâng cao trình độ chuyên môn, nghiệp vụ, phẩm chất đạo đức nghề nghiệp | B70: 2 | C70: 2 | D70: =ROUND($C70/$B70*100,1) -> 100 | E70: Biên bản họp Khoa, họp tổ bộ môn | F70: 2 | G70: =ROUND($F70/$B70*100,1) -> 100
A71: + Tham gia các khóa đào tạo, bồi dưỡng nâng cao trình độ, cập nhật kiến thức, kỹ năng nghề, công nghệ, phương pháp giảng dạy đáp ứng yêu cầu của giáo dục nghề nghiệp. | B71: 2 | C71: 1 | D71: =ROUND($C71/$B71*100,1) -> 50 | E71: Biên bản họp Khoa, họp tổ bộ môn | F71: 1 | G71: =ROUND($F71/$B71*100,1) -> 50
A72: - Tiêu chuẩn 2: Phát triển năng lực nghề nghiệp cho người học | B72: =SUM(B73:B74) -> 4 | C72: =SUM(C73:C74) -> 4 | D72: =ROUND($C72/$B72*100,1) -> 100 | F72: =SUM(F73:F74) -> 2 | G72: =ROUND($F72/$B72*100,1) -> 50
A73: + Hướng dẫn thực tập kết hợp với thực tiễn nghề nghiệp | B73: 2 | C73: 2 | D73: =ROUND($C73/$B73*100,1) -> 100 | E73: - Giấy xác nhận đi thực tập tại Doanh nghiệp | F73: 2 | G73: =ROUND($F73/$B73*100,1) -> 100
A74: + Tham gia bồi dưỡng nâng cao, luyện tay nghề cho học sinh, sinh viên giỏi các cấp | B74: 2 | C74: 2 | D74: =ROUND($C74/$B74*100,1) -> 100 | E74: - Giới thiệu sinh viên đi thực tập tại doanh nghiệp | F74: 0 | G74: =ROUND($F74/$B74*100,1) -> 0
A75: - Tiêu chuẩn 3: Nghiên cứu khoa học | B75: =SUM(B76:B77) -> 4 | C75: =SUM(C76:C77) -> 4 | D75: =ROUND($C75/$B75*100,1) -> 100 | F75: =SUM(F76:F77) -> 4 | G75: =ROUND($F75/$B75*100,1) -> 100
A76: + Có kiến thức, kỹ năng cơ bản về nghiên cứu khoa học và công nghệ | B76: 2 | C76: 2 | D76: =ROUND($C76/$B76*100,1) -> 100 | E76: Bằng Thạc Sĩ | F76: 2 | G76: =ROUND($F76/$B76*100,1) -> 100
A77: + Chủ trì hoặc tham gia đề tài nghiên cứu khoa học từ cấp cơ sở trở lên. | B77: 2 | C77: 2 | D77: =ROUND($C77/$B77*100,1) -> 100 | E77: Bài nghiên cứu khoa học | F77: 2 | G77: =ROUND($F77/$B77*100,1) -> 100
A78: Tổng số điểm đánh giá | B78: =SUM(B$16,B$30,B$66) -> 88 | C78: =SUM(C$16,C$30,C$66) -> 81 | D78: =ROUND($C78/$B78*100,1) -> 92 | F78: =SUM(F$16,F$30,F$66) -> 78 | G78: =ROUND($F78/$B78*100,1) -> 88.6
A79: Điểm quy đổi | B79: 100 | C79: =(C$78*$B$79/$B$78) -> 92.045455 | D79: =ROUND($C79/$B79*100,1) -> 92 | F79: =(F$78*$B$79/$B$78) -> 88.636364 | G79: =ROUND($F79/$B79*100,1) -> 88.6
A80: Xếp loại | C80: =IF(AND(D17<50),"Không đạt",IF(AND(D24<50),"Không đạt",IF(AND(D27<50),"Không đạt",IF(AND(D31<50),"Không đạt",IF(AND(D34<50),"Không đạt",IF(AND(D41<50),"Không đạt",IF(AND(D46<50),"Không đạt",IF(AND(D49<50),"Không đạt",IF(AND(D52<50),"Không đạt",IF(AND(D55<50),"Không đạt",IF(AND(D60<50),"Không đạt",IF(AND(D63<50),"Không đạt",IF(AND(D67<50),"Không đạt",IF(AND(D72<50),"Không đạt",IF(AND(D75<50),"Không đạt",IF(AND(C79>=80),"A",IF(AND(C79>=65,C79<79),"B",IF(AND(C79>=50,C78<64),"C","Không đạt")))))))))))))))))) -> A | F80: =IF(AND(G17<50),"Không đạt",IF(AND(G24<50),"Không đạt",IF(AND(G27<50),"Không đạt",IF(AND(G31<50),"Không đạt",IF(AND(G34<50),"Không đạt",IF(AND(G41<50),"Không đạt",IF(AND(G46<50),"Không đạt",IF(AND(G49<50),"Không đạt",IF(AND(G52<50),"Không đạt",IF(AND(G55<50),"Không đạt",IF(AND(G60<50),"Không đạt",IF(AND(G63<50),"Không đạt",IF(AND(G67<50),"Không đạt",IF(AND(G72<50),"Không đạt",IF(AND(G75<50),"Không đạt",IF(AND(F79>=80),"A",IF(AND(F79>=65,F79<79),"B",IF(AND(F79>=50,F78<64),"C","Không đạt")))))))))))))))))) -> A
D81: =C80 -> A
A82: Tp. HCM, ngày 21 tháng 4 năm 2019 | F82: Tp. HCM, ngày 23 tháng 4 năm 2019
A83: Nhà giáo tự đánh giá | F83: Trưởng khoa
A84: (ký và ghi rõ họ, tên) | F84: (ký và ghi rõ họ, tên)
A88: Lê Thị Thu Thảo | F88: Nguyễn Trọng Nghĩa

Sheet VO THI KIM THU
D2: CỘNG HÒA XÃ HỘI CHỦ NGHĨA VIỆT NAM Độc lập - Tự do - Hạnh phúc
A5: PHIẾU ĐÁNH GIÁ, XẾP LOẠI CHUYÊN MÔN, NGHIỆP VỤ CỦA NHÀ GIÁO Năm học 2018-2019
A7: Họ và tên giảng viên: | C7: Võ Thị Kim Thư
A8: Khoa, tổ bộ môn: | C8: Tổ cơ sở ngành - Khoa Kinh tế
C9: Th.S Luật Kinh tế
A10: Nhiệm vụ được phân công giảng dạy (Lý thuyết, thực hành, tích hợp): Lý thuyết, tích hợp
A12: Ghi chú: 1. Nhà giáo chỉ cho điểm vào cột: "Nhà giáo tự cho điểm" và ghi các minh chứng vào cột: Các minh chứng của Nhà giáo. Các ô tô màu Nhà giáo không nhập điểm hoặc không ghi các minh chứng vào các ô đó. 2. Các Trưởng đơn vị cho điểm Nhà giáo thuộc đơn vị quản lý vào các ô màu hồng (sau khi Hội đồng chuyên môn đơn vị tổ chức họp xem xét và chấm điểm).
A14: Các tiêu chí và tiêu chuẩn | B14: Điểm tối đa | C14: Nhà giáo tự đánh giá xếp loại | F14: Khoa đánh giá, xếp loại
C15: Điểm đánh giá đạt được | D15: Tỷ lệ % của điểm đánh giá đạt được so với điểm đánh giá tối đa của mỗi tiêu chuẩn (lấy đến 1 chữ số thập phân, không làm tròn) | E15: Các minh chứng | F15: Điểm đánh giá đạt được | G15: Tỷ lệ % của điểm đánh giá đạt được so với điểm đánh giá tối đa của mỗi tiêu chuẩn(lấy đến 1 chữ số thập phân, không làm tròn) | H15: Các minh chứng
A16: Tiêu chí 1 về Năng lực chuyên môn | B16: =SUM(B$17,B$24,B$24) -> 20 | C16: =SUM(C$17,C$24,C$24) -> 18 | D16: =ROUND($C16/$B16*100,1) -> 90 | F16: =SUM(F$17,F$24,F$24) -> 18 | G16: =ROUND($F16/$B16*100,1) -> 90
A17: - Tiêu chuẩn 1: Trình độ chuyên môn | B17: =SUM(B$18:B$23) -> 12 | C17: =SUM(C$18:C$23) -> 12 | D17: =ROUND($C17/$B17*100,1) -> 100 | F17: =SUM(F$18:F$23) -> 12 | G17: =ROUND($F17/$B17*100,1) -> 100
A18: + Có bằng tốt nghiệp đại học chuyên ngành hoặc đại học sư phạm chuyên ngành trở lên, phù hợp với ngành, nghề giảng dạy và có một trong các chứng chỉ kỹ năng nghề phù hợp với ngành, nghề giảng dạy để dạy thực hành trình độ cao đẳng sau: Chứng chỉ kỹ năng nghề quốc gia Bậc 3 hoặc chứng nhận bậc thợ 5/7, 4/6 trở lên hoặc bằng tốt nghiệp cao đẳng nghề hoặc chứng chỉ kỹ năng thực hành nghề trình độ cao đẳng nghề hoặc tương đương; | B18: 2 | C18: 2 | D18: =ROUND($C18/$B18*100,1) -> 100 | E18: Bằng tốt nghiệp Đại học, Thạc sỹ | F18: 2 | G18: =ROUND($F18/$B18*100,1) -> 100
A19: + Nắm vững kiến thức ngành, nghề được phân công giảng dạy; | B19: 2 | C19: 2 | D19: =ROUND($C19/$B19*100,1) -> 100 | E19: -Bằng tốt nghiệp Thạc sỹ -Thường xuyên cập nhật các văn bản, tài liệu, kiến thức liên quan | F19: 2 | G19: =ROUND($F19/$B19*100,1) -> 100
A20: + Có kiến thức về ngành, nghề liên quan; | B20: 2 | C20: 2 | D20: =ROUND($C20/$B20*100,1) -> 100 | E20: -Bằng tốt nghiệp Thạc sỹ -Thường xuyên cập nhật các văn bản, tài liệu, kiến thức liên quan | F20: 2 | G20: =ROUND($F20/$B20*100,1) -> 100
A21: + Hiểu biết về thực tiễn nghề nghiệp, tiến bộ khoa học kỹ thuật, công nghệ mới và kỹ thuật an toàn, vệ sinh lao động của ngành, nghề được phân công giảng dạy | B21: 2 | C21: 2 | D21: =ROUND($C21/$B21*100,1) -> 100 | E21: -Bằng tốt nghiệp Thạc sỹ -Thường xuyên cập nhật các văn bản, tài liệu, kiến thức liên quan | F21: 2 | G21: =ROUND($F21/$B21*100,1) -> 100
A22: + Thực hiện thành thạo các kỹ năng của ngành, nghề được phân công giảng dạy | B22: 2 | C22: 2 | D22: =ROUND($C22/$B22*100,1) -> 100 | E22: -Bằng tốt nghiệp Thạc sỹ -Thường xuyên cập nhật các văn bản, tài liệu, kiến thức liên quan | F22: 2 | G22: =ROUND($F22/$B22*100,1) -> 100
A23: + Tổ chức thành thạo các hoạt động lao động sản xuất, dịch vụ ngành, nghề được phân công giảng dạy | B23: 2 | C23: 2 | D23: =ROUND($C23/$B23*100,1) -> 100 | E23: Thường xuyên thực hành các kỹ năng liên quan đến nghề nghiệp | F23: 2 | G23: =ROUND($F23/$B23*100,1) -> 100
A24: - Tiêu chuẩn 2: Trình độ ngoại ngữ | B24: =SUM(B$25:B$26) -> 4 | C24: =SUM(C$25:C$26) -> 3 | D24: =ROUND($C24/$B24*100,1) -> 75 | F24: =SUM(F$25:F$26) -> 3 | G24: =ROUND($F24/$B24*100,1) -> 75
A25: + Đối vối giáo viên, giảng viên không chuyên ngành ngoại ngữ: Có trình độ ngoại ngữ Bậc 2 (A2) theo quy định tại Thông tư số 01/2014/TT-BGDĐT ngày 24/01/2014 của Bộ Giáo dục và Đào tạo ban hành Khung năng lực ngoại ngữ 6 bậc dùng cho Việt Nam hoặc tương đương trở lên. + Đối với giáo viên, giảng viên chuyên ngành ngoại ngữ (giáo viên, giảng viên tổ Anh văn thuộc Khoa KHCB): Có trình độ ngoại ngữ Bậc 5 (C1) theo quy định tại Thông tư số 01/2014/TT-BGDĐT ngày 24/01/2014 của Bộ Giáo dục và Đào tạo ban hành Khung năng lực ngoại ngữ 6 bậc dùng cho Việt Nam hoặc tương đương trở lên. Và trình độ ngoại ngữ thứ hai phải đạt Bậc 2 (A2) theo quy định tại Thông tư số 01/2014/TT-BGDĐT. | B25: 2 | C25: 2 | D25: =ROUND($C25/$B25*100,1) -> 100 | E25: Chứng chỉ B1 | F25: 2 | G25: =ROUND($F25/$B25*100,1) -> 100
A26: + Đọc và hiểu tài liệu chuyên ngành phục vụ công tác giảng dạy; mô tả được một số công việc cơ bản của ngành, nghề được phân công giảng dạy. | B26: 2 | C26: 1 | D26: =ROUND($C26/$B26*100,1) -> 50 | E26: Chứng chỉ B1 | F26: 1 | G26: =ROUND($F26/$B26*100,1) -> 50
A27: - Tiêu chuẩn 3: Trình độ tin học | B27: =SUM(B$28:B$29) -> 4 | C27: =SUM(C$28:C$29) -> 4 | D27: =ROUND($C27/$B27*100,1) -> 100 | F27: =SUM(F$28:F$29) -> 4 | G27: =ROUND($F27/$B27*100,1) -> 100
A28: + Có trình độ tin học đạt Chuẩn kỹ năng sử dụng công nghệ thông tin cơ bản theo quy định tại Thông tư số 03/2014/TT-BTTTT ngày 11/3/2014 của Bộ Thông tin và Truyền thông quy định Chuẩn kỹ năng sử dụng công nghệ thông tin hoặc tương đương trở lên. | B28: 2 | C28: 2 | D28: =ROUND($C28/$B28*100,1) -> 100 | E28: chứng chỉ B tin học văn phòng | F28: 2 | G28: =ROUND($F28/$B28*100,1) -> 100
A29: + Sử dụng thành thạo phần mềm dạy học chuyên ngành để thiết kế bài giảng, tài liệu giảng dạy. | B29: 2 | C29: 2 | D29: =ROUND($C29/$B29*100,1) -> 100 | E29: chứng chỉ B tin học văn phòng | F29: 2 | G29: =ROUND($F29/$B29*100,1) -> 100
A30: Tiêu chí 2 về Năng lực sư phạm | B30: =SUM(B$31,B$34,B$41,B$46,B$49,B$52,B$55,B$60,B$63) -> 52 | C30: =SUM(C$31,C$34,C$41,C$46,C$49,C$52,C$55,C$60,C$63) -> 50 | D30: =ROUND($C30/$B30*100,1) -> 96.2 | F30: =SUM(F$31,F$34,F$41,F$46,F$49,F$52,F$55,F$60,F$63) -> 49 | G30: =ROUND($F30/$B30*100,1) -> 94.2
A31: - Tiêu chuẩn 1 về Trình độ nghiệp vụ sư phạm và thời gian tham gia giảng dạy | B31: =SUM(B$32:B$33) -> 4 | C31: =SUM(C$32:C$33) -> 4 | D31: =ROUND($C31/$B31*100,1) -> 100 | F31: =SUM(F$32:F$33) -> 4 | G31: =ROUND($F31/$B31*100,1) -> 100
A32: + Có chứng chỉ sư phạm dạy nghề dạy trình độ trung cấp nghề, cao đẳng nghề hoặc chứng chỉ bồi dưỡng nghiệp vụ sư phạm cho giảng viên đại học, cao đẳng hoặc bằng tốt nghiệp đại học chuyên ngành sư phạm hoặc chứng chỉ nghiệp vụ sư phạm dạy trình độ cao đẳng hoặc tương đương. | B32: 2 | C32: 2 | D32: =ROUND($C32/$B32*100,1) -> 100 | E32: chứng chỉ bồi dưỡng nghiệp vụ sư phạm cho giảng viên đại học, cao đẳng | F32: 2 | G32: =ROUND($F32/$B32*100,1) -> 100
A33: + Có thời gian tham gia giảng dạy ít nhất 12 tháng. | B33: 2 | C33: 2 | D33: =ROUND($C33/$B33*100,1) -> 100 | E33: Năm vào ngành 2015 | F33: 2 | G33: =ROUND($F33/$B33*100,1) -> 100
A34: - Tiêu chuẩn 2: Chuẩn bị hoạt động giảng dạy | B34: =SUM(B$35:B$40) -> 12 | C34: =SUM(C$35:C$40) -> 10 | D34: =ROUND($C34/$B34*100,1) -> 83.3 | F34: =SUM(F$35:F$40) -> 9 | G34: =ROUND($F34/$B34*100,1) -> 75
A35: + Lập được kế hoạch giảng dạy môn học, mô-đun được phân công trên cơ sở chương trình, kế hoạch đào tạo của cả khóa học. | B35: 2 | C35: 2 | D35: =ROUND($C35/$B35*100,1) -> 100 | E35: Hồ sơ chuyên môn | F35: 2 | G35: =ROUND($F35/$B35*100,1) -> 100
A36: + Soạn giáo án theo quy định, thể hiện được các hoạt động dạy và học. | B36: 2 | C36: 2 | D36: =ROUND($C36/$B36*100,1) -> 100 | E36: Hồ sơ chuyên môn | F36: 2 | G36: =ROUND($F36/$B36*100,1) -> 100
A37: + Lựa chọn phương pháp dạy học phù hợp cho các bài học của chương trình môn học, mô-đun được phân công giảng dạy. | B37: 2 | C37: 2 | D37: =ROUND($C37/$B37*100,1) -> 100 | E37: Hồ sơ chuyên môn | F37: 2 | G37: =ROUND($F37/$B37*100,1) -> 100
A38: + Chuẩn bị đầy đủ các phương tiện dạy học, thiết bị, nguyên, nhiên, vật liệu thực hành cần thiết | B38: 2 | C38: 2 | D38: =ROUND($C38/$B38*100,1) -> 100 | E38: Hồ sơ chuyên môn | F38: 2 | G38: =ROUND($F38/$B38*100,1) -> 100
A39: + Tự làm các thiết bị dạy học đơn giản để phục vụ giảng dạy | B39: 2 | C39: 0 | D39: =ROUND($C39/$B39*100,1) -> 0 | F39: 0 | G39: =ROUND($F39/$B39*100,1) -> 0
A40: + Chủ trì hoặc tham gia thiết kế và bố trí trang thiết bị dạy học của phòng học chuyên môn phù hợp với chương trình của ngành, nghề được phân công giảng dạy. | B40: 2 | C40: 2 | D40: =ROUND($C40/$B40*100,1) -> 100 | E40: Tham gia biên soạn cương chi tiết | F40: 1 | G40: =ROUND($F40/$B40*100,1) -> 50
A41: - Tiêu chuẩn 3: Thực hiện hoạt động giảng dạy | B41: =SUM(B$42:B$45) -> 8 | C41: =SUM(C$42:C$45) -> 8 | D41: =ROUND($C41/$B41*100,1) -> 100 | F41: =SUM(F$42:F$45) -> 8 | G41: =ROUND($F41/$B41*100,1) -> 100
A42: + Tổ chức dạy học phù hợp với ngành, nghề đào tạo và với từng đối tượng người học; thực hiện đầy đủ kế hoạch giảng dạy, đúng chương trình, nội dung. | B42: 2 | C42: 2 | D42: =ROUND($C42/$B42*100,1) -> 100 | E42: Hồ sơ chuyên môn | F42: 2 | G42: =ROUND($F42/$B42*100,1) -> 100
A43: + Thực hiện các giờ dạy lý thuyết, thực hành, tích hợp theo quy định | B43: 2 | C43: 2 | D43: =ROUND($C43/$B43*100,1) -> 100 | E43: Hồ sơ chuyên môn | F43: 2 | G43: =ROUND($F43/$B43*100,1) -> 100
A44: + Vận dụng, kết hợp các phương pháp dạy học để phát huy tính tích cực, sáng tạo, phát triển năng lực tự học của người học | B44: 2 | C44: 2 | D44: =ROUND($C44/$B44*100,1) -> 100 | E44: Hồ sơ chuyên môn | F44: 2 | G44: =ROUND($F44/$B44*100,1) -> 100
A45: + Sử dụng thành thạo các phương tiện, thiết bị dạy học để nâng cao hiệu quả giảng dạy, đảm bảo chất lượng giáo dục nghề nghiệp | B45: 2 | C45: 2 | D45: =ROUND($C45/$B45*100,1) -> 100 | E45: Hồ sơ chuyên môn | F45: 2 | G45: =ROUND($F45/$B45*100,1) -> 100
A46: - Tiêu chuẩn 4: Kiểm tra, đánh giá kết quả học tập của người học | B46: =SUM(B$47:B$48) -> 4 | C46: =SUM(C$47:C$48) -> 4 | D46: =ROUND($C46/$B46*100,1) -> 100 | F46: =SUM(F$47:F$48) -> 4 | G46: =ROUND($F46/$B46*100,1) -> 100
A47: + Lựa chọn và thiết kế các công cụ kiểm tra, đánh giá kết quả học tập của người học phù hợp với môn học, mô-đun được phân công giảng dạy. | B47: 2 | C47: 2 | D47: =ROUND($C47/$B47*100,1) -> 100 | E47: - Bài kiểm tra, bài thi của sinh viên của sinh viên | F47: 2 | G47: =ROUND($F47/$B47*100,1) -> 100
A48: + Thực hiện việc kiểm tra, đánh giá toàn diện, chính xác, mang tính giáo dục và đúng quy định; sử dụng kết quả kiểm tra, đánh giá để điều chỉnh hoạt động dạy và học | B48: 2 | C48: 2 | D48: =ROUND($C48/$B48*100,1) -> 100 | E48: - Bài kiểm tra, bài thi của sinh viên của sinh viên | F48: 2 | G48: =ROUND($F48/$B48*100,1) -> 100
A49: - Tiêu chuẩn 5: Quản lý hồ sơ dạy học | B49: =SUM(B$50:B$51) -> 4 | C49: =SUM(C$50:C$51) -> 4 | D49: =ROUND($C49/$B49*100,1) -> 100 | F49: =SUM(F$50:F$51) -> 4 | G49: =ROUND($F49/$B49*100,1) -> 100
A50: + Thực hiện đầy đủ các quy định về sử dụng biểu mẫu, sổ sách, hồ sơ dạy học. | B50: 2 | C50: 2 | D50: =ROUND($C50/$B50*100,1) -> 100 | E50: Hồ sơ chuyên môn | F50: 2 | G50: =ROUND($F50/$B50*100,1) -> 100
A51: + Bảo quản, lưu trữ, sử dụng hồ sơ dạy học theo quy định | B51: 2 | C51: 2 | D51: =ROUND($C51/$B51*100,1) -> 100 | E51: Hồ sơ chuyên môn | F51: 2 | G51: =ROUND($F51/$B51*100,1) -> 100
A52: - Tiêu chuẩn 6: Xây dựng chương trình, biên soạn giáo trình, tài liệu giảng dạy | B52: =SUM(B$53:B$54) -> 4 | C52: =SUM(C$53:C$54) -> 4 | D52: =ROUND($C52/$B52*100,1) -> 100 | F52: =SUM(F$53:F$54) -> 4 | G52: =ROUND($F52/$B52*100,1) -> 100
A53: + Nắm được căn cứ, nguyên tắc, yêu cầu và quy trình xây dựng chương trình đào tạo trình độ cao đẳng. | B53: 2 | C53: 2 | D53: =ROUND($C53/$B53*100,1) -> 100 | E53: Tham gia biên soạn chỉnh lý đề cương môn học | F53: 2 | G53: =ROUND($F53/$B53*100,1) -> 100
A54: + Chủ trì hoặc tham gia biên soạn, chỉnh lý chương trình, giáo trình, tài liệu đào tạo trình độ cao đẳng; chương trình bồi dưỡng nghề nghiệp. | B54: 2 | C54: 2 | D54: =ROUND($C54/$B54*100,1) -> 100 | E54: Tham gia biên soạn chỉnh lý đề cương môn học | F54: 2 | G54: =ROUND($F54/$B54*100,1) -> 100
A55: - Tiêu chuẩn 7 về Xây dựng kế hoạch, thực hiện các hoạt động giáo dục | B55: =SUM(B$56:B$59) -> 8 | C55: =SUM(C$56:C$59) -> 8 | D55: =ROUND($C55/$B55*100,1) -> 100 | F55: =SUM(F$56:F$59) -> 8 | G55: =ROUND($F55/$B55*100,1) -> 100
A56: + Xây dựng được kế hoạch giáo dục người học thông qua giảng dạy và qua các hoạt động khác | B56: 2 | C56: 2 | D56: =ROUND($C56/$B56*100,1) -> 100 | E56: Phiếu đánh giá kết quả rèn luyện | F56: 2 | G56: =ROUND($F56/$B56*100,1) -> 100
A57: + Thực hiện việc giáo dục đạo đức nghề nghiệp, thái độ nghề nghiệp thông qua việc giảng dạy môn học, mô-đun theo kế hoạch đã xây dựng. | B57: 2 | C57: 2 | D57: =ROUND($C57/$B57*100,1) -> 100 | E57: Hồ sơ chuyên môn | F57: 2 | G57: =ROUND($F57/$B57*100,1) -> 100
A58: + Vận dụng các hiểu biết về tâm lý, giáo dục vào thực hiện hoạt động giáo dục người học | B58: 2 | C58: 2 | D58: =ROUND($C58/$B58*100,1) -> 100 | E58: Hồ sơ chuyên môn | F58: 2 | G58: =ROUND($F58/$B58*100,1) -> 100
A59: + Đánh giá kết quả các mặt rèn luyện đạo đức của người học theo quy định một cách chính xác, công bằng và có tác dụng giáo dục | B59: 2 | C59: 2 | D59: =ROUND($C59/$B59*100,1) -> 100 | E59: Phiếu đánh giá kết quả rèn luyện | F59: 2 | G59: =ROUND($F59/$B59*100,1) -> 100
A60: - Tiêu chuẩn 8: Quản lý người học, xây dựng môi trường giáo dục, học tập | B60: =SUM(B$61:B$62) -> 4 | C60: =SUM(C$61:C$62) -> 4 | D60: =ROUND($C60/$B60*100,1) -> 100 | F60: =SUM(F$61:F$62) -> 4 | G60: =ROUND($F60/$B60*100,1) -> 100
A61: + Quản lý được các thông tin liên quan đến người học và sử dụng hiệu quả các thông tin vào giáo dục, dạy học, quản lý người học | B61: 2 | C61: 2 | D61: =ROUND($C61/$B61*100,1) -> 100 | E61: Trao đổi với HSSV để nắm bắt tâm tư nguyện vọng và kịp thời định hướng giáo dục | F61: 2 | G61: =ROUND($F61/$B61*100,1) -> 100
A62: + Xây dựng môi trường giáo dục, học tập lành mạnh, thuận lợi, dân chủ, hợp tác | B62: 2 | C62: 2 | D62: =ROUND($C62/$B62*100,1) -> 100 | E62: Tích cực liên lạc với phụ huynh, điện thoại, zalo, sổ liên lạc điện tử | F62: 2 | G62: =ROUND($F62/$B62*100,1) -> 100
A63: - Tiêu chuẩn 9: Hoạt động xã hội | B63: =SUM(B$64:B$65) -> 4 | C63: =SUM(C$64:C$65) -> 4 | D63: =ROUND($C63/$B63*100,1) -> 100 | F63: =SUM(F$64:F$65) -> 4 | G63: =ROUND($F63/$B63*100,1) -> 100
A64: + Phối hợp với gia đình người học và cộng đồng động viên, hỗ trợ, giám sát việc học tập, rèn luyện của người học; góp phần huy động các nguồn lực xã hội xây dựng, phát triển cơ sở hoạt động giáo dục nghề nghiệp. | B64: 2 | C64: 2 | D64: =ROUND($C64/$B64*100,1) -> 100 | E64: Tuyên truyền các chương trình cộng đồng, thiện nguyện do nhà trường, đoàn hội phát động | F64: 2 | G64: =ROUND($F64/$B64*100,1) -> 100
A65: + Tham gia các hoạt động xã hội trong và ngoài cơ sở hoạt động giáo dục nghề nghiệp, xây dựng quan hệ giữa cơ sở hoạt động giáo dục nghề nghiệp với doanh nghiệp nhằm phát triển cơ sở hoạt động giáo dục nghề nghiệp, cộng đồng; xây dựng phong trào học nghề lập nghiệp trong xã hội | B65: 2 | C65: 2 | D65: =ROUND($C65/$B65*100,1) -> 100 | E65: - Tham gia công tác xã hội, ủng hộ các lần vận động do nhà trường và các tổ chức đoàn thể phát động | F65: 2 | G65: =ROUND($F65/$B65*100,1) -> 100
A66: Tiêu chí 3 về Năng lực phát triển nghề nghiệp, nghiên cứu khoa học | B66: =SUM(B$67,B$72,B$75) -> 16 | C66: =SUM(C$67,C$72,C$75) -> 12 | D66: =ROUND($C66/$B66*100,1) -> 75 | F66: =SUM(F$67,F$72,F$75) -> 11 | G66: =ROUND($F66/$B66*100,1) -> 68.8
A67: - Tiêu chuẩn 1: Học tập, bồi dưỡng nâng cao | B67: =SUM(B$68:B$71) -> 8 | C67: =SUM(C$68:C$71) -> 6 | D67: =ROUND($C67/$B67*100,1) -> 75 | F67: =SUM(F$68:F$71) -> 5 | G67: =ROUND($F67/$B67*100,1) -> 62.5
A68: + Thường xuyên dự giờ, trao đổi kinh nghiệm giảng dạy, giáo dục với đồng nghiệp; tham gia bồi dưỡng đồng nghiệp theo yêu cầu phát triển của phòng, khoa, tổ bộ môn | B68: 2 | C68: 2 | D68: =ROUND($C68/$B68*100,1) -> 100 | E68: Biên bản họp Khoa, họp tổ bộ môn, dự giờ | F68: 1 | G68: =ROUND($F68/$B68*100,1) -> 50
A69: + Tham gia hội giảng các cấp | B69: 2 | C69: 0 | D69: =ROUND($C69/$B69*100,1) -> 0 | E69: Biên bản họp Khoa, họp tổ bộ môn, dự giờ | F69: 0 | G69: =ROUND($F69/$B69*100,1) -> 0
A70: + Thường xuyên tự học tập, bồi dưỡng, rèn luyện nâng cao trình độ chuyên môn, nghiệp vụ, phẩm chất đạo đức nghề nghiệp | B70: 2 | C70: 2 | D70: =ROUND($C70/$B70*100,1) -> 100 | E70: Biên bản họp Khoa, họp tổ bộ môn, dự giờ | F70: 2 | G70: =ROUND($F70/$B70*100,1) -> 100
A71: + Tham gia các khóa đào tạo, bồi dưỡng nâng cao trình độ, cập nhật kiến thức, kỹ năng nghề, công nghệ, phương pháp giảng dạy đáp ứng yêu cầu của giáo dục nghề nghiệp. | B71: 2 | C71: 2 | D71: =ROUND($C71/$B71*100,1) -> 100 | E71: Tham gia các lớp bồi dưỡng do nhà trường tổ chức | F71: 2 | G71: =ROUND($F71/$B71*100,1) -> 100
A72: - Tiêu chuẩn 2: Phát triển năng lực nghề nghiệp cho người học | B72: =SUM(B73:B74) -> 4 | C72: =SUM(C73:C74) -> 2 | D72: =ROUND($C72/$B72*100,1) -> 50 | F72: =SUM(F73:F74) -> 2 | G72: =ROUND($F72/$B72*100,1) -> 50
A73: + Hướng dẫn thực tập kết hợp với thực tiễn nghề nghiệp | B73: 2 | C73: 2 | D73: =ROUND($C73/$B73*100,1) -> 100 | E73: - Giấy xác nhận đi thực tập tại Doanh nghiệp | F73: 2 | G73: =ROUND($F73/$B73*100,1) -> 100
A74: + Tham gia bồi dưỡng nâng cao, luyện tay nghề cho học sinh, sinh viên giỏi các cấp | B74: 2 | C74: 0 | D74: =ROUND($C74/$B74*100,1) -> 0 | E74: - Giới thiệu sinh viên đi thực tập tại doanh nghiệp | F74: 0 | G74: =ROUND($F74/$B74*100,1) -> 0
A75: - Tiêu chuẩn 3: Nghiên cứu khoa học | B75: =SUM(B76:B77) -> 4 | C75: =SUM(C76:C77) -> 4 | D75: =ROUND($C75/$B75*100,1) -> 100 | F75: =SUM(F76:F77) -> 4 | G75: =ROUND($F75/$B75*100,1) -> 100
A76: + Có kiến thức, kỹ năng cơ bản về nghiên cứu khoa học và công nghệ | B76: 2 | C76: 2 | D76: =ROUND($C76/$B76*100,1) -> 100 | E76: Bảng điểm nghiên cứu khoa học | F76: 2 | G76: =ROUND($F76/$B76*100,1) -> 100
A77: + Chủ trì hoặc tham gia đề tài nghiên cứu khoa học từ cấp cơ sở trở lên. | B77: 2 | C77: 2 | D77: =ROUND($C77/$B77*100,1) -> 100 | E77: Tham gia hội nghị khoa học cấp Khoa | F77: 2 | G77: =ROUND($F77/$B77*100,1) -> 100
A78: Tổng số điểm đánh giá | B78: =SUM(B$16,B$30,B$66) -> 88 | C78: =SUM(C$16,C$30,C$66) -> 80 | D78: =ROUND($C78/$B78*100,1) -> 90.9 | F78: =SUM(F$16,F$30,F$66) -> 78 | G78: =ROUND($F78/$B78*100,1) -> 88.6
A79: Điểm quy đổi | B79: 100 | C79: =(C$78*$B$79/$B$78) -> 90.909091 | D79: =ROUND($C79/$B79*100,1) -> 90.9 | F79: =(F$78*$B$79/$B$78) -> 88.636364 | G79: =ROUND($F79/$B79*100,1) -> 88.6
A80: Xếp loại | C80: =IF(AND(D17<50),"Không đạt",IF(AND(D24<50),"Không đạt",IF(AND(D27<50),"Không đạt",IF(AND(D31<50),"Không đạt",IF(AND(D34<50),"Không đạt",IF(AND(D41<50),"Không đạt",IF(AND(D46<50),"Không đạt",IF(AND(D49<50),"Không đạt",IF(AND(D52<50),"Không đạt",IF(AND(D55<50),"Không đạt",IF(AND(D60<50),"Không đạt",IF(AND(D63<50),"Không đạt",IF(AND(D67<50),"Không đạt",IF(AND(D72<50),"Không đạt",IF(AND(D75<50),"Không đạt",IF(AND(C79>=80),"A",IF(AND(C79>=65,C79<79),"B",IF(AND(C79>=50,C78<64),"C","Không đạt")))))))))))))))))) -> A | F80: =IF(AND(G17<50),"Không đạt",IF(AND(G24<50),"Không đạt",IF(AND(G27<50),"Không đạt",IF(AND(G31<50),"Không đạt",IF(AND(G34<50),"Không đạt",IF(AND(G41<50),"Không đạt",IF(AND(G46<50),"Không đạt",IF(AND(G49<50),"Không đạt",IF(AND(G52<50),"Không đạt",IF(AND(G55<50),"Không đạt",IF(AND(G60<50),"Không đạt",IF(AND(G63<50),"Không đạt",IF(AND(G67<50),"Không đạt",IF(AND(G72<50),"Không đạt",IF(AND(G75<50),"Không đạt",IF(AND(F79>=80),"A",IF(AND(F79>=65,F79<79),"B",IF(AND(F79>=50,F78<64),"C","Không đạt")))))))))))))))))) -> A
D81: =C80 -> A
A82: Tp. HCM, ngày 23 tháng 4 năm 2019 | F82: Tp. HCM, ngày 23 tháng 4 năm 2019
A83: Nhà giáo tự đánh giá | F83: Trưởng khoa
A84: (ký và ghi rõ họ, tên) | F84: (ký và ghi rõ họ, tên)
A88: Võ Thị Kim Thư | F88: Nguyễn Trọng Nghĩa

Sheet LE XUAN THUY
D2: CỘNG HÒA XÃ HỘI CHỦ NGHĨA VIỆT NAM Độc lập - Tự do - Hạnh phúc
A5: PHIẾU ĐÁNH GIÁ, XẾP LOẠI CHUYÊN MÔN, NGHIỆP VỤ CỦA NHÀ GIÁO Năm học 2018-2019
A7: Họ và tên giảng viên: | C7: Lê Xuân Thủy
A8: Khoa, tổ bộ môn: Tổ quản trị doanh nghiệp- Khoa Kinh tế
A9: Cấp trình độ giảng dạy: Trung cấp và cao đẳng
A10: Nhiệm vụ được phân công giảng dạy (Lý thuyết, thực hành, tích hợp): Lý thuyết, thực hành, tổng hợp
A12: Ghi chú: 1. Nhà giáo chỉ cho điểm vào cột: "Nhà giáo tự cho điểm" và ghi các minh chứng vào cột: Các minh chứng của Nhà giáo. Các ô tô màu Nhà giáo không nhập điểm hoặc không ghi các minh chứng vào các ô đó. 2. Các Trưởng đơn vị cho điểm Nhà giáo thuộc đơn vị quản lý vào các ô màu hồng (sau khi Hội đồng chuyên môn đơn vị tổ chức họp xem xét và chấm điểm).
A14: Các tiêu chí và tiêu chuẩn | B14: Điểm tối đa | C14: Nhà giáo tự đánh giá xếp loại | F14: Khoa đánh giá, xếp loại
C15: Điểm đánh giá đạt được | D15: Tỷ lệ % của điểm đánh giá đạt được so với điểm đánh giá tối đa của mỗi tiêu chuẩn (lấy đến 1 chữ số thập phân, không làm tròn) | E15: Các minh chứng | F15: Điểm đánh giá đạt được | G15: Tỷ lệ % của điểm đánh giá đạt được so với điểm đánh giá tối đa của mỗi tiêu chuẩn(lấy đến 1 chữ số thập phân, không làm tròn) | H15: Các minh chứng
A16: Tiêu chí 1 về Năng lực chuyên môn | B16: =SUM(B$17,B$24,B$24) -> 20 | C16: =SUM(C$17,C$24,C$24) -> 20 | D16: =ROUND($C16/$B16*100,1) -> 100 | F16: =SUM(F$17,F$24,F$24) -> 20 | G16: =ROUND($F16/$B16*100,1) -> 100
A17: - Tiêu chuẩn 1: Trình độ chuyên môn | B17: =SUM(B$18:B$23) -> 12 | C17: =SUM(C$18:C$23) -> 12 | D17: =ROUND($C17/$B17*100,1) -> 100 | F17: =SUM(F$18:F$23) -> 12 | G17: =ROUND($F17/$B17*100,1) -> 100
A18: + Có bằng tốt nghiệp đại học chuyên ngành hoặc đại học sư phạm chuyên ngành trở lên, phù hợp với ngành, nghề giảng dạy và có một trong các chứng chỉ kỹ năng nghề phù hợp với ngành, nghề giảng dạy để dạy thực hành trình độ cao đẳng sau: Chứng chỉ kỹ năng nghề quốc gia Bậc 3 hoặc chứng nhận bậc thợ 5/7, 4/6 trở lên hoặc bằng tốt nghiệp cao đẳng nghề hoặc chứng chỉ kỹ năng thực hành nghề trình độ cao đẳng nghề hoặc tương đương; | B18: 2 | C18: 2 | D18: =ROUND($C18/$B18*100,1) -> 100 | E18: Bằng cấp đã nộp trong hồ sơ lưu | F18: 2 | G18: =ROUND($F18/$B18*100,1) -> 100
A19: + Nắm vững kiến thức ngành, nghề được phân công giảng dạy; | B19: 2 | C19: 2 | D19: =ROUND($C19/$B19*100,1) -> 100 | E19: Giấy khen thưởng GV giỏi | F19: 2 | G19: =ROUND($F19/$B19*100,1) -> 100
A20: + Có kiến thức về ngành, nghề liên quan; | B20: 2 | C20: 2 | D20: =ROUND($C20/$B20*100,1) -> 100 | F20: 2 | G20: =ROUND($F20/$B20*100,1) -> 100
A21: + Hiểu biết về thực tiễn nghề nghiệp, tiến bộ khoa học kỹ thuật, công nghệ mới và kỹ thuật an toàn, vệ sinh lao động của ngành, nghề được phân công giảng dạy | B21: 2 | C21: 2 | D21: =ROUND($C21/$B21*100,1) -> 100 | F21: 2 | G21: =ROUND($F21/$B21*100,1) -> 100
A22: + Thực hiện thành thạo các kỹ năng của ngành, nghề được phân công giảng dạy | B22: 2 | C22: 2 | D22: =ROUND($C22/$B22*100,1) -> 100 | F22: 2 | G22: =ROUND($F22/$B22*100,1) -> 100
A23: + Tổ chức thành thạo các hoạt động lao động sản xuất, dịch vụ ngành, nghề được phân công giảng dạy | B23: 2 | C23: 2 | D23: =ROUND($C23/$B23*100,1) -> 100 | E23: Kinh nghiệm đi làm thực tiễn | F23: 2 | G23: =ROUND($F23/$B23*100,1) -> 100
A24: - Tiêu chuẩn 2: Trình độ ngoại ngữ | B24: =SUM(B$25:B$26) -> 4 | C24: =SUM(C$25:C$26) -> 4 | D24: =ROUND($C24/$B24*100,1) -> 100 | F24: =SUM(F$25:F$26) -> 4 | G24: =ROUND($F24/$B24*100,1) -> 100
A25: + Đối vối giáo viên, giảng viên không chuyên ngành ngoại ngữ: Có trình độ ngoại ngữ Bậc 2 (A2) theo quy định tại Thông tư số 01/2014/TT-BGDĐT ngày 24/01/2014 của Bộ Giáo dục và Đào tạo ban hành Khung năng lực ngoại ngữ 6 bậc dùng cho Việt Nam hoặc tương đương trở lên. + Đối với giáo viên, giảng viên chuyên ngành ngoại ngữ (giáo viên, giảng viên tổ Anh văn thuộc Khoa KHCB): Có trình độ ngoại ngữ Bậc 5 (C1) theo quy định tại Thông tư số 01/2014/TT-BGDĐT ngày 24/01/2014 của Bộ Giáo dục và Đào tạo ban hành Khung năng lực ngoại ngữ 6 bậc dùng cho Việt Nam hoặc tương đương trở lên. Và trình độ ngoại ngữ thứ hai phải đạt Bậc 2 (A2) theo quy định tại Thông tư số 01/2014/TT-BGDĐT. | B25: 2 | C25: 2 | D25: =ROUND($C25/$B25*100,1) -> 100 | E25: Văn bằng đã nộp trong hồ sơ lưu | F25: 2 | G25: =ROUND($F25/$B25*100,1) -> 100
A26: + Đọc và hiểu tài liệu chuyên ngành phục vụ công tác giảng dạy; mô tả được một số công việc cơ bản của ngành, nghề được phân công giảng dạy. | B26: 2 | C26: 2 | D26: =ROUND($C26/$B26*100,1) -> 100 | E26: Một số môn trong chương trình sử dụng tài liệu tiếng Anh | F26: 2 | G26: =ROUND($F26/$B26*100,1) -> 100
A27: - Tiêu chuẩn 3: Trình độ tin học | B27: =SUM(B$28:B$29) -> 4 | C27: =SUM(C$28:C$29) -> 4 | D27: =ROUND($C27/$B27*100,1) -> 100 | F27: =SUM(F$28:F$29) -> 4 | G27: =ROUND($F27/$B27*100,1) -> 100
A28: + Có trình độ tin học đạt Chuẩn kỹ năng sử dụng công nghệ thông tin cơ bản theo quy định tại Thông tư số 03/2014/TT-BTTTT ngày 11/3/2014 của Bộ Thông tin và Truyền thông quy định Chuẩn kỹ năng sử dụng công nghệ thông tin hoặc tương đương trở lên. | B28: 2 | C28: 2 | D28: =ROUND($C28/$B28*100,1) -> 100 | E28: Chứng chỉ đã nộp trong hồ sơ lưu, IC3 | F28: 2 | G28: =ROUND($F28/$B28*100,1) -> 100
A29: + Sử dụng thành thạo phần mềm dạy học chuyên ngành để thiết kế bài giảng, tài liệu giảng dạy. | B29: 2 | C29: 2 | D29: =ROUND($C29/$B29*100,1) -> 100 | F29: 2 | G29: =ROUND($F29/$B29*100,1) -> 100
A30: Tiêu chí 2 về Năng lực sư phạm | B30: =SUM(B$31,B$34,B$41,B$46,B$49,B$52,B$55,B$60,B$63) -> 52 | C30: =SUM(C$31,C$34,C$41,C$46,C$49,C$52,C$55,C$60,C$63) -> 47 | D30: =ROUND($C30/$B30*100,1) -> 90.4 | F30: =SUM(F$31,F$34,F$41,F$46,F$49,F$52,F$55,F$60,F$63) -> 46 | G30: =ROUND($F30/$B30*100,1) -> 88.5
A31: - Tiêu chuẩn 1 về Trình độ nghiệp vụ sư phạm và thời gian tham gia giảng dạy | B31: =SUM(B$32:B$33) -> 4 | C31: =SUM(C$32:C$33) -> 4 | D31: =ROUND($C31/$B31*100,1) -> 100 | F31: =SUM(F$32:F$33) -> 4 | G31: =ROUND($F31/$B31*100,1) -> 100
A32: + Có chứng chỉ sư phạm dạy nghề dạy trình độ trung cấp nghề, cao đẳng nghề hoặc chứng chỉ bồi dưỡng nghiệp vụ sư phạm cho giảng viên đại học, cao đẳng hoặc bằng tốt nghiệp đại học chuyên ngành sư phạm hoặc chứng chỉ nghiệp vụ sư phạm dạy trình độ cao đẳng hoặc tương đương. | B32: 2 | C32: 2 | D32: =ROUND($C32/$B32*100,1) -> 100 | E32: Chứng chỉ đã nộp trong hồ sơ lưu | F32: 2 | G32: =ROUND($F32/$B32*100,1) -> 100
A33: + Có thời gian tham gia giảng dạy ít nhất 12 tháng. | B33: 2 | C33: 2 | D33: =ROUND($C33/$B33*100,1) -> 100 | E33: Sổ BHXH đã nộp trong hồ sơ lưu | F33: 2 | G33: =ROUND($F33/$B33*100,1) -> 100
A34: - Tiêu chuẩn 2: Chuẩn bị hoạt động giảng dạy | B34: =SUM(B$35:B$40) -> 12 | C34: =SUM(C$35:C$40) -> 10 | D34: =ROUND($C34/$B34*100,1) -> 83.3 | F34: =SUM(F$35:F$40) -> 9 | G34: =ROUND($F34/$B34*100,1) -> 75
A35: + Lập được kế hoạch giảng dạy môn học, mô-đun được phân công trên cơ sở chương trình, kế hoạch đào tạo của cả khóa học. | B35: 2 | C35: 2 | D35: =ROUND($C35/$B35*100,1) -> 100 | E35: Hồ sơ kiểm tra chuyên môn đã lưu | F35: 2 | G35: =ROUND($F35/$B35*100,1) -> 100
A36: + Soạn giáo án theo quy định, thể hiện được các hoạt động dạy và học. | B36: 2 | C36: 2 | D36: =ROUND($C36/$B36*100,1) -> 100 | E36: Hồ sơ kiểm tra chuyên môn đã lưu | F36: 2 | G36: =ROUND($F36/$B36*100,1) -> 100
A37: + Lựa chọn phương pháp dạy học phù hợp cho các bài học của chương trình môn học, mô-đun được phân công giảng dạy. | B37: 2 | C37: 2 | D37: =ROUND($C37/$B37*100,1) -> 100 | E37: Đánh giá kết quả thao giảng cấp khoa, cấp trường | F37: 2 | G37: =ROUND($F37/$B37*100,1) -> 100
A38: + Chuẩn bị đầy đủ các phương tiện dạy học, thiết bị, nguyên, nhiên, vật liệu thực hành cần thiết | B38: 2 | C38: 2 | D38: =ROUND($C38/$B38*100,1) -> 100 | E38: Kết quả dự giờ đã lưu | F38: 2 | G38: =ROUND($F38/$B38*100,1) -> 100
A39: + Tự làm các thiết bị dạy học đơn giản để phục vụ giảng dạy | B39: 2 | C39: 2 | D39: =ROUND($C39/$B39*100,1) -> 100 | E39: Kết quả dự giờ đã lưu | F39: 1 | G39: =ROUND($F39/$B39*100,1) -> 50
A40: + Chủ trì hoặc tham gia thiết kế và bố trí trang thiết bị dạy học của phòng học chuyên môn phù hợp với chương trình của ngành, nghề được phân công giảng dạy. | B40: 2 | C40: 0 | D40: =ROUND($C40/$B40*100,1) -> 0 | F40: 0 | G40: =ROUND($F40/$B40*100,1) -> 0
A41: - Tiêu chuẩn 3: Thực hiện hoạt động giảng dạy | B41: =SUM(B$42:B$45) -> 8 | C41: =SUM(C$42:C$45) -> 8 | D41: =ROUND($C41/$B41*100,1) -> 100 | F41: =SUM(F$42:F$45) -> 8 | G41: =ROUND($F41/$B41*100,1) -> 100
A42: + Tổ chức dạy học phù hợp với ngành, nghề đào tạo và với từng đối tượng người học; thực hiện đầy đủ kế hoạch giảng dạy, đúng chương trình, nội dung. | B42: 2 | C42: 2 | D42: =ROUND($C42/$B42*100,1) -> 100 | E42: Kết quả dự giờ đã lưu | F42: 2 | G42: =ROUND($F42/$B42*100,1) -> 100
A43: + Thực hiện các giờ dạy lý thuyết, thực hành, tích hợp theo quy định | B43: 2 | C43: 2 | D43: =ROUND($C43/$B43*100,1) -> 100 | E43: Kết quả dự giờ đã lưu | F43: 2 | G43: =ROUND($F43/$B43*100,1) -> 100
A44: + Vận dụng, kết hợp các phương pháp dạy học để phát huy tính tích cực, sáng tạo, phát triển năng lực tự học của người học | B44: 2 | C44: 2 | D44: =ROUND($C44/$B44*100,1) -> 100 | E44: Kết quả dự giờ đã lưu | F44: 2 | G44: =ROUND($F44/$B44*100,1) -> 100
A45: + Sử dụng thành thạo các phương tiện, thiết bị dạy học để nâng cao hiệu quả giảng dạy, đảm bảo chất lượng giáo dục nghề nghiệp | B45: 2 | C45: 2 | D45: =ROUND($C45/$B45*100,1) -> 100 | E45: Kết quả dự giờ đã lưu | F45: 2 | G45: =ROUND($F45/$B45*100,1) -> 100
A46: - Tiêu chuẩn 4: Kiểm tra, đánh giá kết quả học tập của người học | B46: =SUM(B$47:B$48) -> 4 | C46: =SUM(C$47:C$48) -> 4 | D46: =ROUND($C46/$B46*100,1) -> 100 | F46: =SUM(F$47:F$48) -> 4 | G46: =ROUND($F46/$B46*100,1) -> 100
A47: + Lựa chọn và thiết kế các công cụ kiểm tra, đánh giá kết quả học tập của người học phù hợp với môn học, mô-đun được phân công giảng dạy. | B47: 2 | C47: 2 | D47: =ROUND($C47/$B47*100,1) -> 100 | E47: Kết quả dự giờ đã lưu Kết quả thi của HS-SV | F47: 2 | G47: =ROUND($F47/$B47*100,1) -> 100
A48: + Thực hiện việc kiểm tra, đánh giá toàn diện, chính xác, mang tính giáo dục và đúng quy định; sử dụng kết quả kiểm tra, đánh giá để điều chỉnh hoạt động dạy và học | B48: 2 | C48: 2 | D48: =ROUND($C48/$B48*100,1) -> 100 | E48: Kết quả dự giờ đã lưu Kết quả thi của HS-SV | F48: 2 | G48: =ROUND($F48/$B48*100,1) -> 100
A49: - Tiêu chuẩn 5: Quản lý hồ sơ dạy học | B49: =SUM(B$50:B$51) -> 4 | C49: =SUM(C$50:C$51) -> 4 | D49: =ROUND($C49/$B49*100,1) -> 100 | F49: =SUM(F$50:F$51) -> 4 | G49: =ROUND($F49/$B49*100,1) -> 100
A50: + Thực hiện đầy đủ các quy định về sử dụng biểu mẫu, sổ sách, hồ sơ dạy học. | B50: 2 | C50: 2 | D50: =ROUND($C50/$B50*100,1) -> 100 | E50: Hồ sơ kiểm tra chuyên môn đã lưu | F50: 2 | G50: =ROUND($F50/$B50*100,1) -> 100
A51: + Bảo quản, lưu trữ, sử dụng hồ sơ dạy học theo quy định | B51: 2 | C51: 2 | D51: =ROUND($C51/$B51*100,1) -> 100 | E51: Hồ sơ kiểm tra chuyên môn đã lưu | F51: 2 | G51: =ROUND($F51/$B51*100,1) -> 100
A52: - Tiêu chuẩn 6: Xây dựng chương trình, biên soạn giáo trình, tài liệu giảng dạy | B52: =SUM(B$53:B$54) -> 4 | C52: =SUM(C$53:C$54) -> 3 | D52: =ROUND($C52/$B52*100,1) -> 75 | F52: =SUM(F$53:F$54) -> 3 | G52: =ROUND($F52/$B52*100,1) -> 75
A53: + Nắm được căn cứ, nguyên tắc, yêu cầu và quy trình xây dựng chương trình đào tạo trình độ cao đẳng. | B53: 2 | C53: 2 | D53: =ROUND($C53/$B53*100,1) -> 100 | E53: Soạn thảo chương trình đào tạo ngành Quản trị kinh doanh (chưa duyệt) | F53: 2 | G53: =ROUND($F53/$B53*100,1) -> 100
A54: + Chủ trì hoặc tham gia biên soạn, chỉnh lý chương trình, giáo trình, tài liệu đào tạo trình độ cao đẳng; chương trình bồi dưỡng nghề nghiệp. | B54: 2 | C54: 1 | D54: =ROUND($C54/$B54*100,1) -> 50 | E54: Soạn thảo chương trình đào tạo ngành Quản trị kinh doanh (chưa duyệt) | F54: 1 | G54: =ROUND($F54/$B54*100,1) -> 50
A55: - Tiêu chuẩn 7 về Xây dựng kế hoạch, thực hiện các hoạt động giáo dục | B55: =SUM(B$56:B$59) -> 8 | C55: =SUM(C$56:C$59) -> 8 | D55: =ROUND($C55/$B55*100,1) -> 100 | F55: =SUM(F$56:F$59) -> 8 | G55: =ROUND($F55/$B55*100,1) -> 100
A56: + Xây dựng được kế hoạch giáo dục người học thông qua giảng dạy và qua các hoạt động khác | B56: 2 | C56: 2 | D56: =ROUND($C56/$B56*100,1) -> 100 | E56: Kết quả dự giờ đã lưu | F56: 2 | G56: =ROUND($F56/$B56*100,1) -> 100
A57: + Thực hiện việc giáo dục đạo đức nghề nghiệp, thái độ nghề nghiệp thông qua việc giảng dạy môn học, mô-đun theo kế hoạch đã xây dựng. | B57: 2 | C57: 2 | D57: =ROUND($C57/$B57*100,1) -> 100 | E57: Kết quả dự giờ đã lưu | F57: 2 | G57: =ROUND($F57/$B57*100,1) -> 100
A58: + Vận dụng các hiểu biết về tâm lý, giáo dục vào thực hiện hoạt động giáo dục người học | B58: 2 | C58: 2 | D58: =ROUND($C58/$B58*100,1) -> 100 | E58: Kết quả dự giờ đã lưu | F58: 2 | G58: =ROUND($F58/$B58*100,1) -> 100
A59: + Đánh giá kết quả các mặt rèn luyện đạo đức của người học theo quy định một cách chính xác, công bằng và có tác dụng giáo dục | B59: 2 | C59: 2 | D59: =ROUND($C59/$B59*100,1) -> 100 | E59: Kết quả dự giờ đã lưu Kết quả thi của HS-SV | F59: 2 | G59: =ROUND($F59/$B59*100,1) -> 100
A60: - Tiêu chuẩn 8: Quản lý người học, xây dựng môi trường giáo dục, học tập | B60: =SUM(B$61:B$62) -> 4 | C60: =SUM(C$61:C$62) -> 4 | D60: =ROUND($C60/$B60*100,1) -> 100 | F60: =SUM(F$61:F$62) -> 4 | G60: =ROUND($F60/$B60*100,1) -> 100
A61: + Quản lý được các thông tin liên quan đến người học và sử dụng hiệu quả các thông tin vào giáo dục, dạy học, quản lý người học | B61: 2 | C61: 2 | D61: =ROUND($C61/$B61*100,1) -> 100 | E61: Kết quả dự giờ đã lưu Kết quả thi của HS-SV | F61: 2 | G61: =ROUND($F61/$B61*100,1) -> 100
A62: + Xây dựng môi trường giáo dục, học tập lành mạnh, thuận lợi, dân chủ, hợp tác | B62: 2 | C62: 2 | D62: =ROUND($C62/$B62*100,1) -> 100 | E62: Kết quả dự giờ đã lưu Kết quả thi của HS-SV | F62: 2 | G62: =ROUND($F62/$B62*100,1) -> 100
A63: - Tiêu chuẩn 9: Hoạt động xã hội | B63: =SUM(B$64:B$65) -> 4 | C63: =SUM(C$64:C$65) -> 2 | D63: =ROUND($C63/$B63*100,1) -> 50 | F63: =SUM(F$64:F$65) -> 2 | G63: =ROUND($F63/$B63*100,1) -> 50
A64: + Phối hợp với gia đình người học và cộng đồng động viên, hỗ trợ, giám sát việc học tập, rèn luyện của người học; góp phần huy động các nguồn lực xã hội xây dựng, phát triển cơ sở hoạt động giáo dục nghề nghiệp. | B64: 2 | C64: 2 | D64: =ROUND($C64/$B64*100,1) -> 100 | E64: Hoạt động CVHT-GVCN | F64: 2 | G64: =ROUND($F64/$B64*100,1) -> 100
A65: + Tham gia các hoạt động xã hội trong và ngoài cơ sở hoạt động giáo dục nghề nghiệp, xây dựng quan hệ giữa cơ sở hoạt động giáo dục nghề nghiệp với doanh nghiệp nhằm phát triển cơ sở hoạt động giáo dục nghề nghiệp, cộng đồng; xây dựng phong trào học nghề lập nghiệp trong xã hội | B65: 2 | C65: 0 | D65: =ROUND($C65/$B65*100,1) -> 0 | E65: Quảng bá tuyển sinh cho nhà trường | F65: 0 | G65: =ROUND($F65/$B65*100,1) -> 0
A66: Tiêu chí 3 về Năng lực phát triển nghề nghiệp, nghiên cứu khoa học | B66: =SUM(B$67,B$72,B$75) -> 16 | C66: =SUM(C$67,C$72,C$75) -> 12 | D66: =ROUND($C66/$B66*100,1) -> 75 | F66: =SUM(F$67,F$72,F$75) -> 12 | G66: =ROUND($F66/$B66*100,1) -> 75
A67: - Tiêu chuẩn 1: Học tập, bồi dưỡng nâng cao | B67: =SUM(B$68:B$71) -> 8 | C67: =SUM(C$68:C$71) -> 6 | D67: =ROUND($C67/$B67*100,1) -> 75 | F67: =SUM(F$68:F$71) -> 6 | G67: =ROUND($F67/$B67*100,1) -> 75
A68: + Thường xuyên dự giờ, trao đổi kinh nghiệm giảng dạy, giáo dục với đồng nghiệp; tham gia bồi dưỡng đồng nghiệp theo yêu cầu phát triển của phòng, khoa, tổ bộ môn | B68: 2 | C68: 2 | D68: =ROUND($C68/$B68*100,1) -> 100 | E68: Hồ sơ lưu trữ của Khoa | F68: 2 | G68: =ROUND($F68/$B68*100,1) -> 100
A69: + Tham gia hội giảng các cấp | B69: 2 | C69: 0 | D69: =ROUND($C69/$B69*100,1) -> 0 | E69: Hội giảng cấp trường 2015-2016 | F69: 0 | G69: =ROUND($F69/$B69*100,1) -> 0
A70: + Thường xuyên tự học tập, bồi dưỡng, rèn luyện nâng cao trình độ chuyên môn, nghiệp vụ, phẩm chất đạo đức nghề nghiệp | B70: 2 | C70: 2 | D70: =ROUND($C70/$B70*100,1) -> 100 | E70: Các bằng cấp, chứng chỉ bổ sung trong hồ sơ lưu | F70: 2 | G70: =ROUND($F70/$B70*100,1) -> 100
A71: + Tham gia các khóa đào tạo, bồi dưỡng nâng cao trình độ, cập nhật kiến thức, kỹ năng nghề, công nghệ, phương pháp giảng dạy đáp ứng yêu cầu của giáo dục nghề nghiệp. | B71: 2 | C71: 2 | D71: =ROUND($C71/$B71*100,1) -> 100 | E71: Các bằng cấp, chứng chỉ bổ sung trong hồ sơ lưu | F71: 2 | G71: =ROUND($F71/$B71*100,1) -> 100
A72: - Tiêu chuẩn 2: Phát triển năng lực nghề nghiệp cho người học | B72: =SUM(B73:B74) -> 4 | C72: =SUM(C73:C74) -> 2 | D72: =ROUND($C72/$B72*100,1) -> 50 | F72: =SUM(F73:F74) -> 2 | G72: =ROUND($F72/$B72*100,1) -> 50
A73: + Hướng dẫn thực tập kết hợp với thực tiễn nghề nghiệp | B73: 2 | C73: 2 | D73: =ROUND($C73/$B73*100,1) -> 100 | E73: Theo sự phân công của khoa | F73: 2 | G73: =ROUND($F73/$B73*100,1) -> 100
A74: + Tham gia bồi dưỡng nâng cao, luyện tay nghề cho học sinh, sinh viên giỏi các cấp | B74: 2 | C74: 0 | D74: =ROUND($C74/$B74*100,1) -> 0 | F74: 0 | G74: =ROUND($F74/$B74*100,1) -> 0
A75: - Tiêu chuẩn 3: Nghiên cứu khoa học | B75: =SUM(B76:B77) -> 4 | C75: =SUM(C76:C77) -> 4 | D75: =ROUND($C75/$B75*100,1) -> 100 | F75: =SUM(F76:F77) -> 4 | G75: =ROUND($F75/$B75*100,1) -> 100
A76: + Có kiến thức, kỹ năng cơ bản về nghiên cứu khoa học và công nghệ | B76: 2 | C76: 2 | D76: =ROUND($C76/$B76*100,1) -> 100 | E76: Nghiên cứu khoa học cấp trường | F76: 2 | G76: =ROUND($F76/$B76*100,1) -> 100
A77: + Chủ trì hoặc tham gia đề tài nghiên cứu khoa học từ cấp cơ sở trở lên. | B77: 2 | C77: 2 | D77: =ROUND($C77/$B77*100,1) -> 100 | E77: Nghiên cứu khoa học cấp khoa | F77: 2 | G77: =ROUND($F77/$B77*100,1) -> 100
A78: Tổng số điểm đánh giá | B78: =SUM(B$16,B$30,B$66) -> 88 | C78: =SUM(C$16,C$30,C$66) -> 79 | D78: =ROUND($C78/$B78*100,1) -> 89.8 | F78: =SUM(F$16,F$30,F$66) -> 78 | G78: =ROUND($F78/$B78*100,1) -> 88.6
A79: Điểm quy đổi | B79: 100 | C79: =(C$78*$B$79/$B$78) -> 89.772727 | D79: =ROUND($C79/$B79*100,1) -> 89.8 | F79: =(F$78*$B$79/$B$78) -> 88.636364 | G79: =ROUND($F79/$B79*100,1) -> 88.6
A80: Xếp loại | C80: =IF(AND(D17<50),"Không đạt",IF(AND(D24<50),"Không đạt",IF(AND(D27<50),"Không đạt",IF(AND(D31<50),"Không đạt",IF(AND(D34<50),"Không đạt",IF(AND(D41<50),"Không đạt",IF(AND(D46<50),"Không đạt",IF(AND(D49<50),"Không đạt",IF(AND(D52<50),"Không đạt",IF(AND(D55<50),"Không đạt",IF(AND(D60<50),"Không đạt",IF(AND(D63<50),"Không đạt",IF(AND(D67<50),"Không đạt",IF(AND(D72<50),"Không đạt",IF(AND(D75<50),"Không đạt",IF(AND(C79>=80),"A",IF(AND(C79>=65,C79<79),"B",IF(AND(C79>=50,C78<64),"C","Không đạt")))))))))))))))))) -> A | F80: =IF(AND(G17<50),"Không đạt",IF(AND(G24<50),"Không đạt",IF(AND(G27<50),"Không đạt",IF(AND(G31<50),"Không đạt",IF(AND(G34<50),"Không đạt",IF(AND(G41<50),"Không đạt",IF(AND(G46<50),"Không đạt",IF(AND(G49<50),"Không đạt",IF(AND(G52<50),"Không đạt",IF(AND(G55<50),"Không đạt",IF(AND(G60<50),"Không đạt",IF(AND(G63<50),"Không đạt",IF(AND(G67<50),"Không đạt",IF(AND(G72<50),"Không đạt",IF(AND(G75<50),"Không đạt",IF(AND(F79>=80),"A",IF(AND(F79>=65,F79<79),"B",IF(AND(F79>=50,F78<64),"C","Không đạt")))))))))))))))))) -> A
D81: =C80 -> A
A82: Tp. HCM, ngày 19 tháng 4 năm 2019 | F82: Tp. HCM, ngày 23 tháng 4 năm 2019
A83: Nhà giáo tự đánh giá | F83: Trưởng khoa
A84: (ký và ghi rõ họ, tên) | F84: (ký và ghi rõ họ, tên)
A88: Lê Xuân Thủy | F88: Nguyễn Trọng Nghĩa

Sheet LUU THI THUY
D2: CỘNG HÒA XÃ HỘI CHỦ NGHĨA VIỆT NAM Độc lập - Tự do - Hạnh phúc
A5: PHIẾU ĐÁNH GIÁ, XẾP LOẠI CHUYÊN MÔN, NGHIỆP VỤ CỦA NHÀ GIÁO Năm học 2018-2019
A7: Họ và tên giảng viên: | C7: Lưu Thị Thúy
A8: Khoa, tổ bộ môn: Tổ Kế toán - Khoa Kinh tế
A9: Cấp trình độ giảng dạy: Trung cấp và cao đẳng
A10: Nhiệm vụ được phân công giảng dạy (Lý thuyết, thực hành, tích hợp): Lý thuyết, thực hành, tổng hợp
A12: Ghi chú: 1. Nhà giáo chỉ cho điểm vào cột: "Nhà giáo tự cho điểm" và ghi các minh chứng vào cột: Các minh chứng của Nhà giáo. Các ô tô màu Nhà giáo không nhập điểm hoặc không ghi các minh chứng vào các ô đó. 2. Các Trưởng đơn vị cho điểm Nhà giáo thuộc đơn vị quản lý vào các ô màu hồng (sau khi Hội đồng chuyên môn đơn vị tổ chức họp xem xét và chấm điểm).
A14: Các tiêu chí và tiêu chuẩn | B14: Điểm tối đa | C14: Nhà giáo tự đánh giá xếp loại | F14: Khoa đánh giá, xếp loại
C15: Điểm đánh giá đạt được | D15: Tỷ lệ % của điểm đánh giá đạt được so với điểm đánh giá tối đa của mỗi tiêu chuẩn (lấy đến 1 chữ số thập phân, không làm tròn) | E15: Các minh chứng | F15: Điểm đánh giá đạt được | G15: Tỷ lệ % của điểm đánh giá đạt được so với điểm đánh giá tối đa của mỗi tiêu chuẩn(lấy đến 1 chữ số thập phân, không làm tròn) | H15: Các minh chứng
A16: Tiêu chí 1 về Năng lực chuyên môn | B16: =SUM(B$17,B$24,B$24) -> 20 | C16: =SUM(C$17,C$24,C$24) -> 20 | D16: =ROUND($C16/$B16*100,1) -> 100 | F16: =SUM(F$17,F$24,F$24) -> 20 | G16: =ROUND($F16/$B16*100,1) -> 100
A17: - Tiêu chuẩn 1: Trình độ chuyên môn | B17: =SUM(B$18:B$23) -> 12 | C17: =SUM(C$18:C$23) -> 12 | D17: =ROUND($C17/$B17*100,1) -> 100 | F17: =SUM(F$18:F$23) -> 12 | G17: =ROUND($F17/$B17*100,1) -> 100
A18: + Có bằng tốt nghiệp đại học chuyên ngành hoặc đại học sư phạm chuyên ngành trở lên, phù hợp với ngành, nghề giảng dạy và có một trong các chứng chỉ kỹ năng nghề phù hợp với ngành, nghề giảng dạy để dạy thực hành trình độ cao đẳng sau: Chứng chỉ kỹ năng nghề quốc gia Bậc 3 hoặc chứng nhận bậc thợ 5/7, 4/6 trở lên hoặc bằng tốt nghiệp cao đẳng nghề hoặc chứng chỉ kỹ năng thực hành nghề trình độ cao đẳng nghề hoặc tương đương; | B18: 2 | C18: 2 | D18: =ROUND($C18/$B18*100,1) -> 100 | E18: -Bằng Thạc sỹ kế toán doanh nghiệp | F18: 2 | G18: =ROUND($F18/$B18*100,1) -> 100
A19: + Nắm vững kiến thức ngành, nghề được phân công giảng dạy; | B19: 2 | C19: 2 | D19: =ROUND($C19/$B19*100,1) -> 100 | E19: -Bằng Thạc sỹ kế toán doanh nghiệp | F19: 2 | G19: =ROUND($F19/$B19*100,1) -> 100
A20: + Có kiến thức về ngành, nghề liên quan; | B20: 2 | C20: 2 | D20: =ROUND($C20/$B20*100,1) -> 100 | E20: -Bằng Thạc sỹ kế toán doanh nghiệp | F20: 2 | G20: =ROUND($F20/$B20*100,1) -> 100
A21: + Hiểu biết về thực tiễn nghề nghiệp, tiến bộ khoa học kỹ thuật, công nghệ mới và kỹ thuật an toàn, vệ sinh lao động của ngành, nghề được phân công giảng dạy | B21: 2 | C21: 2 | D21: =ROUND($C21/$B21*100,1) -> 100 | E21: -Bằng Thạc sỹ kế toán doanh nghiệp | F21: 2 | G21: =ROUND($F21/$B21*100,1) -> 100
A22: + Thực hiện thành thạo các kỹ năng của ngành, nghề được phân công giảng dạy | B22: 2 | C22: 2 | D22: =ROUND($C22/$B22*100,1) -> 100 | E22: -Bằng Thạc sỹ kế toán doanh nghiệp | F22: 2 | G22: =ROUND($F22/$B22*100,1) -> 100
A23: + Tổ chức thành thạo các hoạt động lao động sản xuất, dịch vụ ngành, nghề được phân công giảng dạy | B23: 2 | C23: 2 | D23: =ROUND($C23/$B23*100,1) -> 100 | E23: Kinh nghiệm đi làm thực tiễn | F23: 2 | G23: =ROUND($F23/$B23*100,1) -> 100
A24: - Tiêu chuẩn 2: Trình độ ngoại ngữ | B24: =SUM(B$25:B$26) -> 4 | C24: =SUM(C$25:C$26) -> 4 | D24: =ROUND($C24/$B24*100,1) -> 100 | F24: =SUM(F$25:F$26) -> 4 | G24: =ROUND($F24/$B24*100,1) -> 100
A25: + Đối vối giáo viên, giảng viên không chuyên ngành ngoại ngữ: Có trình độ ngoại ngữ Bậc 2 (A2) theo quy định tại Thông tư số 01/2014/TT-BGDĐT ngày 24/01/2014 của Bộ Giáo dục và Đào tạo ban hành Khung năng lực ngoại ngữ 6 bậc dùng cho Việt Nam hoặc tương đương trở lên. + Đối với giáo viên, giảng viên chuyên ngành ngoại ngữ (giáo viên, giảng viên tổ Anh văn thuộc Khoa KHCB): Có trình độ ngoại ngữ Bậc 5 (C1) theo quy định tại Thông tư số 01/2014/TT-BGDĐT ngày 24/01/2014 của Bộ Giáo dục và Đào tạo ban hành Khung năng lực ngoại ngữ 6 bậc dùng cho Việt Nam hoặc tương đương trở lên. Và trình độ ngoại ngữ thứ hai phải đạt Bậc 2 (A2) theo quy định tại Thông tư số 01/2014/TT-BGDĐT. | B25: 2 | C25: 2 | D25: =ROUND($C25/$B25*100,1) -> 100 | E25: B1 Anh văn | F25: 2 | G25: =ROUND($F25/$B25*100,1) -> 100
A26: + Đọc và hiểu tài liệu chuyên ngành phục vụ công tác giảng dạy; mô tả được một số công việc cơ bản của ngành, nghề được phân công giảng dạy. | B26: 2 | C26: 2 | D26: =ROUND($C26/$B26*100,1) -> 100 | E26: B1 Anh văn | F26: 2 | G26: =ROUND($F26/$B26*100,1) -> 100
A27: - Tiêu chuẩn 3: Trình độ tin học | B27: =SUM(B$28:B$29) -> 4 | C27: =SUM(C$28:C$29) -> 4 | D27: =ROUND($C27/$B27*100,1) -> 100 | F27: =SUM(F$28:F$29) -> 4 | G27: =ROUND($F27/$B27*100,1) -> 100
A28: + Có trình độ tin học đạt Chuẩn kỹ năng sử dụng công nghệ thông tin cơ bản theo quy định tại Thông tư số 03/2014/TT-BTTTT ngày 11/3/2014 của Bộ Thông tin và Truyền thông quy định Chuẩn kỹ năng sử dụng công nghệ thông tin hoặc tương đương trở lên. | B28: 2 | C28: 2 | D28: =ROUND($C28/$B28*100,1) -> 100 | E28: B Tin học | F28: 2 | G28: =ROUND($F28/$B28*100,1) -> 100
A29: + Sử dụng thành thạo phần mềm dạy học chuyên ngành để thiết kế bài giảng, tài liệu giảng dạy. | B29: 2 | C29: 2 | D29: =ROUND($C29/$B29*100,1) -> 100 | E29: B Tin học | F29: 2 | G29: =ROUND($F29/$B29*100,1) -> 100
A30: Tiêu chí 2 về Năng lực sư phạm | B30: =SUM(B$31,B$34,B$41,B$46,B$49,B$52,B$55,B$60,B$63) -> 52 | C30: =SUM(C$31,C$34,C$41,C$46,C$49,C$52,C$55,C$60,C$63) -> 52 | D30: =ROUND($C30/$B30*100,1) -> 100 | F30: =SUM(F$31,F$34,F$41,F$46,F$49,F$52,F$55,F$60,F$63) -> 51 | G30: =ROUND($F30/$B30*100,1) -> 98.1
A31: - Tiêu chuẩn 1 về Trình độ nghiệp vụ sư phạm và thời gian tham gia giảng dạy | B31: =SUM(B$32:B$33) -> 4 | C31: =SUM(C$32:C$33) -> 4 | D31: =ROUND($C31/$B31*100,1) -> 100 | F31: =SUM(F$32:F$33) -> 4 | G31: =ROUND($F31/$B31*100,1) -> 100
A32: + Có chứng chỉ sư phạm dạy nghề dạy trình độ trung cấp nghề, cao đẳng nghề hoặc chứng chỉ bồi dưỡng nghiệp vụ sư phạm cho giảng viên đại học, cao đẳng hoặc bằng tốt nghiệp đại học chuyên ngành sư phạm hoặc chứng chỉ nghiệp vụ sư phạm dạy trình độ cao đẳng hoặc tương đương. | B32: 2 | C32: 2 | D32: =ROUND($C32/$B32*100,1) -> 100 | E32: -Chứng chỉ sư phạm dạy học -Chứng chỉ nghiệp vụ sư phạm nghề | F32: 2 | G32: =ROUND($F32/$B32*100,1) -> 100
A33: + Có thời gian tham gia giảng dạy ít nhất 12 tháng. | B33: 2 | C33: 2 | D33: =ROUND($C33/$B33*100,1) -> 100 | E33: Sổ BHXH đã nộp trong hồ sơ lưu | F33: 2 | G33: =ROUND($F33/$B33*100,1) -> 100
A34: - Tiêu chuẩn 2: Chuẩn bị hoạt động giảng dạy | B34: =SUM(B$35:B$40) -> 12 | C34: =SUM(C$35:C$40) -> 12 | D34: =ROUND($C34/$B34*100,1) -> 100 | F34: =SUM(F$35:F$40) -> 11 | G34: =ROUND($F34/$B34*100,1) -> 91.7
A35: + Lập được kế hoạch giảng dạy môn học, mô-đun được phân công trên cơ sở chương trình, kế hoạch đào tạo của cả khóa học. | B35: 2 | C35: 2 | D35: =ROUND($C35/$B35*100,1) -> 100 | E35: -Hồ sơ chuyên môn | F35: 2 | G35: =ROUND($F35/$B35*100,1) -> 100
A36: + Soạn giáo án theo quy định, thể hiện được các hoạt động dạy và học. | B36: 2 | C36: 2 | D36: =ROUND($C36/$B36*100,1) -> 100 | E36: -Hồ sơ chuyên môn | F36: 2 | G36: =ROUND($F36/$B36*100,1) -> 100
A37: + Lựa chọn phương pháp dạy học phù hợp cho các bài học của chương trình môn học, mô-đun được phân công giảng dạy. | B37: 2 | C37: 2 | D37: =ROUND($C37/$B37*100,1) -> 100 | E37: -Hồ sơ chuyên môn | F37: 2 | G37: =ROUND($F37/$B37*100,1) -> 100
A38: + Chuẩn bị đầy đủ các phương tiện dạy học, thiết bị, nguyên, nhiên, vật liệu thực hành cần thiết | B38: 2 | C38: 2 | D38: =ROUND($C38/$B38*100,1) -> 100 | E38: -Hồ sơ chuyên môn | F38: 2 | G38: =ROUND($F38/$B38*100,1) -> 100
A39: + Tự làm các thiết bị dạy học đơn giản để phục vụ giảng dạy | B39: 2 | C39: 2 | D39: =ROUND($C39/$B39*100,1) -> 100 | E39: -Làm bộ chứng từ kế toán thực tế tại doanh nghiệp | F39: 2 | G39: =ROUND($F39/$B39*100,1) -> 100
A40: + Chủ trì hoặc tham gia thiết kế và bố trí trang thiết bị dạy học của phòng học chuyên môn phù hợp với chương trình của ngành, nghề được phân công giảng dạy. | B40: 2 | C40: 2 | D40: =ROUND($C40/$B40*100,1) -> 100 | E40: -Tham gia cài đặt phần mềm Kế toán Misa | F40: 1 | G40: =ROUND($F40/$B40*100,1) -> 50
A41: - Tiêu chuẩn 3: Thực hiện hoạt động giảng dạy | B41: =SUM(B$42:B$45) -> 8 | C41: =SUM(C$42:C$45) -> 8 | D41: =ROUND($C41/$B41*100,1) -> 100 | F41: =SUM(F$42:F$45) -> 8 | G41: =ROUND($F41/$B41*100,1) -> 100
A42: + Tổ chức dạy học phù hợp với ngành, nghề đào tạo và với từng đối tượng người học; thực hiện đầy đủ kế hoạch giảng dạy, đúng chương trình, nội dung. | B42: 2 | C42: 2 | D42: =ROUND($C42/$B42*100,1) -> 100 | E42: Kết quả dự giờ đã lưu | F42: 2 | G42: =ROUND($F42/$B42*100,1) -> 100
A43: + Thực hiện các giờ dạy lý thuyết, thực hành, tích hợp theo quy định | B43: 2 | C43: 2 | D43: =ROUND($C43/$B43*100,1) -> 100 | E43: Kết quả dự giờ đã lưu | F43: 2 | G43: =ROUND($F43/$B43*100,1) -> 100
A44: + Vận dụng, kết hợp các phương pháp dạy học để phát huy tính tích cực, sáng tạo, phát triển năng lực tự học của người học | B44: 2 | C44: 2 | D44: =ROUND($C44/$B44*100,1) -> 100 | E44: Kết quả dự giờ đã lưu | F44: 2 | G44: =ROUND($F44/$B44*100,1) -> 100
A45: + Sử dụng thành thạo các phương tiện, thiết bị dạy học để nâng cao hiệu quả giảng dạy, đảm bảo chất lượng giáo dục nghề nghiệp | B45: 2 | C45: 2 | D45: =ROUND($C45/$B45*100,1) -> 100 | E45: Kết quả dự giờ đã lưu | F45: 2 | G45: =ROUND($F45/$B45*100,1) -> 100
A46: - Tiêu chuẩn 4: Kiểm tra, đánh giá kết quả học tập của người học | B46: =SUM(B$47:B$48) -> 4 | C46: =SUM(C$47:C$48) -> 4 | D46: =ROUND($C46/$B46*100,1) -> 100 | F46: =SUM(F$47:F$48) -> 4 | G46: =ROUND($F46/$B46*100,1) -> 100
A47: + Lựa chọn và thiết kế các công cụ kiểm tra, đánh giá kết quả học tập của người học phù hợp với môn học, mô-đun được phân công giảng dạy. | B47: 2 | C47: 2 | D47: =ROUND($C47/$B47*100,1) -> 100 | E47: Kết quả dự giờ đã lưu Kết quả thi của HS-SV | F47: 2 | G47: =ROUND($F47/$B47*100,1) -> 100
A48: + Thực hiện việc kiểm tra, đánh giá toàn diện, chính xác, mang tính giáo dục và đúng quy định; sử dụng kết quả kiểm tra, đánh giá để điều chỉnh hoạt động dạy và học | B48: 2 | C48: 2 | D48: =ROUND($C48/$B48*100,1) -> 100 | E48: Kết quả dự giờ đã lưu Kết quả thi của HS-SV | F48: 2 | G48: =ROUND($F48/$B48*100,1) -> 100
A49: - Tiêu chuẩn 5: Quản lý hồ sơ dạy học | B49: =SUM(B$50:B$51) -> 4 | C49: =SUM(C$50:C$51) -> 4 | D49: =ROUND($C49/$B49*100,1) -> 100 | F49: =SUM(F$50:F$51) -> 4 | G49: =ROUND($F49/$B49*100,1) -> 100
A50: + Thực hiện đầy đủ các quy định về sử dụng biểu mẫu, sổ sách, hồ sơ dạy học. | B50: 2 | C50: 2 | D50: =ROUND($C50/$B50*100,1) -> 100 | E50: Hồ sơ kiểm tra chuyên môn đã lưu | F50: 2 | G50: =ROUND($F50/$B50*100,1) -> 100
A51: + Bảo quản, lưu trữ, sử dụng hồ sơ dạy học theo quy định | B51: 2 | C51: 2 | D51: =ROUND($C51/$B51*100,1) -> 100 | E51: Hồ sơ kiểm tra chuyên môn đã lưu | F51: 2 | G51: =ROUND($F51/$B51*100,1) -> 100
A52: - Tiêu chuẩn 6: Xây dựng chương trình, biên soạn giáo trình, tài liệu giảng dạy | B52: =SUM(B$53:B$54) -> 4 | C52: =SUM(C$53:C$54) -> 4 | D52: =ROUND($C52/$B52*100,1) -> 100 | F52: =SUM(F$53:F$54) -> 4 | G52: =ROUND($F52/$B52*100,1) -> 100
A53: + Nắm được căn cứ, nguyên tắc, yêu cầu và quy trình xây dựng chương trình đào tạo trình độ cao đẳng. | B53: 2 | C53: 2 | D53: =ROUND($C53/$B53*100,1) -> 100 | E53: Soạn thảo chương trình đào tạo ngành Quản trị kinh doanh (chưa duyệt) | F53: 2 | G53: =ROUND($F53/$B53*100,1) -> 100
A54: + Chủ trì hoặc tham gia biên soạn, chỉnh lý chương trình, giáo trình, tài liệu đào tạo trình độ cao đẳng; chương trình bồi dưỡng nghề nghiệp. | B54: 2 | C54: 2 | D54: =ROUND($C54/$B54*100,1) -> 100 | E54: Soạn thảo chương trình đào tạo ngành Quản trị kinh doanh (chưa duyệt) | F54: 2 | G54: =ROUND($F54/$B54*100,1) -> 100
A55: - Tiêu chuẩn 7 về Xây dựng kế hoạch, thực hiện các hoạt động giáo dục | B55: =SUM(B$56:B$59) -> 8 | C55: =SUM(C$56:C$59) -> 8 | D55: =ROUND($C55/$B55*100,1) -> 100 | F55: =SUM(F$56:F$59) -> 8 | G55: =ROUND($F55/$B55*100,1) -> 100
A56: + Xây dựng được kế hoạch giáo dục người học thông qua giảng dạy và qua các hoạt động khác | B56: 2 | C56: 2 | D56: =ROUND($C56/$B56*100,1) -> 100 | E56: Kết quả dự giờ đã lưu | F56: 2 | G56: =ROUND($F56/$B56*100,1) -> 100
A57: + Thực hiện việc giáo dục đạo đức nghề nghiệp, thái độ nghề nghiệp thông qua việc giảng dạy môn học, mô-đun theo kế hoạch đã xây dựng. | B57: 2 | C57: 2 | D57: =ROUND($C57/$B57*100,1) -> 100 | E57: Kết quả dự giờ đã lưu | F57: 2 | G57: =ROUND($F57/$B57*100,1) -> 100
A58: + Vận dụng các hiểu biết về tâm lý, giáo dục vào thực hiện hoạt động giáo dục người học | B58: 2 | C58: 2 | D58: =ROUND($C58/$B58*100,1) -> 100 | E58: Kết quả dự giờ đã lưu | F58: 2 | G58: =ROUND($F58/$B58*100,1) -> 100
A59: + Đánh giá kết quả các mặt rèn luyện đạo đức của người học theo quy định một cách chính xác, công bằng và có tác dụng giáo dục | B59: 2 | C59: 2 | D59: =ROUND($C59/$B59*100,1) -> 100 | E59: Kết quả dự giờ đã lưu Kết quả thi của HS-SV | F59: 2 | G59: =ROUND($F59/$B59*100,1) -> 100
A60: - Tiêu chuẩn 8: Quản lý người học, xây dựng môi trường giáo dục, học tập | B60: =SUM(B$61:B$62) -> 4 | C60: =SUM(C$61:C$62) -> 4 | D60: =ROUND($C60/$B60*100,1) -> 100 | F60: =SUM(F$61:F$62) -> 4 | G60: =ROUND($F60/$B60*100,1) -> 100
A61: + Quản lý được các thông tin liên quan đến người học và sử dụng hiệu quả các thông tin vào giáo dục, dạy học, quản lý người học | B61: 2 | C61: 2 | D61: =ROUND($C61/$B61*100,1) -> 100 | E61: Kết quả dự giờ đã lưu Kết quả thi của HS-SV | F61: 2 | G61: =ROUND($F61/$B61*100,1) -> 100
A62: + Xây dựng môi trường giáo dục, học tập lành mạnh, thuận lợi, dân chủ, hợp tác | B62: 2 | C62: 2 | D62: =ROUND($C62/$B62*100,1) -> 100 | E62: Kết quả dự giờ đã lưu Kết quả thi của HS-SV | F62: 2 | G62: =ROUND($F62/$B62*100,1) -> 100
A63: - Tiêu chuẩn 9: Hoạt động xã hội | B63: =SUM(B$64:B$65) -> 4 | C63: =SUM(C$64:C$65) -> 4 | D63: =ROUND($C63/$B63*100,1) -> 100 | F63: =SUM(F$64:F$65) -> 4 | G63: =ROUND($F63/$B63*100,1) -> 100
A64: + Phối hợp với gia đình người học và cộng đồng động viên, hỗ trợ, giám sát việc học tập, rèn luyện của người học; góp phần huy động các nguồn lực xã hội xây dựng, phát triển cơ sở hoạt động giáo dục nghề nghiệp. | B64: 2 | C64: 2 | D64: =ROUND($C64/$B64*100,1) -> 100 | E64: Hoạt động CVHT-GVCN | F64: 2 | G64: =ROUND($F64/$B64*100,1) -> 100
A65: + Tham gia các hoạt động xã hội trong và ngoài cơ sở hoạt động giáo dục nghề nghiệp, xây dựng quan hệ giữa cơ sở hoạt động giáo dục nghề nghiệp với doanh nghiệp nhằm phát triển cơ sở hoạt động giáo dục nghề nghiệp, cộng đồng; xây dựng phong trào học nghề lập nghiệp trong xã hội | B65: 2 | C65: 2 | D65: =ROUND($C65/$B65*100,1) -> 100 | E65: '-Tham gia thực tập doanh nghiệp '-Giới thiệu sinh viên thực tập tại doanh nghiệp | F65: 2 | G65: =ROUND($F65/$B65*100,1) -> 100
A66: Tiêu chí 3 về Năng lực phát triển nghề nghiệp, nghiên cứu khoa học | B66: =SUM(B$67,B$72,B$75) -> 16 | C66: =SUM(C$67,C$72,C$75) -> 10 | D66: =ROUND($C66/$B66*100,1) -> 62.5 | F66: =SUM(F$67,F$72,F$75) -> 9 | G66: =ROUND($F66/$B66*100,1) -> 56.3
A67: - Tiêu chuẩn 1: Học tập, bồi dưỡng nâng cao | B67: =SUM(B$68:B$71) -> 8 | C67: =SUM(C$68:C$71) -> 6 | D67: =ROUND($C67/$B67*100,1) -> 75 | F67: =SUM(F$68:F$71) -> 5 | G67: =ROUND($F67/$B67*100,1) -> 62.5
A68: + Thường xuyên dự giờ, trao đổi kinh nghiệm giảng dạy, giáo dục với đồng nghiệp; tham gia bồi dưỡng đồng nghiệp theo yêu cầu phát triển của phòng, khoa, tổ bộ môn | B68: 2 | C68: 2 | D68: =ROUND($C68/$B68*100,1) -> 100 | E68: Hồ sơ lưu trữ của Khoa | F68: 1 | G68: =ROUND($F68/$B68*100,1) -> 50
A69: + Tham gia hội giảng các cấp | B69: 2 | C69: 0 | D69: =ROUND($C69/$B69*100,1) -> 0 | F69: 0 | G69: =ROUND($F69/$B69*100,1) -> 0
A70: + Thường xuyên tự học tập, bồi dưỡng, rèn luyện nâng cao trình độ chuyên môn, nghiệp vụ, phẩm chất đạo đức nghề nghiệp | B70: 2 | C70: 2 | D70: =ROUND($C70/$B70*100,1) -> 100 | E70: Các bằng cấp, chứng chỉ bổ sung trong hồ sơ lưu | F70: 2 | G70: =ROUND($F70/$B70*100,1) -> 100
A71: + Tham gia các khóa đào tạo, bồi dưỡng nâng cao trình độ, cập nhật kiến thức, kỹ năng nghề, công nghệ, phương pháp giảng dạy đáp ứng yêu cầu của giáo dục nghề nghiệp. | B71: 2 | C71: 2 | D71: =ROUND($C71/$B71*100,1) -> 100 | E71: Các bằng cấp, chứng chỉ bổ sung trong hồ sơ lưu | F71: 2 | G71: =ROUND($F71/$B71*100,1) -> 100
A72: - Tiêu chuẩn 2: Phát triển năng lực nghề nghiệp cho người học | B72: =SUM(B73:B74) -> 4 | C72: =SUM(C73:C74) -> 2 | D72: =ROUND($C72/$B72*100,1) -> 50 | F72: =SUM(F73:F74) -> 2 | G72: =ROUND($F72/$B72*100,1) -> 50
A73: + Hướng dẫn thực tập kết hợp với thực tiễn nghề nghiệp | B73: 2 | C73: 2 | D73: =ROUND($C73/$B73*100,1) -> 100 | E73: Theo sự phân công của khoa | F73: 2 | G73: =ROUND($F73/$B73*100,1) -> 100
A74: + Tham gia bồi dưỡng nâng cao, luyện tay nghề cho học sinh, sinh viên giỏi các cấp | B74: 2 | C74: 0 | D74: =ROUND($C74/$B74*100,1) -> 0 | F74: 0 | G74: =ROUND($F74/$B74*100,1) -> 0
A75: - Tiêu chuẩn 3: Nghiên cứu khoa học | B75: =SUM(B76:B77) -> 4 | C75: =SUM(C76:C77) -> 2 | D75: =ROUND($C75/$B75*100,1) -> 50 | F75: =SUM(F76:F77) -> 2 | G75: =ROUND($F75/$B75*100,1) -> 50
A76: + Có kiến thức, kỹ năng cơ bản về nghiên cứu khoa học và công nghệ | B76: 2 | C76: 2 | D76: =ROUND($C76/$B76*100,1) -> 100 | E76: Nghiên cứu khoa học cấp khoa | F76: 2 | G76: =ROUND($F76/$B76*100,1) -> 100
A77: + Chủ trì hoặc tham gia đề tài nghiên cứu khoa học từ cấp cơ sở trở lên. | B77: 2 | C77: 0 | D77: =ROUND($C77/$B77*100,1) -> 0 | E77: Nghiên cứu khoa học cấp khoa | F77: 0 | G77: =ROUND($F77/$B77*100,1) -> 0
A78: Tổng số điểm đánh giá | B78: =SUM(B$16,B$30,B$66) -> 88 | C78: =SUM(C$16,C$30,C$66) -> 82 | D78: =ROUND($C78/$B78*100,1) -> 93.2 | F78: =SUM(F$16,F$30,F$66) -> 80 | G78: =ROUND($F78/$B78*100,1) -> 90.9
A79: Điểm quy đổi | B79: 100 | C79: =(C$78*$B$79/$B$78) -> 93.181818 | D79: =ROUND($C79/$B79*100,1) -> 93.2 | F79: =(F$78*$B$79/$B$78) -> 90.909091 | G79: =ROUND($F79/$B79*100,1) -> 90.9
A80: Xếp loại | C80: =IF(AND(D17<50),"Không đạt",IF(AND(D24<50),"Không đạt",IF(AND(D27<50),"Không đạt",IF(AND(D31<50),"Không đạt",IF(AND(D34<50),"Không đạt",IF(AND(D41<50),"Không đạt",IF(AND(D46<50),"Không đạt",IF(AND(D49<50),"Không đạt",IF(AND(D52<50),"Không đạt",IF(AND(D55<50),"Không đạt",IF(AND(D60<50),"Không đạt",IF(AND(D63<50),"Không đạt",IF(AND(D67<50),"Không đạt",IF(AND(D72<50),"Không đạt",IF(AND(D75<50),"Không đạt",IF(AND(C79>=80),"A",IF(AND(C79>=65,C79<79),"B",IF(AND(C79>=50,C78<64),"C","Không đạt")))))))))))))))))) -> A | F80: =IF(AND(G17<50),"Không đạt",IF(AND(G24<50),"Không đạt",IF(AND(G27<50),"Không đạt",IF(AND(G31<50),"Không đạt",IF(AND(G34<50),"Không đạt",IF(AND(G41<50),"Không đạt",IF(AND(G46<50),"Không đạt",IF(AND(G49<50),"Không đạt",IF(AND(G52<50),"Không đạt",IF(AND(G55<50),"Không đạt",IF(AND(G60<50),"Không đạt",IF(AND(G63<50),"Không đạt",IF(AND(G67<50),"Không đạt",IF(AND(G72<50),"Không đạt",IF(AND(G75<50),"Không đạt",IF(AND(F79>=80),"A",IF(AND(F79>=65,F79<79),"B",IF(AND(F79>=50,F78<64),"C","Không đạt")))))))))))))))))) -> A
D81: =C80 -> A
A82: Tp. HCM, ngày 23 tháng 4 năm 2019 | F82: Tp. HCM, ngày 23 tháng 4 năm 2019
A83: Nhà giáo tự đánh giá | F83: Trưởng khoa
A84: (ký và ghi rõ họ, tên) | F84: (ký và ghi rõ họ, tên)
A88: Lưu Thị Thúy | F88: Nguyễn Trọng Nghĩa

Sheet LU XUAN TRANG
E2: CỘNG HÒA XÃ HỘI CHỦ NGHĨA VIỆT NAM Độc lập - Tự do - Hạnh phúc
A5: PHIẾU ĐÁNH GIÁ, XẾP LOẠI CHUYÊN MÔN, NGHIỆP VỤ CỦA NHÀ GIÁO Năm học 2018-2019
A7: Họ và tên giảng viên: | D7: Lữ Xuân Trang
A8: Khoa, tổ bộ môn: Tổ cơ sở ngành - Khoa Kinh tế
A9: Cấp trình độ giảng dạy: Trung cấp và cao đẳng
A10: Nhiệm vụ được phân công giảng dạy (Lý thuyết, thực hành, tích hợp): Lý thuyết, thực hành, tổng hợp
A12: Ghi chú: 1. Nhà giáo chỉ cho điểm vào cột: "Nhà giáo tự cho điểm" và ghi các minh chứng vào cột: Các minh chứng của Nhà giáo. Các ô tô màu Nhà giáo không nhập điểm hoặc không ghi các minh chứng vào các ô đó. 2. Các Trưởng đơn vị cho điểm Nhà giáo thuộc đơn vị quản lý vào các ô màu hồng (sau khi Hội đồng chuyên môn đơn vị tổ chức họp xem xét và chấm điểm).
A14: Các tiêu chí và tiêu chuẩn | B14: Điểm tối đa | C14: Nhà giáo tự đánh giá xếp loại | F14: Khoa đánh giá, xếp loại
C15: Điểm đánh giá đạt được | D15: Tỷ lệ % của điểm đánh giá đạt được so với điểm đánh giá tối đa của mỗi tiêu chuẩn (lấy đến 1 chữ số thập phân, không làm tròn) | E15: Các minh chứng | F15: Điểm đánh giá đạt được | G15: Tỷ lệ % của điểm đánh giá đạt được so với điểm đánh giá tối đa của mỗi tiêu chuẩn(lấy đến 1 chữ số thập phân, không làm tròn) | H15: Các minh chứng
A16: Tiêu chí 1 về Năng lực chuyên môn | B16: =SUM(B$17,B$24,B$24) -> 20 | C16: =SUM(C$17,C$24,C$24) -> 17 | D16: =ROUND($C16/$B16*100,1) -> 85 | F16: =SUM(F$17,F$24,F$24) -> 17 | G16: =ROUND($F16/$B16*100,1) -> 85
A17: - Tiêu chuẩn 1: Trình độ chuyên môn | B17: =SUM(B$18:B$23) -> 12 | C17: =SUM(C$18:C$23) -> 11 | D17: =ROUND($C17/$B17*100,1) -> 91.7 | F17: =SUM(F$18:F$23) -> 11 | G17: =ROUND($F17/$B17*100,1) -> 91.7
A18: + Có bằng tốt nghiệp đại học chuyên ngành hoặc đại học sư phạm chuyên ngành trở lên, phù hợp với ngành, nghề giảng dạy và có một trong các chứng chỉ kỹ năng nghề phù hợp với ngành, nghề giảng dạy để dạy thực hành trình độ cao đẳng sau: Chứng chỉ kỹ năng nghề quốc gia Bậc 3 hoặc chứng nhận bậc thợ 5/7, 4/6 trở lên hoặc bằng tốt nghiệp cao đẳng nghề hoặc chứng chỉ kỹ năng thực hành nghề trình độ cao đẳng nghề hoặc tương đương; | B18: 2 | C18: 2 | D18: =ROUND($C18/$B18*100,1) -> 100 | E18: Thạc sĩ Tài chính ngân hàng | F18: 2 | G18: =ROUND($F18/$B18*100,1) -> 100
A19: + Nắm vững kiến thức ngành, nghề được phân công giảng dạy; | B19: 2 | C19: 2 | D19: =ROUND($C19/$B19*100,1) -> 100 | E19: Giấy khen thưởng GV giỏi | F19: 2 | G19: =ROUND($F19/$B19*100,1) -> 100
A20: + Có kiến thức về ngành, nghề liên quan; | B20: 2 | C20: 2 | D20: =ROUND($C20/$B20*100,1) -> 100 | E20: Giảng dạy theo chuyên môn được đào tạo | F20: 2 | G20: =ROUND($F20/$B20*100,1) -> 100
A21: + Hiểu biết về thực tiễn nghề nghiệp, tiến bộ khoa học kỹ thuật, công nghệ mới và kỹ thuật an toàn, vệ sinh lao động của ngành, nghề được phân công giảng dạy | B21: 2 | C21: 1 | D21: =ROUND($C21/$B21*100,1) -> 50 | E21: Cập nhật thông tư, công văn liên quan đến ngành nghề được phân công giảng dạy | F21: 1 | G21: =ROUND($F21/$B21*100,1) -> 50
A22: + Thực hiện thành thạo các kỹ năng của ngành, nghề được phân công giảng dạy | B22: 2 | C22: 2 | D22: =ROUND($C22/$B22*100,1) -> 100 | E22: Kết quả học tập của HS-SV | F22: 2 | G22: =ROUND($F22/$B22*100,1) -> 100
A23: + Tổ chức thành thạo các hoạt động lao động sản xuất, dịch vụ ngành, nghề được phân công giảng dạy | B23: 2 | C23: 2 | D23: =ROUND($C23/$B23*100,1) -> 100 | E23: Kinh nghiệm đi làm thực tiễn | F23: 2 | G23: =ROUND($F23/$B23*100,1) -> 100
A24: - Tiêu chuẩn 2: Trình độ ngoại ngữ | B24: =SUM(B$25:B$26) -> 4 | C24: =SUM(C$25:C$26) -> 3 | D24: =ROUND($C24/$B24*100,1) -> 75 | F24: =SUM(F$25:F$26) -> 3 | G24: =ROUND($F24/$B24*100,1) -> 75
A25: + Đối vối giáo viên, giảng viên không chuyên ngành ngoại ngữ: Có trình độ ngoại ngữ Bậc 2 (A2) theo quy định tại Thông tư số 01/2014/TT-BGDĐT ngày 24/01/2014 của Bộ Giáo dục và Đào tạo ban hành Khung năng lực ngoại ngữ 6 bậc dùng cho Việt Nam hoặc tương đương trở lên. + Đối với giáo viên, giảng viên chuyên ngành ngoại ngữ (giáo viên, giảng viên tổ Anh văn thuộc Khoa KHCB): Có trình độ ngoại ngữ Bậc 5 (C1) theo quy định tại Thông tư số 01/2014/TT-BGDĐT ngày 24/01/2014 của Bộ Giáo dục và Đào tạo ban hành Khung năng lực ngoại ngữ 6 bậc dùng cho Việt Nam hoặc tương đương trở lên. Và trình độ ngoại ngữ thứ hai phải đạt Bậc 2 (A2) theo quy định tại Thông tư số 01/2014/TT-BGDĐT. | B25: 2 | C25: 2 | D25: =ROUND($C25/$B25*100,1) -> 100 | E25: Cử nhân ngữ văn Anh | F25: 2 | G25: =ROUND($F25/$B25*100,1) -> 100
A26: + Đọc và hiểu tài liệu chuyên ngành phục vụ công tác giảng dạy; mô tả được một số công việc cơ bản của ngành, nghề được phân công giảng dạy. | B26: 2 | C26: 1 | D26: =ROUND($C26/$B26*100,1) -> 50 | E26: Sử dụng tài liệu tiếng Anh trong 1 số môn học | F26: 1 | G26: =ROUND($F26/$B26*100,1) -> 50
A27: - Tiêu chuẩn 3: Trình độ tin học | B27: =SUM(B$28:B$29) -> 4 | C27: =SUM(C$28:C$29) -> 3 | D27: =ROUND($C27/$B27*100,1) -> 75 | F27: =SUM(F$28:F$29) -> 3 | G27: =ROUND($F27/$B27*100,1) -> 75
A28: + Có trình độ tin học đạt Chuẩn kỹ năng sử dụng công nghệ thông tin cơ bản theo quy định tại Thông tư số 03/2014/TT-BTTTT ngày 11/3/2014 của Bộ Thông tin và Truyền thông quy định Chuẩn kỹ năng sử dụng công nghệ thông tin hoặc tương đương trở lên. | B28: 2 | C28: 2 | D28: =ROUND($C28/$B28*100,1) -> 100 | E28: Chứng chỉ tin học IC3 Chứng chỉ B tin học | F28: 2 | G28: =ROUND($F28/$B28*100,1) -> 100
A29: + Sử dụng thành thạo phần mềm dạy học chuyên ngành để thiết kế bài giảng, tài liệu giảng dạy. | B29: 2 | C29: 1 | D29: =ROUND($C29/$B29*100,1) -> 50 | E29: Sử dụng SPSS trong giảng dạy | F29: 1 | G29: =ROUND($F29/$B29*100,1) -> 50
A30: Tiêu chí 2 về Năng lực sư phạm | B30: =SUM(B$31,B$34,B$41,B$46,B$49,B$52,B$55,B$60,B$63) -> 52 | C30: =SUM(C$31,C$34,C$41,C$46,C$49,C$52,C$55,C$60,C$63) -> 46 | D30: =ROUND($C30/$B30*100,1) -> 88.5 | F30: =SUM(F$31,F$34,F$41,F$46,F$49,F$52,F$55,F$60,F$63) -> 46 | G30: =ROUND($F30/$B30*100,1) -> 88.5
A31: - Tiêu chuẩn 1 về Trình độ nghiệp vụ sư phạm và thời gian tham gia giảng dạy | B31: =SUM(B$32:B$33) -> 4 | C31: =SUM(C$32:C$33) -> 4 | D31: =ROUND($C31/$B31*100,1) -> 100 | F31: =SUM(F$32:F$33) -> 4 | G31: =ROUND($F31/$B31*100,1) -> 100
A32: + Có chứng chỉ sư phạm dạy nghề dạy trình độ trung cấp nghề, cao đẳng nghề hoặc chứng chỉ bồi dưỡng nghiệp vụ sư phạm cho giảng viên đại học, cao đẳng hoặc bằng tốt nghiệp đại học chuyên ngành sư phạm hoặc chứng chỉ nghiệp vụ sư phạm dạy trình độ cao đẳng hoặc tương đương. | B32: 2 | C32: 2 | D32: =ROUND($C32/$B32*100,1) -> 100 | E32: Chứng chỉ sư phạm bậc 2 Chứng chỉ sư phạm dạy nghề trung cấp và cao đẳng Chứng chỉ lý luận dạy học đại học | F32: 2 | G32: =ROUND($F32/$B32*100,1) -> 100
A33: + Có thời gian tham gia giảng dạy ít nhất 12 tháng. | B33: 2 | C33: 2 | D33: =ROUND($C33/$B33*100,1) -> 100 | E33: Sổ BHXH đã nộp trong hồ sơ lưu | F33: 2 | G33: =ROUND($F33/$B33*100,1) -> 100
A34: - Tiêu chuẩn 2: Chuẩn bị hoạt động giảng dạy | B34: =SUM(B$35:B$40) -> 12 | C34: =SUM(C$35:C$40) -> 8 | D34: =ROUND($C34/$B34*100,1) -> 66.7 | F34: =SUM(F$35:F$40) -> 8 | G34: =ROUND($F34/$B34*100,1) -> 66.7
A35: + Lập được kế hoạch giảng dạy môn học, mô-đun được phân công trên cơ sở chương trình, kế hoạch đào tạo của cả khóa học. | B35: 2 | C35: 2 | D35: =ROUND($C35/$B35*100,1) -> 100 | E35: Hồ sơ kiểm tra chuyên môn | F35: 2 | G35: =ROUND($F35/$B35*100,1) -> 100
A36: + Soạn giáo án theo quy định, thể hiện được các hoạt động dạy và học. | B36: 2 | C36: 1 | D36: =ROUND($C36/$B36*100,1) -> 50 | E36: Hồ sơ kiểm tra chuyên môn | F36: 1 | G36: =ROUND($F36/$B36*100,1) -> 50
A37: + Lựa chọn phương pháp dạy học phù hợp cho các bài học của chương trình môn học, mô-đun được phân công giảng dạy. | B37: 2 | C37: 2 | D37: =ROUND($C37/$B37*100,1) -> 100 | E37: Đánh giá kết quả thao giảng cấp khoa, cấp trường | F37: 2 | G37: =ROUND($F37/$B37*100,1) -> 100
A38: + Chuẩn bị đầy đủ các phương tiện dạy học, thiết bị, nguyên, nhiên, vật liệu thực hành cần thiết | B38: 2 | C38: 2 | D38: =ROUND($C38/$B38*100,1) -> 100 | E38: Kết quả dự giờ | F38: 2 | G38: =ROUND($F38/$B38*100,1) -> 100
A39: + Tự làm các thiết bị dạy học đơn giản để phục vụ giảng dạy | B39: 2 | C39: 1 | D39: =ROUND($C39/$B39*100,1) -> 50 | E39: Kết quả dự giờ | F39: 1 | G39: =ROUND($F39/$B39*100,1) -> 50
A40: + Chủ trì hoặc tham gia thiết kế và bố trí trang thiết bị dạy học của phòng học chuyên môn phù hợp với chương trình của ngành, nghề được phân công giảng dạy. | B40: 2 | C40: 0 | D40: =ROUND($C40/$B40*100,1) -> 0 | F40: 0 | G40: =ROUND($F40/$B40*100,1) -> 0
A41: - Tiêu chuẩn 3: Thực hiện hoạt động giảng dạy | B41: =SUM(B$42:B$45) -> 8 | C41: =SUM(C$42:C$45) -> 7 | D41: =ROUND($C41/$B41*100,1) -> 87.5 | F41: =SUM(F$42:F$45) -> 7 | G41: =ROUND($F41/$B41*100,1) -> 87.5
A42: + Tổ chức dạy học phù hợp với ngành, nghề đào tạo và với từng đối tượng người học; thực hiện đầy đủ kế hoạch giảng dạy, đúng chương trình, nội dung. | B42: 2 | C42: 2 | D42: =ROUND($C42/$B42*100,1) -> 100 | E42: Kết quả dự giờ | F42: 2 | G42: =ROUND($F42/$B42*100,1) -> 100
A43: + Thực hiện các giờ dạy lý thuyết, thực hành, tích hợp theo quy định | B43: 2 | C43: 2 | D43: =ROUND($C43/$B43*100,1) -> 100 | E43: Kết quả dự giờ | F43: 2 | G43: =ROUND($F43/$B43*100,1) -> 100
A44: + Vận dụng, kết hợp các phương pháp dạy học để phát huy tính tích cực, sáng tạo, phát triển năng lực tự học của người học | B44: 2 | C44: 2 | D44: =ROUND($C44/$B44*100,1) -> 100 | E44: Kết quả dự giờ | F44: 2 | G44: =ROUND($F44/$B44*100,1) -> 100
A45: + Sử dụng thành thạo các phương tiện, thiết bị dạy học để nâng cao hiệu quả giảng dạy, đảm bảo chất lượng giáo dục nghề nghiệp | B45: 2 | C45: 1 | D45: =ROUND($C45/$B45*100,1) -> 50 | E45: Kết quả dự giờ | F45: 1 | G45: =ROUND($F45/$B45*100,1) -> 50
A46: - Tiêu chuẩn 4: Kiểm tra, đánh giá kết quả học tập của người học | B46: =SUM(B$47:B$48) -> 4 | C46: =SUM(C$47:C$48) -> 3 | D46: =ROUND($C46/$B46*100,1) -> 75 | F46: =SUM(F$47:F$48) -> 3 | G46: =ROUND($F46/$B46*100,1) -> 75
A47: + Lựa chọn và thiết kế các công cụ kiểm tra, đánh giá kết quả học tập của người học phù hợp với môn học, mô-đun được phân công giảng dạy. | B47: 2 | C47: 2 | D47: =ROUND($C47/$B47*100,1) -> 100 | E47: Kết quả học tập của HS-SV | F47: 2 | G47: =ROUND($F47/$B47*100,1) -> 100
A48: + Thực hiện việc kiểm tra, đánh giá toàn diện, chính xác, mang tính giáo dục và đúng quy định; sử dụng kết quả kiểm tra, đánh giá để điều chỉnh hoạt động dạy và học | B48: 2 | C48: 1 | D48: =ROUND($C48/$B48*100,1) -> 50 | E48: Kết quả học tập của HS-SV | F48: 1 | G48: =ROUND($F48/$B48*100,1) -> 50
A49: - Tiêu chuẩn 5: Quản lý hồ sơ dạy học | B49: =SUM(B$50:B$51) -> 4 | C49: =SUM(C$50:C$51) -> 4 | D49: =ROUND($C49/$B49*100,1) -> 100 | F49: =SUM(F$50:F$51) -> 4 | G49: =ROUND($F49/$B49*100,1) -> 100
A50: + Thực hiện đầy đủ các quy định về sử dụng biểu mẫu, sổ sách, hồ sơ dạy học. | B50: 2 | C50: 2 | D50: =ROUND($C50/$B50*100,1) -> 100 | E50: Hồ sơ kiểm tra chuyên môn | F50: 2 | G50: =ROUND($F50/$B50*100,1) -> 100
A51: + Bảo quản, lưu trữ, sử dụng hồ sơ dạy học theo quy định | B51: 2 | C51: 2 | D51: =ROUND($C51/$B51*100,1) -> 100 | E51: Hồ sơ kiểm tra chuyên môn | F51: 2 | G51: =ROUND($F51/$B51*100,1) -> 100
A52: - Tiêu chuẩn 6: Xây dựng chương trình, biên soạn giáo trình, tài liệu giảng dạy | B52: =SUM(B$53:B$54) -> 4 | C52: =SUM(C$53:C$54) -> 4 | D52: =ROUND($C52/$B52*100,1) -> 100 | F52: =SUM(F$53:F$54) -> 4 | G52: =ROUND($F52/$B52*100,1) -> 100
A53: + Nắm được căn cứ, nguyên tắc, yêu cầu và quy trình xây dựng chương trình đào tạo trình độ cao đẳng. | B53: 2 | C53: 2 | D53: =ROUND($C53/$B53*100,1) -> 100 | E53: Soạn thảo chương trình đào tạo ngành TCDN và Logistic | F53: 2 | G53: =ROUND($F53/$B53*100,1) -> 100
A54: + Chủ trì hoặc tham gia biên soạn, chỉnh lý chương trình, giáo trình, tài liệu đào tạo trình độ cao đẳng; chương trình bồi dưỡng nghề nghiệp. | B54: 2 | C54: 2 | D54: =ROUND($C54/$B54*100,1) -> 100 | E54: Soạn thảo chương trình đào tạo ngành TCDN và Logistic | F54: 2 | G54: =ROUND($F54/$B54*100,1) -> 100
A55: - Tiêu chuẩn 7 về Xây dựng kế hoạch, thực hiện các hoạt động giáo dục | B55: =SUM(B$56:B$59) -> 8 | C55: =SUM(C$56:C$59) -> 8 | D55: =ROUND($C55/$B55*100,1) -> 100 | F55: =SUM(F$56:F$59) -> 8 | G55: =ROUND($F55/$B55*100,1) -> 100
A56: + Xây dựng được kế hoạch giáo dục người học thông qua giảng dạy và qua các hoạt động khác | B56: 2 | C56: 2 | D56: =ROUND($C56/$B56*100,1) -> 100 | E56: Kế hoạch giảng dạy Kế hoạch hoạt động CLB | F56: 2 | G56: =ROUND($F56/$B56*100,1) -> 100
A57: + Thực hiện việc giáo dục đạo đức nghề nghiệp, thái độ nghề nghiệp thông qua việc giảng dạy môn học, mô-đun theo kế hoạch đã xây dựng. | B57: 2 | C57: 2 | D57: =ROUND($C57/$B57*100,1) -> 100 | E57: Kết quả dự giờ | F57: 2 | G57: =ROUND($F57/$B57*100,1) -> 100
A58: + Vận dụng các hiểu biết về tâm lý, giáo dục vào thực hiện hoạt động giáo dục người học | B58: 2 | C58: 2 | D58: =ROUND($C58/$B58*100,1) -> 100 | E58: Kết quả dự giờ | F58: 2 | G58: =ROUND($F58/$B58*100,1) -> 100
A59: + Đánh giá kết quả các mặt rèn luyện đạo đức của người học theo quy định một cách chính xác, công bằng và có tác dụng giáo dục | B59: 2 | C59: 2 | D59: =ROUND($C59/$B59*100,1) -> 100 | E59: Kết quả học tập của HS-SV | F59: 2 | G59: =ROUND($F59/$B59*100,1) -> 100
A60: - Tiêu chuẩn 8: Quản lý người học, xây dựng môi trường giáo dục, học tập | B60: =SUM(B$61:B$62) -> 4 | C60: =SUM(C$61:C$62) -> 4 | D60: =ROUND($C60/$B60*100,1) -> 100 | F60: =SUM(F$61:F$62) -> 4 | G60: =ROUND($F60/$B60*100,1) -> 100
A61: + Quản lý được các thông tin liên quan đến người học và sử dụng hiệu quả các thông tin vào giáo dục, dạy học, quản lý người học | B61: 2 | C61: 2 | D61: =ROUND($C61/$B61*100,1) -> 100 | E61: Kết quả học tập của HS-SV | F61: 2 | G61: =ROUND($F61/$B61*100,1) -> 100
A62: + Xây dựng môi trường giáo dục, học tập lành mạnh, thuận lợi, dân chủ, hợp tác | B62: 2 | C62: 2 | D62: =ROUND($C62/$B62*100,1) -> 100 | E62: Kết quả học tập của HS-SV | F62: 2 | G62: =ROUND($F62/$B62*100,1) -> 100
A63: - Tiêu chuẩn 9: Hoạt động xã hội | B63: =SUM(B$64:B$65) -> 4 | C63: =SUM(C$64:C$65) -> 4 | D63: =ROUND($C63/$B63*100,1) -> 100 | F63: =SUM(F$64:F$65) -> 4 | G63: =ROUND($F63/$B63*100,1) -> 100
A64: + Phối hợp với gia đình người học và cộng đồng động viên, hỗ trợ, giám sát việc học tập, rèn luyện của người học; góp phần huy động các nguồn lực xã hội xây dựng, phát triển cơ sở hoạt động giáo dục nghề nghiệp. | B64: 2 | C64: 2 | D64: =ROUND($C64/$B64*100,1) -> 100 | E64: Hoạt động CVHT-GVCN | F64: 2 | G64: =ROUND($F64/$B64*100,1) -> 100
A65: + Tham gia các hoạt động xã hội trong và ngoài cơ sở hoạt động giáo dục nghề nghiệp, xây dựng quan hệ giữa cơ sở hoạt động giáo dục nghề nghiệp với doanh nghiệp nhằm phát triển cơ sở hoạt động giáo dục nghề nghiệp, cộng đồng; xây dựng phong trào học nghề lập nghiệp trong xã hội | B65: 2 | C65: 2 | D65: =ROUND($C65/$B65*100,1) -> 100 | E65: Tham gia tư vấn tuyển sinh Chủ nhiệm CLB khởi nghiệp trong sinh viên Tham gia các chương trình thiện nguyện Tham gia CLB xanh của trường (dự kiến) | F65: 2 | G65: =ROUND($F65/$B65*100,1) -> 100
A66: Tiêu chí 3 về Năng lực phát triển nghề nghiệp, nghiên cứu khoa học | B66: =SUM(B$67,B$72,B$75) -> 16 | C66: =SUM(C$67,C$72,C$75) -> 14 | D66: =ROUND($C66/$B66*100,1) -> 87.5 | F66: =SUM(F$67,F$72,F$75) -> 14 | G66: =ROUND($F66/$B66*100,1) -> 87.5
A67: - Tiêu chuẩn 1: Học tập, bồi dưỡng nâng cao | B67: =SUM(B$68:B$71) -> 8 | C67: =SUM(C$68:C$71) -> 8 | D67: =ROUND($C67/$B67*100,1) -> 100 | F67: =SUM(F$68:F$71) -> 8 | G67: =ROUND($F67/$B67*100,1) -> 100
A68: + Thường xuyên dự giờ, trao đổi kinh nghiệm giảng dạy, giáo dục với đồng nghiệp; tham gia bồi dưỡng đồng nghiệp theo yêu cầu phát triển của phòng, khoa, tổ bộ môn | B68: 2 | C68: 2 | D68: =ROUND($C68/$B68*100,1) -> 100 | E68: Dự giờ đồng nghiệp | F68: 2 | G68: =ROUND($F68/$B68*100,1) -> 100
A69: + Tham gia hội giảng các cấp | B69: 2 | C69: 2 | D69: =ROUND($C69/$B69*100,1) -> 100 | E69: Giấy khen về thành tích hội giảng | F69: 2 | G69: =ROUND($F69/$B69*100,1) -> 100
A70: + Thường xuyên tự học tập, bồi dưỡng, rèn luyện nâng cao trình độ chuyên môn, nghiệp vụ, phẩm chất đạo đức nghề nghiệp | B70: 2 | C70: 2 | D70: =ROUND($C70/$B70*100,1) -> 100 | E70: Bồi dưỡng giảng viên hang II Hoàn thành chứng chỉ tin học IC3 | F70: 2 | G70: =ROUND($F70/$B70*100,1) -> 100
A71: + Tham gia các khóa đào tạo, bồi dưỡng nâng cao trình độ, cập nhật kiến thức, kỹ năng nghề, công nghệ, phương pháp giảng dạy đáp ứng yêu cầu của giáo dục nghề nghiệp. | B71: 2 | C71: 2 | D71: =ROUND($C71/$B71*100,1) -> 100 | E71: Bồi dưỡng khóa ngắn hạn về khởi nghiệp | F71: 2 | G71: =ROUND($F71/$B71*100,1) -> 100
A72: - Tiêu chuẩn 2: Phát triển năng lực nghề nghiệp cho người học | B72: =SUM(B73:B74) -> 4 | C72: =SUM(C73:C74) -> 2 | D72: =ROUND($C72/$B72*100,1) -> 50 | F72: =SUM(F73:F74) -> 2 | G72: =ROUND($F72/$B72*100,1) -> 50
A73: + Hướng dẫn thực tập kết hợp với thực tiễn nghề nghiệp | B73: 2 | C73: 2 | D73: =ROUND($C73/$B73*100,1) -> 100 | E73: Thực tập tại Doanh nghiệp Giới thiệu sinh viên đi thực tập tại doanh nghiệp | F73: 2 | G73: =ROUND($F73/$B73*100,1) -> 100
A74: + Tham gia bồi dưỡng nâng cao, luyện tay nghề cho học sinh, sinh viên giỏi các cấp | B74: 2 | C74: 0 | D74: =ROUND($C74/$B74*100,1) -> 0 | F74: 0 | G74: =ROUND($F74/$B74*100,1) -> 0
A75: - Tiêu chuẩn 3: Nghiên cứu khoa học | B75: =SUM(B76:B77) -> 4 | C75: =SUM(C76:C77) -> 4 | D75: =ROUND($C75/$B75*100,1) -> 100 | F75: =SUM(F76:F77) -> 4 | G75: =ROUND($F75/$B75*100,1) -> 100
A76: + Có kiến thức, kỹ năng cơ bản về nghiên cứu khoa học và công nghệ | B76: 2 | C76: 2 | D76: =ROUND($C76/$B76*100,1) -> 100 | E76: Bảng điểm môn học: Nghiên cứu khoa học | F76: 2 | G76: =ROUND($F76/$B76*100,1) -> 100
A77: + Chủ trì hoặc tham gia đề tài nghiên cứu khoa học từ cấp cơ sở trở lên. | B77: 2 | C77: 2 | D77: =ROUND($C77/$B77*100,1) -> 100 | E77: Nghiên cứu khoa học cấp khoa Tham gia viết tham luận hội thảo quốc tế tổ chức tại trường | F77: 2 | G77: =ROUND($F77/$B77*100,1) -> 100
A78: Tổng số điểm đánh giá | B78: =SUM(B$16,B$30,B$66) -> 88 | C78: =SUM(C$16,C$30,C$66) -> 77 | D78: =ROUND($C78/$B78*100,1) -> 87.5 | F78: =SUM(F$16,F$30,F$66) -> 77 | G78: =ROUND($F78/$B78*100,1) -> 87.5
A79: Điểm quy đổi | B79: 100 | C79: =(C$78*$B$79/$B$78) -> 87.5 | D79: =ROUND($C79/$B79*100,1) -> 87.5 | F79: =(F$78*$B$79/$B$78) -> 87.5 | G79: =ROUND($F79/$B79*100,1) -> 87.5
A80: Xếp loại | C80: =IF(AND(D17<50),"Không đạt",IF(AND(D24<50),"Không đạt",IF(AND(D27<50),"Không đạt",IF(AND(D31<50),"Không đạt",IF(AND(D34<50),"Không đạt",IF(AND(D41<50),"Không đạt",IF(AND(D46<50),"Không đạt",IF(AND(D49<50),"Không đạt",IF(AND(D52<50),"Không đạt",IF(AND(D55<50),"Không đạt",IF(AND(D60<50),"Không đạt",IF(AND(D63<50),"Không đạt",IF(AND(D67<50),"Không đạt",IF(AND(D72<50),"Không đạt",IF(AND(D75<50),"Không đạt",IF(AND(C79>=80),"A",IF(AND(C79>=65,C79<79),"B",IF(AND(C79>=50,C78<64),"C","Không đạt")))))))))))))))))) -> A | F80: =IF(AND(G17<50),"Không đạt",IF(AND(G24<50),"Không đạt",IF(AND(G27<50),"Không đạt",IF(AND(G31<50),"Không đạt",IF(AND(G34<50),"Không đạt",IF(AND(G41<50),"Không đạt",IF(AND(G46<50),"Không đạt",IF(AND(G49<50),"Không đạt",IF(AND(G52<50),"Không đạt",IF(AND(G55<50),"Không đạt",IF(AND(G60<50),"Không đạt",IF(AND(G63<50),"Không đạt",IF(AND(G67<50),"Không đạt",IF(AND(G72<50),"Không đạt",IF(AND(G75<50),"Không đạt",IF(AND(F79>=80),"A",IF(AND(F79>=65,F79<79),"B",IF(AND(F79>=50,F78<64),"C","Không đạt")))))))))))))))))) -> A
D81: =C80 -> A
A82: Tp. HCM, ngày 19 tháng 4 năm 2019 | F82: Tp. HCM, ngày 23 tháng 4 năm 2019
A83: Nhà giáo tự đánh giá | F83: Trưởng khoa
A84: (ký và ghi rõ họ, tên) | F84: (ký và ghi rõ họ, tên)
A88: Lữ Xuân Trang | F88: Nguyễn Trọng Nghĩa

Sheet NGUYEN MY TIEN
D2: CỘNG HÒA XÃ HỘI CHỦ NGHĨA VIỆT NAM Độc lập - Tự do - Hạnh phúc
A5: PHIẾU ĐÁNH GIÁ, XẾP LOẠI CHUYÊN MÔN, NGHIỆP VỤ CỦA NHÀ GIÁO Năm học 2018-2019
A7: Họ và tên giảng viên: | C7: Nguyễn Mỹ Tiên
A8: Khoa, tổ bộ môn: Tổ cơ sở ngành- Khoa Kinh tế
A9: Cấp trình độ giảng dạy: Trung cấp và cao đẳng
A10: Nhiệm vụ được phân công giảng dạy (Lý thuyết, thực hành, tích hợp): Lý thuyết, thực hành, tổng hợp
A12: Ghi chú: 1. Nhà giáo chỉ cho điểm vào cột: "Nhà giáo tự cho điểm" và ghi các minh chứng vào cột: Các minh chứng của Nhà giáo. Các ô tô màu Nhà giáo không nhập điểm hoặc không ghi các minh chứng vào các ô đó. 2. Các Trưởng đơn vị cho điểm Nhà giáo thuộc đơn vị quản lý vào các ô màu hồng (sau khi Hội đồng chuyên môn đơn vị tổ chức họp xem xét và chấm điểm).
A14: Các tiêu chí và tiêu chuẩn | B14: Điểm tối đa | C14: Nhà giáo tự đánh giá xếp loại | F14: Khoa đánh giá, xếp loại
C15: Điểm đánh giá đạt được | D15: Tỷ lệ % của điểm đánh giá đạt được so với điểm đánh giá tối đa của mỗi tiêu chuẩn (lấy đến 1 chữ số thập phân, không làm tròn) | E15: Các minh chứng | F15: Điểm đánh giá đạt được | G15: Tỷ lệ % của điểm đánh giá đạt được so với điểm đánh giá tối đa của mỗi tiêu chuẩn(lấy đến 1 chữ số thập phân, không làm tròn) | H15: Các minh chứng
A16: Tiêu chí 1 về Năng lực chuyên môn | B16: =SUM(B$17,B$24,B$24) -> 20 | C16: =SUM(C$17,C$24,C$24) -> 20 | D16: =ROUND($C16/$B16*100,1) -> 100 | F16: =SUM(F$17,F$24,F$24) -> 20 | G16: =ROUND($F16/$B16*100,1) -> 100
A17: - Tiêu chuẩn 1: Trình độ chuyên môn | B17: =SUM(B$18:B$23) -> 12 | C17: =SUM(C$18:C$23) -> 12 | D17: =ROUND($C17/$B17*100,1) -> 100 | F17: =SUM(F$18:F$23) -> 12 | G17: =ROUND($F17/$B17*100,1) -> 100
A18: + Có bằng tốt nghiệp đại học chuyên ngành hoặc đại học sư phạm chuyên ngành trở lên, phù hợp với ngành, nghề giảng dạy và có một trong các chứng chỉ kỹ năng nghề phù hợp với ngành, nghề giảng dạy để dạy thực hành trình độ cao đẳng sau: Chứng chỉ kỹ năng nghề quốc gia Bậc 3 hoặc chứng nhận bậc thợ 5/7, 4/6 trở lên hoặc bằng tốt nghiệp cao đẳng nghề hoặc chứng chỉ kỹ năng thực hành nghề trình độ cao đẳng nghề hoặc tương đương; | B18: 2 | C18: 2 | D18: =ROUND($C18/$B18*100,1) -> 100 | E18: Bằng cấp đã nộp trong hồ sơ lưu | F18: 2 | G18: =ROUND($F18/$B18*100,1) -> 100
A19: + Nắm vững kiến thức ngành, nghề được phân công giảng dạy; | B19: 2 | C19: 2 | D19: =ROUND($C19/$B19*100,1) -> 100 | F19: 2 | G19: =ROUND($F19/$B19*100,1) -> 100
A20: + Có kiến thức về ngành, nghề liên quan; | B20: 2 | C20: 2 | D20: =ROUND($C20/$B20*100,1) -> 100 | F20: 2 | G20: =ROUND($F20/$B20*100,1) -> 100
A21: + Hiểu biết về thực tiễn nghề nghiệp, tiến bộ khoa học kỹ thuật, công nghệ mới và kỹ thuật an toàn, vệ sinh lao động của ngành, nghề được phân công giảng dạy | B21: 2 | C21: 2 | D21: =ROUND($C21/$B21*100,1) -> 100 | F21: 2 | G21: =ROUND($F21/$B21*100,1) -> 100
A22: + Thực hiện thành thạo các kỹ năng của ngành, nghề được phân công giảng dạy | B22: 2 | C22: 2 | D22: =ROUND($C22/$B22*100,1) -> 100 | F22: 2 | G22: =ROUND($F22/$B22*100,1) -> 100
A23: + Tổ chức thành thạo các hoạt động lao động sản xuất, dịch vụ ngành, nghề được phân công giảng dạy | B23: 2 | C23: 2 | D23: =ROUND($C23/$B23*100,1) -> 100 | E23: Kinh nghiệm đi làm thực tiễn | F23: 2 | G23: =ROUND($F23/$B23*100,1) -> 100
A24: - Tiêu chuẩn 2: Trình độ ngoại ngữ | B24: =SUM(B$25:B$26) -> 4 | C24: =SUM(C$25:C$26) -> 4 | D24: =ROUND($C24/$B24*100,1) -> 100 | F24: =SUM(F$25:F$26) -> 4 | G24: =ROUND($F24/$B24*100,1) -> 100
A25: + Đối vối giáo viên, giảng viên không chuyên ngành ngoại ngữ: Có trình độ ngoại ngữ Bậc 2 (A2) theo quy định tại Thông tư số 01/2014/TT-BGDĐT ngày 24/01/2014 của Bộ Giáo dục và Đào tạo ban hành Khung năng lực ngoại ngữ 6 bậc dùng cho Việt Nam hoặc tương đương trở lên. + Đối với giáo viên, giảng viên chuyên ngành ngoại ngữ (giáo viên, giảng viên tổ Anh văn thuộc Khoa KHCB): Có trình độ ngoại ngữ Bậc 5 (C1) theo quy định tại Thông tư số 01/2014/TT-BGDĐT ngày 24/01/2014 của Bộ Giáo dục và Đào tạo ban hành Khung năng lực ngoại ngữ 6 bậc dùng cho Việt Nam hoặc tương đương trở lên. Và trình độ ngoại ngữ thứ hai phải đạt Bậc 2 (A2) theo quy định tại Thông tư số 01/2014/TT-BGDĐT. | B25: 2 | C25: 2 | D25: =ROUND($C25/$B25*100,1) -> 100 | E25: Văn bằng đã nộp trong hồ sơ lưu | F25: 2 | G25: =ROUND($F25/$B25*100,1) -> 100
A26: + Đọc và hiểu tài liệu chuyên ngành phục vụ công tác giảng dạy; mô tả được một số công việc cơ bản của ngành, nghề được phân công giảng dạy. | B26: 2 | C26: 2 | D26: =ROUND($C26/$B26*100,1) -> 100 | E26: Một số môn trong chương trình sử dụng tài liệu tiếng Anh | F26: 2 | G26: =ROUND($F26/$B26*100,1) -> 100
A27: - Tiêu chuẩn 3: Trình độ tin học | B27: =SUM(B$28:B$29) -> 4 | C27: =SUM(C$28:C$29) -> 4 | D27: =ROUND($C27/$B27*100,1) -> 100 | F27: =SUM(F$28:F$29) -> 4 | G27: =ROUND($F27/$B27*100,1) -> 100
A28: + Có trình độ tin học đạt Chuẩn kỹ năng sử dụng công nghệ thông tin cơ bản theo quy định tại Thông tư số 03/2014/TT-BTTTT ngày 11/3/2014 của Bộ Thông tin và Truyền thông quy định Chuẩn kỹ năng sử dụng công nghệ thông tin hoặc tương đương trở lên. | B28: 2 | C28: 2 | D28: =ROUND($C28/$B28*100,1) -> 100 | E28: Chứng chỉ đã nộp trong hồ sơ lưu, IC3 | F28: 2 | G28: =ROUND($F28/$B28*100,1) -> 100
A29: + Sử dụng thành thạo phần mềm dạy học chuyên ngành để thiết kế bài giảng, tài liệu giảng dạy. | B29: 2 | C29: 2 | D29: =ROUND($C29/$B29*100,1) -> 100 | F29: 2 | G29: =ROUND($F29/$B29*100,1) -> 100
A30: Tiêu chí 2 về Năng lực sư phạm | B30: =SUM(B$31,B$34,B$41,B$46,B$49,B$52,B$55,B$60,B$63) -> 52 | C30: =SUM(C$31,C$34,C$41,C$46,C$49,C$52,C$55,C$60,C$63) -> 47 | D30: =ROUND($C30/$B30*100,1) -> 90.4 | F30: =SUM(F$31,F$34,F$41,F$46,F$49,F$52,F$55,F$60,F$63) -> 45 | G30: =ROUND($F30/$B30*100,1) -> 86.5
A31: - Tiêu chuẩn 1 về Trình độ nghiệp vụ sư phạm và thời gian tham gia giảng dạy | B31: =SUM(B$32:B$33) -> 4 | C31: =SUM(C$32:C$33) -> 4 | D31: =ROUND($C31/$B31*100,1) -> 100 | F31: =SUM(F$32:F$33) -> 4 | G31: =ROUND($F31/$B31*100,1) -> 100
